BEGIN:VCALENDAR
VERSION:2.0
PRODID:-//Welia Health - ECPv6.15.20//NONSGML v1.0//EN
CALSCALE:GREGORIAN
METHOD:PUBLISH
X-WR-CALNAME:Welia Health
X-ORIGINAL-URL:https://www.weliahealth.org
X-WR-CALDESC:Events for Welia Health
REFRESH-INTERVAL;VALUE=DURATION:PT1H
X-Robots-Tag:noindex
X-PUBLISHED-TTL:PT1H
BEGIN:VTIMEZONE
TZID:America/Chicago
BEGIN:DAYLIGHT
TZOFFSETFROM:-0600
TZOFFSETTO:-0500
TZNAME:CDT
DTSTART:20220313T080000
END:DAYLIGHT
BEGIN:STANDARD
TZOFFSETFROM:-0500
TZOFFSETTO:-0600
TZNAME:CST
DTSTART:20221106T070000
END:STANDARD
BEGIN:DAYLIGHT
TZOFFSETFROM:-0600
TZOFFSETTO:-0500
TZNAME:CDT
DTSTART:20230312T080000
END:DAYLIGHT
BEGIN:STANDARD
TZOFFSETFROM:-0500
TZOFFSETTO:-0600
TZNAME:CST
DTSTART:20231105T070000
END:STANDARD
BEGIN:DAYLIGHT
TZOFFSETFROM:-0600
TZOFFSETTO:-0500
TZNAME:CDT
DTSTART:20240310T080000
END:DAYLIGHT
BEGIN:STANDARD
TZOFFSETFROM:-0500
TZOFFSETTO:-0600
TZNAME:CST
DTSTART:20241103T070000
END:STANDARD
END:VTIMEZONE
BEGIN:VEVENT
DTSTART;TZID=America/Chicago:20230726T133000
DTEND;TZID=America/Chicago:20230726T143000
DTSTAMP:20260420T140136
CREATED:20230921T162208Z
LAST-MODIFIED:20230921T162213Z
UID:10002418-1690378200-1690381800@www.weliahealth.org
SUMMARY:Diabetes Support Group\, Pine City
DESCRIPTION:The Diabetes Support Group welcomes people with diabetes\, their families and friends.  The group meets the last Wednesday of every month. \n\n\n\nTo learn more\, call our diabetes educators at 320.679.1313.
URL:https://www.weliahealth.org/event/diabetes-support-group-pine-city/2023-07-26/
LOCATION:Pine City Public Library\, 300 5th Sr SE\, Pine City\, MN\, 55063\, United States
CATEGORIES:Diabetes (Pine City),Support Groups
ATTACH;FMTTYPE=image/jpeg:https://www.weliahealth.org/wp-content/uploads/2018/12/Diabetes-SG-430x200.jpg
END:VEVENT
BEGIN:VEVENT
DTSTART;TZID=America/Chicago:20230726T133000
DTEND;TZID=America/Chicago:20230726T143000
DTSTAMP:20260420T140136
CREATED:20230713T145607Z
LAST-MODIFIED:20230921T162002Z
UID:10002416-1690378200-1690381800@www.weliahealth.org
SUMMARY:Diabetes Support Group\, Pine City
DESCRIPTION:The Diabetes Support Group welcomes people with diabetes\, their families and friends.  The group meets the last Wednesday of every month. \n\n\n\nTo learn more\, call our diabetes educators at 320.679.1313.
URL:https://www.weliahealth.org/event/diabetes-support-group-pine-city-5/2023-07-26/
LOCATION:Pine City Public Library\, 300 5th Sr SE\, Pine City\, MN\, 55063\, United States
CATEGORIES:Diabetes (Pine City),Support Groups
ATTACH;FMTTYPE=image/jpeg:https://www.weliahealth.org/wp-content/uploads/2018/12/Diabetes-SG-430x200.jpg
END:VEVENT
BEGIN:VEVENT
DTSTART;TZID=America/Chicago:20230628T133000
DTEND;TZID=America/Chicago:20230628T143000
DTSTAMP:20260420T140136
CREATED:20230522T154104Z
LAST-MODIFIED:20230712T214038Z
UID:10002414-1687959000-1687962600@www.weliahealth.org
SUMMARY:Diabetes Support Group\, Pine City
DESCRIPTION:The Diabetes Support Group welcomes people with diabetes\, their families and friends.  The group meets the last Wednesday of every month at the Pine City Clinic. \n\n\n\nTo learn more\, call our diabetes educators at 320.679.1313.
URL:https://www.weliahealth.org/event/diabetes-support-group-pine-city-3/2023-06-28/
LOCATION:Pine City Public Library\, 300 5th Sr SE\, Pine City\, MN\, 55063\, United States
CATEGORIES:Diabetes (Pine City)
ATTACH;FMTTYPE=image/jpeg:https://www.weliahealth.org/wp-content/uploads/2018/12/Diabetes-SG-430x200.jpg
END:VEVENT
BEGIN:VEVENT
DTSTART;TZID=America/Chicago:20230531T133000
DTEND;TZID=America/Chicago:20230531T143000
DTSTAMP:20260420T140136
CREATED:20230522T154104Z
LAST-MODIFIED:20230712T214038Z
UID:10001843-1685539800-1685543400@www.weliahealth.org
SUMMARY:Diabetes Support Group\, Pine City
DESCRIPTION:The Diabetes Support Group welcomes people with diabetes\, their families and friends.  The group meets the last Wednesday of every month at the Pine City Clinic. \n\n\n\nTo learn more\, call our diabetes educators at 320.679.1313.
URL:https://www.weliahealth.org/event/diabetes-support-group-pine-city-3/2023-05-31/
LOCATION:Pine City Public Library\, 300 5th Sr SE\, Pine City\, MN\, 55063\, United States
CATEGORIES:Diabetes (Pine City)
ATTACH;FMTTYPE=image/jpeg:https://www.weliahealth.org/wp-content/uploads/2018/12/Diabetes-SG-430x200.jpg
END:VEVENT
BEGIN:VEVENT
DTSTART;TZID=America/Chicago:20230426T133000
DTEND;TZID=America/Chicago:20230426T143000
DTSTAMP:20260420T140136
CREATED:20230522T154104Z
LAST-MODIFIED:20230712T214038Z
UID:10001853-1682515800-1682519400@www.weliahealth.org
SUMMARY:Diabetes Support Group\, Pine City
DESCRIPTION:The Diabetes Support Group welcomes people with diabetes\, their families and friends.  The group meets the last Wednesday of every month at the Pine City Clinic. \n\n\n\nTo learn more\, call our diabetes educators at 320.679.1313.
URL:https://www.weliahealth.org/event/diabetes-support-group-pine-city-3/2023-04-26/
LOCATION:Pine City Public Library\, 300 5th Sr SE\, Pine City\, MN\, 55063\, United States
CATEGORIES:Diabetes (Pine City)
ATTACH;FMTTYPE=image/jpeg:https://www.weliahealth.org/wp-content/uploads/2018/12/Diabetes-SG-430x200.jpg
END:VEVENT
BEGIN:VEVENT
DTSTART;TZID=America/Chicago:20230329T133000
DTEND;TZID=America/Chicago:20230329T143000
DTSTAMP:20260420T140136
CREATED:20230522T154104Z
LAST-MODIFIED:20230712T214038Z
UID:10001852-1680096600-1680100200@www.weliahealth.org
SUMMARY:Diabetes Support Group\, Pine City
DESCRIPTION:The Diabetes Support Group welcomes people with diabetes\, their families and friends.  The group meets the last Wednesday of every month at the Pine City Clinic. \n\n\n\nTo learn more\, call our diabetes educators at 320.679.1313.
URL:https://www.weliahealth.org/event/diabetes-support-group-pine-city-3/2023-03-29/
LOCATION:Pine City Public Library\, 300 5th Sr SE\, Pine City\, MN\, 55063\, United States
CATEGORIES:Diabetes (Pine City)
ATTACH;FMTTYPE=image/jpeg:https://www.weliahealth.org/wp-content/uploads/2018/12/Diabetes-SG-430x200.jpg
END:VEVENT
BEGIN:VEVENT
DTSTART;TZID=America/Chicago:20230222T133000
DTEND;TZID=America/Chicago:20230222T143000
DTSTAMP:20260420T140136
CREATED:20230522T154104Z
LAST-MODIFIED:20230712T214038Z
UID:10001851-1677072600-1677076200@www.weliahealth.org
SUMMARY:Diabetes Support Group\, Pine City
DESCRIPTION:The Diabetes Support Group welcomes people with diabetes\, their families and friends.  The group meets the last Wednesday of every month at the Pine City Clinic. \n\n\n\nTo learn more\, call our diabetes educators at 320.679.1313.
URL:https://www.weliahealth.org/event/diabetes-support-group-pine-city-3/2023-02-22/
LOCATION:Pine City Public Library\, 300 5th Sr SE\, Pine City\, MN\, 55063\, United States
CATEGORIES:Diabetes (Pine City)
ATTACH;FMTTYPE=image/jpeg:https://www.weliahealth.org/wp-content/uploads/2018/12/Diabetes-SG-430x200.jpg
END:VEVENT
BEGIN:VEVENT
DTSTART;TZID=America/Chicago:20230125T133000
DTEND;TZID=America/Chicago:20230125T143000
DTSTAMP:20260420T140136
CREATED:20230522T154104Z
LAST-MODIFIED:20230712T214038Z
UID:10001860-1674653400-1674657000@www.weliahealth.org
SUMMARY:Diabetes Support Group\, Pine City
DESCRIPTION:The Diabetes Support Group welcomes people with diabetes\, their families and friends.  The group meets the last Wednesday of every month at the Pine City Clinic. \n\n\n\nTo learn more\, call our diabetes educators at 320.679.1313.
URL:https://www.weliahealth.org/event/diabetes-support-group-pine-city-3/2023-01-25/
LOCATION:Pine City Public Library\, 300 5th Sr SE\, Pine City\, MN\, 55063\, United States
CATEGORIES:Diabetes (Pine City)
ATTACH;FMTTYPE=image/jpeg:https://www.weliahealth.org/wp-content/uploads/2018/12/Diabetes-SG-430x200.jpg
END:VEVENT
END:VCALENDAR