BEGIN:VCALENDAR
VERSION:2.0
PRODID:-//Welia Health - ECPv6.15.20//NONSGML v1.0//EN
CALSCALE:GREGORIAN
METHOD:PUBLISH
X-WR-CALNAME:Welia Health
X-ORIGINAL-URL:https://www.weliahealth.org
X-WR-CALDESC:Events for Welia Health
REFRESH-INTERVAL;VALUE=DURATION:PT1H
X-Robots-Tag:noindex
X-PUBLISHED-TTL:PT1H
BEGIN:VTIMEZONE
TZID:America/Chicago
BEGIN:DAYLIGHT
TZOFFSETFROM:-0600
TZOFFSETTO:-0500
TZNAME:CDT
DTSTART:20220313T080000
END:DAYLIGHT
BEGIN:STANDARD
TZOFFSETFROM:-0500
TZOFFSETTO:-0600
TZNAME:CST
DTSTART:20221106T070000
END:STANDARD
BEGIN:DAYLIGHT
TZOFFSETFROM:-0600
TZOFFSETTO:-0500
TZNAME:CDT
DTSTART:20230312T080000
END:DAYLIGHT
BEGIN:STANDARD
TZOFFSETFROM:-0500
TZOFFSETTO:-0600
TZNAME:CST
DTSTART:20231105T070000
END:STANDARD
BEGIN:DAYLIGHT
TZOFFSETFROM:-0600
TZOFFSETTO:-0500
TZNAME:CDT
DTSTART:20240310T080000
END:DAYLIGHT
BEGIN:STANDARD
TZOFFSETFROM:-0500
TZOFFSETTO:-0600
TZNAME:CST
DTSTART:20241103T070000
END:STANDARD
END:VTIMEZONE
BEGIN:VEVENT
DTSTART;TZID=America/Chicago:20230422T100000
DTEND;TZID=America/Chicago:20230422T140000
DTSTAMP:20260420T225115
CREATED:20230420T172117Z
LAST-MODIFIED:20230420T172118Z
UID:10001694-1682157600-1682172000@www.weliahealth.org
SUMMARY:Drug Take Back Day
DESCRIPTION:Drop off any unused\, unwanted or expired medication.  Accepting: \n\n\n\nPrescription medicationsOver-the-counter (OTC) medicationsPrescription patchesVitaminsPet medications\n\n\n\nNot accepted at this time:  needles\, inhalers\, thermometers\, aerosol cans\, lotions or liquids. \n\n\n\nToo often\, unused prescription drugs find their way into the wrong hands.  This is an opportunity to clean out your medicine cabinet and dispose f them safely\, anonymously and without harming the environment.
URL:https://www.weliahealth.org/event/drug-take-back-day/
LOCATION:Kanabec County Jail\, 100 N Vine St\, Mora\, MN\, 55051\, United States
CATEGORIES:Community Events
END:VEVENT
END:VCALENDAR