BEGIN:VCALENDAR
VERSION:2.0
PRODID:-//Welia Health - ECPv6.15.20//NONSGML v1.0//EN
CALSCALE:GREGORIAN
METHOD:PUBLISH
X-ORIGINAL-URL:https://www.weliahealth.org
X-WR-CALDESC:Events for Welia Health
REFRESH-INTERVAL;VALUE=DURATION:PT1H
X-Robots-Tag:noindex
X-PUBLISHED-TTL:PT1H
BEGIN:VTIMEZONE
TZID:America/Chicago
BEGIN:DAYLIGHT
TZOFFSETFROM:-0600
TZOFFSETTO:-0500
TZNAME:CDT
DTSTART:20220313T080000
END:DAYLIGHT
BEGIN:STANDARD
TZOFFSETFROM:-0500
TZOFFSETTO:-0600
TZNAME:CST
DTSTART:20221106T070000
END:STANDARD
BEGIN:DAYLIGHT
TZOFFSETFROM:-0600
TZOFFSETTO:-0500
TZNAME:CDT
DTSTART:20230312T080000
END:DAYLIGHT
BEGIN:STANDARD
TZOFFSETFROM:-0500
TZOFFSETTO:-0600
TZNAME:CST
DTSTART:20231105T070000
END:STANDARD
BEGIN:DAYLIGHT
TZOFFSETFROM:-0600
TZOFFSETTO:-0500
TZNAME:CDT
DTSTART:20240310T080000
END:DAYLIGHT
BEGIN:STANDARD
TZOFFSETFROM:-0500
TZOFFSETTO:-0600
TZNAME:CST
DTSTART:20241103T070000
END:STANDARD
END:VTIMEZONE
BEGIN:VEVENT
DTSTART;TZID=America/Chicago:20230801T170000
DTEND;TZID=America/Chicago:20230801T190000
DTSTAMP:20260420T225339
CREATED:20230622T164142Z
LAST-MODIFIED:20250703T165351Z
UID:10002046-1690909200-1690916400@www.weliahealth.org
SUMMARY:National Night Out
DESCRIPTION:Each year\, Welia Health teams up with the Kanabec County Sheriff’s Department to celebrate National Night Out (NNO).  NNO creates a community building event to mingle with and increase awareness about local law enforcement\, first responders\, fire and other emergency personnel.   \n\n\n\nStop by and give a high-5 to our EMS staff.   \n\n\n\nPS – We’ll have super-cool light-up balls* to give away and stickers!!  \n\n\n\n*for the first 200 people \n\n\n\nLearn more about NNO here.
URL:https://www.weliahealth.org/event/national-night-out/
LOCATION:Kanabec County Fair Grounds\, South Union St.\, Mora\, Minnesota\, 55051\, United States
CATEGORIES:Community Events
ATTACH;FMTTYPE=image/jpeg:https://www.weliahealth.org/wp-content/uploads/2023/06/NNO_2023.jpg
END:VEVENT
BEGIN:VEVENT
DTSTART;TZID=America/Chicago:20230726T000000
DTEND;TZID=America/Chicago:20230730T235959
DTSTAMP:20260420T225339
CREATED:20230622T163143Z
LAST-MODIFIED:20250703T165214Z
UID:10002045-1690329600-1690761599@www.weliahealth.org
SUMMARY:Kanabec County Fair
DESCRIPTION:Kanabec County Fair welcomes everyone to 5 days full of fun. Enjoy the parade\, animals\, venders\, grandstand events\, family day\, and much more!
URL:https://www.weliahealth.org/event/kanabec-county-fair/
LOCATION:Kanabec County Fair Grounds\, South Union St.\, Mora\, Minnesota\, 55051\, United States
CATEGORIES:Community Events
END:VEVENT
END:VCALENDAR