BEGIN:VCALENDAR
VERSION:2.0
PRODID:-//Welia Health - ECPv6.15.20//NONSGML v1.0//EN
CALSCALE:GREGORIAN
METHOD:PUBLISH
X-WR-CALNAME:Welia Health
X-ORIGINAL-URL:https://www.weliahealth.org
X-WR-CALDESC:Events for Welia Health
REFRESH-INTERVAL;VALUE=DURATION:PT1H
X-Robots-Tag:noindex
X-PUBLISHED-TTL:PT1H
BEGIN:VTIMEZONE
TZID:America/Chicago
BEGIN:DAYLIGHT
TZOFFSETFROM:-0600
TZOFFSETTO:-0500
TZNAME:CDT
DTSTART:20220313T080000
END:DAYLIGHT
BEGIN:STANDARD
TZOFFSETFROM:-0500
TZOFFSETTO:-0600
TZNAME:CST
DTSTART:20221106T070000
END:STANDARD
BEGIN:DAYLIGHT
TZOFFSETFROM:-0600
TZOFFSETTO:-0500
TZNAME:CDT
DTSTART:20230312T080000
END:DAYLIGHT
BEGIN:STANDARD
TZOFFSETFROM:-0500
TZOFFSETTO:-0600
TZNAME:CST
DTSTART:20231105T070000
END:STANDARD
BEGIN:DAYLIGHT
TZOFFSETFROM:-0600
TZOFFSETTO:-0500
TZNAME:CDT
DTSTART:20240310T080000
END:DAYLIGHT
BEGIN:STANDARD
TZOFFSETFROM:-0500
TZOFFSETTO:-0600
TZNAME:CST
DTSTART:20241103T070000
END:STANDARD
END:VTIMEZONE
BEGIN:VEVENT
DTSTART;TZID=America/Chicago:20230805T080000
DTEND;TZID=America/Chicago:20230805T110000
DTSTAMP:20260420T193116
CREATED:20230727T193911Z
LAST-MODIFIED:20250703T165247Z
UID:10002433-1691222400-1691233200@www.weliahealth.org
SUMMARY:19th Annual Pine County Fun Run
DESCRIPTION:Start your morning with a walk or run from the Pine City Beach.  Proceeds from this race are donated to Hinckley-Finlayson and Pine City School organizations.  \n\n\n\nWalk – 1 mile | 5K (3.2 miles) or Run – 1 mile | 5K (3.2 miles) | 10K (6.1 miles) \n\n\n\nAwards given to the top two finishers in each age / event category! \n\n\n\nRegister here:
URL:https://www.weliahealth.org/event/19th-annual-pine-county-fun-run/
LOCATION:Pine City Beach\, 6th Ave SW\, Pine City\, Minnesota\, 55063\, United States
CATEGORIES:Community Events
ATTACH;FMTTYPE=image/png:https://www.weliahealth.org/wp-content/uploads/2023/07/pcfr.png
ORGANIZER;CN="PCFR Race coordinator - Lisa Hodena":MAILTO:lhodena@isd2165.org
END:VEVENT
END:VCALENDAR