BEGIN:VCALENDAR
VERSION:2.0
PRODID:-//Welia Health - ECPv6.15.20//NONSGML v1.0//EN
CALSCALE:GREGORIAN
METHOD:PUBLISH
X-ORIGINAL-URL:https://www.weliahealth.org
X-WR-CALDESC:Events for Welia Health
REFRESH-INTERVAL;VALUE=DURATION:PT1H
X-Robots-Tag:noindex
X-PUBLISHED-TTL:PT1H
BEGIN:VTIMEZONE
TZID:America/Chicago
BEGIN:DAYLIGHT
TZOFFSETFROM:-0600
TZOFFSETTO:-0500
TZNAME:CDT
DTSTART:20250309T080000
END:DAYLIGHT
BEGIN:STANDARD
TZOFFSETFROM:-0500
TZOFFSETTO:-0600
TZNAME:CST
DTSTART:20251102T070000
END:STANDARD
BEGIN:DAYLIGHT
TZOFFSETFROM:-0600
TZOFFSETTO:-0500
TZNAME:CDT
DTSTART:20260308T080000
END:DAYLIGHT
BEGIN:STANDARD
TZOFFSETFROM:-0500
TZOFFSETTO:-0600
TZNAME:CST
DTSTART:20261101T070000
END:STANDARD
BEGIN:DAYLIGHT
TZOFFSETFROM:-0600
TZOFFSETTO:-0500
TZNAME:CDT
DTSTART:20270314T080000
END:DAYLIGHT
BEGIN:STANDARD
TZOFFSETFROM:-0500
TZOFFSETTO:-0600
TZNAME:CST
DTSTART:20271107T070000
END:STANDARD
END:VTIMEZONE
BEGIN:VEVENT
DTSTART;TZID=America/Chicago:20260916T130000
DTEND;TZID=America/Chicago:20260916T140000
DTSTAMP:20260419T071756
CREATED:20260109T183101Z
LAST-MODIFIED:20260310T133039Z
UID:10015150-1789563600-1789567200@www.weliahealth.org
SUMMARY:Caregivers Support Group
DESCRIPTION:Caring for a loved one with a chronic illness can be both meaningful and overwhelming. Welia Health’s Caregivers Support Group offers a welcoming\, confidential space for caregivers of individuals living with dementia\, Alzheimer’s disease\, cancer\, heart disease\, or other chronic health conditions. \nParticipants can share experiences\, learn practical coping strategies\, and connect with others who understand the challenges of caregiving. \nAs a service to our community\, Welia Health support groups are free of charge\, and all caregivers are welcome. \nQuestions or interested in learning more? Call one of the Caregivers Support Groups hosts. \n\nRachel Adams\, LSW\, Welia Health — 320.225.3576\nAngie Detert\, Caregiver Consultant\, Family Pathways — 320.364.3526\n\nThe Caregiver’s Support Group meets on the third Wednesday of each month from 1:00–2:00 PM at Welia Health’s Mora campus.
URL:https://www.weliahealth.org/event/2026-caregivers-support-group/2026-09-16/
LOCATION:Welia Health–Mora: Conference Room 2\, 301 MN-65\, Mora\, MN\, 55051\, United States
CATEGORIES:Caregivers,Support Groups
ATTACH;FMTTYPE=image/jpeg:https://www.weliahealth.org/wp-content/uploads/2018/12/CaregiversSG-430x200.jpg
END:VEVENT
BEGIN:VEVENT
DTSTART;TZID=America/Chicago:20260918T083000
DTEND;TZID=America/Chicago:20260918T140000
DTSTAMP:20260419T071756
CREATED:20260204T002114Z
LAST-MODIFIED:20260310T133038Z
UID:10015249-1789720200-1789740000@www.weliahealth.org
SUMMARY:First Aid CPR AED Course
DESCRIPTION:Presented by the American Heart Association\nThis course is designed for employee training for companies\, corporations\, businesses\, and other organizations. \nYou will learn about:\n\nAdult\, child\, and infant choking response\nCPR with and without a mask\nUse of an automated external defibrillator (AED)\nAdult First Aid principles\, including:\n\nGeneral first aid fundamentals\nMedical emergencies\nInjury emergencies\nEnvironmental emergencies\n\n\n\nCertification\nUpon successful completion\, participants will receive a Heartsaver® First Aid CPR AED Course Completion Card from the American Heart Association\, valid for two years. \nCost\n$85 (payable the day of class by cash\, personal check\, or business check) \nRegistration\nRegistration is required. Please complete the form below. \n\n\n\n                \n                        \n                            First Aid\, CPR and AED Course — September 18\, 2026\n                             \n                        \n                        Name(Required)\n                            \n                            \n                                                    \n                                                    First\n                                                \n                            \n                            \n                                                    \n                                                    Last\n                                                \n                            \n                        Email(Required)\n                            \n                        CAPTCHA\n          \n            \n            \n            \n            \n            \n            \n            \n            \n            \n            \n            \n            \n            \n        \n                        \n                        \n \n\nQuestions?\nFor more information\, contact Welia Health’s Health and Wellness Coordinator at 320.225.3586 or WellnessCenter@WeliaHealth.org.
URL:https://www.weliahealth.org/event/first-aid-cpr-aed-sep2026/
LOCATION:Welia Center: Fitness & Community Room\, 200 N 9th St\, Mora\, MN\, 55051-1147\, United States
CATEGORIES:Classes,First Aid CPR AED Course
ATTACH;FMTTYPE=image/jpeg:https://www.weliahealth.org/wp-content/uploads/2026/02/FirstAid-430x200-1.jpg
ORGANIZER;CN="Health and Wellness Coordinator":MAILTO:wellnesscenter@WeliaHealth.org
END:VEVENT
END:VCALENDAR