BEGIN:VCALENDAR
VERSION:2.0
PRODID:-//Welia Health - ECPv6.15.20//NONSGML v1.0//EN
CALSCALE:GREGORIAN
METHOD:PUBLISH
X-ORIGINAL-URL:https://www.weliahealth.org
X-WR-CALDESC:Events for Welia Health
REFRESH-INTERVAL;VALUE=DURATION:PT1H
X-Robots-Tag:noindex
X-PUBLISHED-TTL:PT1H
BEGIN:VTIMEZONE
TZID:America/Chicago
BEGIN:DAYLIGHT
TZOFFSETFROM:-0600
TZOFFSETTO:-0500
TZNAME:CDT
DTSTART:20250309T080000
END:DAYLIGHT
BEGIN:STANDARD
TZOFFSETFROM:-0500
TZOFFSETTO:-0600
TZNAME:CST
DTSTART:20251102T070000
END:STANDARD
BEGIN:DAYLIGHT
TZOFFSETFROM:-0600
TZOFFSETTO:-0500
TZNAME:CDT
DTSTART:20260308T080000
END:DAYLIGHT
BEGIN:STANDARD
TZOFFSETFROM:-0500
TZOFFSETTO:-0600
TZNAME:CST
DTSTART:20261101T070000
END:STANDARD
BEGIN:DAYLIGHT
TZOFFSETFROM:-0600
TZOFFSETTO:-0500
TZNAME:CDT
DTSTART:20270314T080000
END:DAYLIGHT
BEGIN:STANDARD
TZOFFSETFROM:-0500
TZOFFSETTO:-0600
TZNAME:CST
DTSTART:20271107T070000
END:STANDARD
END:VTIMEZONE
BEGIN:VEVENT
DTSTART;TZID=America/Chicago:20260903T133000
DTEND;TZID=America/Chicago:20260903T143000
DTSTAMP:20260419T071757
CREATED:20260109T192807Z
LAST-MODIFIED:20260310T133039Z
UID:10015161-1788442200-1788445800@www.weliahealth.org
SUMMARY:Diabetes Support Group – Mora
DESCRIPTION:Living with diabetes can feel overwhelming — but you don’t have to manage it alone. Welia Health’s Diabetes Support Group offers a supportive\, welcoming space for individuals with diabetes\, as well as family members and friends\, to connect\, learn\, and share experiences. \n\n\n \nLed by knowledgeable healthcare professionals\, group discussions focus on practical\, real-life topics to help you feel more confident and supported in your day-to-day diabetes care. \n\n\n \nWhether you’re newly diagnosed or have been managing diabetes for years\, you’re welcome here. \nThis group meets in Mora and Pine City. \n\nAs a service to our community\, Welia Health support groups are free and open to all. \n\n\n\nQuestions or interested in learning more? Our diabetes educators are happy to help. Call 320.679.1313.
URL:https://www.weliahealth.org/event/2026-diabetes-support-group-mora/2026-09-03/
LOCATION:Welia Health–Mora: Conference Room 2\, 301 MN-65\, Mora\, MN\, 55051\, United States
CATEGORIES:Diabetes (Mora),Support Groups
ATTACH;FMTTYPE=image/jpeg:https://www.weliahealth.org/wp-content/uploads/2018/12/Diabetes-SG-430x200.jpg
END:VEVENT
BEGIN:VEVENT
DTSTART;TZID=America/Chicago:20260904T100000
DTEND;TZID=America/Chicago:20260904T160000
DTSTAMP:20260419T071757
CREATED:20260109T172434Z
LAST-MODIFIED:20260310T133039Z
UID:10015141-1788516000-1788537600@www.weliahealth.org
SUMMARY:Blood Drive
DESCRIPTION:Every two seconds\, someone in the U.S. needs blood. Donations are essential for surgeries\, cancer treatment\, chronic illnesses\, and traumatic injuries. Whether patients need whole blood\, red cells\, platelets\, or plasma\, lifesaving care begins with one generous donor. \nWelia Health has partnered with the American Red Cross to host a blood drive and invites you to participate. \nTo schedule your donation\, visit the American Red Cross website and select a time that works for you\, or call 1-800-RED CROSS (1-800-733-2767). \nTo learn more\, check out this Welia Health Connections post: Be a Hero: The Impact of Blood Donation. \nBe a hero. Donate blood.
URL:https://www.weliahealth.org/event/2026-blood-drives/2026-09-04/
LOCATION:Welia Health–Mora: Conference Rooms\, 301 MN-65\, Mora\, MN\, 55051\, United States
CATEGORIES:Blood Drive,Health Events
ATTACH;FMTTYPE=image/jpeg:https://www.weliahealth.org/wp-content/uploads/2019/12/Blood-Drive-430x200.jpg
END:VEVENT
END:VCALENDAR