BEGIN:VCALENDAR
VERSION:2.0
PRODID:-//Welia Health - ECPv6.15.20//NONSGML v1.0//EN
CALSCALE:GREGORIAN
METHOD:PUBLISH
X-WR-CALNAME:Welia Health
X-ORIGINAL-URL:https://www.weliahealth.org
X-WR-CALDESC:Events for Welia Health
REFRESH-INTERVAL;VALUE=DURATION:PT1H
X-Robots-Tag:noindex
X-PUBLISHED-TTL:PT1H
BEGIN:VTIMEZONE
TZID:America/Chicago
BEGIN:DAYLIGHT
TZOFFSETFROM:-0600
TZOFFSETTO:-0500
TZNAME:CDT
DTSTART:20250309T080000
END:DAYLIGHT
BEGIN:STANDARD
TZOFFSETFROM:-0500
TZOFFSETTO:-0600
TZNAME:CST
DTSTART:20251102T070000
END:STANDARD
BEGIN:DAYLIGHT
TZOFFSETFROM:-0600
TZOFFSETTO:-0500
TZNAME:CDT
DTSTART:20260308T080000
END:DAYLIGHT
BEGIN:STANDARD
TZOFFSETFROM:-0500
TZOFFSETTO:-0600
TZNAME:CST
DTSTART:20261101T070000
END:STANDARD
BEGIN:DAYLIGHT
TZOFFSETFROM:-0600
TZOFFSETTO:-0500
TZNAME:CDT
DTSTART:20270314T080000
END:DAYLIGHT
BEGIN:STANDARD
TZOFFSETFROM:-0500
TZOFFSETTO:-0600
TZNAME:CST
DTSTART:20271107T070000
END:STANDARD
END:VTIMEZONE
BEGIN:VEVENT
DTSTART;TZID=America/Chicago:20260715T130000
DTEND;TZID=America/Chicago:20260715T140000
DTSTAMP:20260420T030030
CREATED:20260109T183101Z
LAST-MODIFIED:20260310T133039Z
UID:10015148-1784120400-1784124000@www.weliahealth.org
SUMMARY:Caregivers Support Group
DESCRIPTION:Caring for a loved one with a chronic illness can be both meaningful and overwhelming. Welia Health’s Caregivers Support Group offers a welcoming\, confidential space for caregivers of individuals living with dementia\, Alzheimer’s disease\, cancer\, heart disease\, or other chronic health conditions. \nParticipants can share experiences\, learn practical coping strategies\, and connect with others who understand the challenges of caregiving. \nAs a service to our community\, Welia Health support groups are free of charge\, and all caregivers are welcome. \nQuestions or interested in learning more? Call one of the Caregivers Support Groups hosts. \n\nRachel Adams\, LSW\, Welia Health — 320.225.3576\nAngie Detert\, Caregiver Consultant\, Family Pathways — 320.364.3526\n\nThe Caregiver’s Support Group meets on the third Wednesday of each month from 1:00–2:00 PM at Welia Health’s Mora campus.
URL:https://www.weliahealth.org/event/2026-caregivers-support-group/2026-07-15/
LOCATION:Welia Health–Mora: Conference Room 2\, 301 MN-65\, Mora\, MN\, 55051\, United States
CATEGORIES:Caregivers,Support Groups
ATTACH;FMTTYPE=image/jpeg:https://www.weliahealth.org/wp-content/uploads/2018/12/CaregiversSG-430x200.jpg
END:VEVENT
BEGIN:VEVENT
DTSTART;TZID=America/Chicago:20260716T150000
DTEND;TZID=America/Chicago:20260716T160000
DTSTAMP:20260420T030030
CREATED:20260109T205320Z
LAST-MODIFIED:20260310T133040Z
UID:10015242-1784214000-1784217600@www.weliahealth.org
SUMMARY:Parkinson’s Support Group
DESCRIPTION:Navigating the complexities of Parkinson’s disease can feel overwhelming—for individuals and for those who care about them. The Parkinson’s Support Group offers a welcoming\, supportive space for people living with Parkinson’s and their loved ones to connect\, learn\, and find encouragement. \nLed by a team of certified physical\, occupational\, and speech therapists trained in Parkinson’s-specific therapies (LSVT BIG® and LSVT LOUD®)\, the group provides trusted education and practical strategies to support daily life. \nParticipants can explore treatment approaches\, learn exercise and communication techniques\, ask questions\, and connect with others who truly understand the journey. \nAs a service to our community\, Welia Health support groups are free and open to all. \nHave questions or want to learn more?\nCall Welia Health Rehabilitation Services at 320.225.3356. \nThe Parkinson’s Support Group meets quarterly on the third Thursday of January\, April\, July\, and October from 3:00–4:00 PM at Welia Health’s Mora campus.
URL:https://www.weliahealth.org/event/2026-parkinsons-support-group/2026-07-16/
LOCATION:Welia Health–Mora: Conference Rooms\, 301 MN-65\, Mora\, MN\, 55051\, United States
CATEGORIES:Parkinson's,Support Groups
ATTACH;FMTTYPE=image/jpeg:https://www.weliahealth.org/wp-content/uploads/2018/12/Parkinsons-SG-430x200.jpg
END:VEVENT
END:VCALENDAR