BEGIN:VCALENDAR
VERSION:2.0
PRODID:-//Welia Health - ECPv6.15.20//NONSGML v1.0//EN
CALSCALE:GREGORIAN
METHOD:PUBLISH
X-WR-CALNAME:Welia Health
X-ORIGINAL-URL:https://www.weliahealth.org
X-WR-CALDESC:Events for Welia Health
REFRESH-INTERVAL;VALUE=DURATION:PT1H
X-Robots-Tag:noindex
X-PUBLISHED-TTL:PT1H
BEGIN:VTIMEZONE
TZID:America/Chicago
BEGIN:DAYLIGHT
TZOFFSETFROM:-0600
TZOFFSETTO:-0500
TZNAME:CDT
DTSTART:20250309T080000
END:DAYLIGHT
BEGIN:STANDARD
TZOFFSETFROM:-0500
TZOFFSETTO:-0600
TZNAME:CST
DTSTART:20251102T070000
END:STANDARD
BEGIN:DAYLIGHT
TZOFFSETFROM:-0600
TZOFFSETTO:-0500
TZNAME:CDT
DTSTART:20260308T080000
END:DAYLIGHT
BEGIN:STANDARD
TZOFFSETFROM:-0500
TZOFFSETTO:-0600
TZNAME:CST
DTSTART:20261101T070000
END:STANDARD
BEGIN:DAYLIGHT
TZOFFSETFROM:-0600
TZOFFSETTO:-0500
TZNAME:CDT
DTSTART:20270314T080000
END:DAYLIGHT
BEGIN:STANDARD
TZOFFSETFROM:-0500
TZOFFSETTO:-0600
TZNAME:CST
DTSTART:20271107T070000
END:STANDARD
END:VTIMEZONE
BEGIN:VEVENT
DTSTART;TZID=America/Chicago:20260624T133000
DTEND;TZID=America/Chicago:20260624T143000
DTSTAMP:20260419T233344
CREATED:20260109T193732Z
LAST-MODIFIED:20260310T133039Z
UID:10015204-1782307800-1782311400@www.weliahealth.org
SUMMARY:Diabetes Support Group – Pine City
DESCRIPTION:Living with diabetes can feel overwhelming — but you don’t have to manage it alone. Welia Health’s Diabetes Support Group offers a supportive\, welcoming space for individuals with diabetes\, as well as family members and friends\, to connect\, learn\, and share experiences. \n\n\n \nLed by knowledgeable healthcare professionals\, group discussions focus on practical\, real-life topics to help you feel more confident and supported in your day-to-day diabetes care. \n\n\n \nWhether you’re newly diagnosed or have been managing diabetes for years\, you’re welcome here. \nThis group meets in Mora and Pine City. \n \nAs a service to our community\, Welia Health support groups are free and open to all. \n\n\n \nQuestions or interested in learning more? Our diabetes educators are happy to help. Call 320.679.1313.
URL:https://www.weliahealth.org/event/2026-diabetes-support-group-pine-city/2026-06-24/
LOCATION:Timber Pines Assisted Living\, 650 Northridge Dr NW\, Pine City\, MN\, 55063\, United States
CATEGORIES:Diabetes (Pine City),Support Groups
ATTACH;FMTTYPE=image/jpeg:https://www.weliahealth.org/wp-content/uploads/2018/12/Diabetes-SG-430x200.jpg
END:VEVENT
BEGIN:VEVENT
DTSTART;TZID=America/Chicago:20260625T140000
DTEND;TZID=America/Chicago:20260625T153000
DTSTAMP:20260419T233344
CREATED:20260109T202357Z
LAST-MODIFIED:20260310T133040Z
UID:10015227-1782396000-1782401400@www.weliahealth.org
SUMMARY:Low Vision Support Group
DESCRIPTION:Adjusting to vision loss can feel overwhelming—but you don’t have to navigate it alone. The Low Vision Support Group offers a welcoming\, supportive environment for individuals experiencing vision loss\, as well as their family members and caregivers. This group provides a space to connect with others who understand\, share experiences and coping strategies\, and learn about helpful resources and tools that support independence in daily life. \nWelia Health is proud to support this group\, which is sponsored and led by State Services for the Blind\, part of the Minnesota Department of Employment and Economic Development. \nThe Low Vision Support Group is free and open to all. \nHave questions\, need more information\, or wondering about weather-related cancellations?\nCall Stacy Shamblott\, CTRS\, Aging Eyes Program Coordinator\, at 651.249.5118. \nThe Low Vision Support Group meets on the fourth Thursday of each month from 2:00–3:30 PM at the Mora United Methodist Church.\nPlease note: In November and December\, meetings will be held on the third Thursday to avoid holiday conflicts.
URL:https://www.weliahealth.org/event/2026-low-vision-support-group/2026-06-25/
LOCATION:Mora United Methodist Church\, 500 Clark Street\, Mora\, 55051\, United States
CATEGORIES:Low Vision,Support Groups
ATTACH;FMTTYPE=image/png:https://www.weliahealth.org/wp-content/uploads/2025/07/Low-Vision-SG-430x200-1-e1767990462589.png
END:VEVENT
END:VCALENDAR