BEGIN:VCALENDAR
VERSION:2.0
PRODID:-//Welia Health - ECPv6.15.20//NONSGML v1.0//EN
CALSCALE:GREGORIAN
METHOD:PUBLISH
X-WR-CALNAME:Welia Health
X-ORIGINAL-URL:https://www.weliahealth.org
X-WR-CALDESC:Events for Welia Health
REFRESH-INTERVAL;VALUE=DURATION:PT1H
X-Robots-Tag:noindex
X-PUBLISHED-TTL:PT1H
BEGIN:VTIMEZONE
TZID:America/Chicago
BEGIN:DAYLIGHT
TZOFFSETFROM:-0600
TZOFFSETTO:-0500
TZNAME:CDT
DTSTART:20250309T080000
END:DAYLIGHT
BEGIN:STANDARD
TZOFFSETFROM:-0500
TZOFFSETTO:-0600
TZNAME:CST
DTSTART:20251102T070000
END:STANDARD
BEGIN:DAYLIGHT
TZOFFSETFROM:-0600
TZOFFSETTO:-0500
TZNAME:CDT
DTSTART:20260308T080000
END:DAYLIGHT
BEGIN:STANDARD
TZOFFSETFROM:-0500
TZOFFSETTO:-0600
TZNAME:CST
DTSTART:20261101T070000
END:STANDARD
BEGIN:DAYLIGHT
TZOFFSETFROM:-0600
TZOFFSETTO:-0500
TZNAME:CDT
DTSTART:20270314T080000
END:DAYLIGHT
BEGIN:STANDARD
TZOFFSETFROM:-0500
TZOFFSETTO:-0600
TZNAME:CST
DTSTART:20271107T070000
END:STANDARD
END:VTIMEZONE
BEGIN:VEVENT
DTSTART;TZID=America/Chicago:20260526T140000
DTEND;TZID=America/Chicago:20260526T150000
DTSTAMP:20260419T071606
CREATED:20260109T200527Z
LAST-MODIFIED:20260310T133039Z
UID:10015215-1779804000-1779807600@www.weliahealth.org
SUMMARY:Heart Disease Support Group
DESCRIPTION:Recover and move forward with confidence after a cardiac event or heart disease diagnosis. The Heart to Heart Support Group is a supportive group led by experienced cardiac rehabilitation professionals that offers education\, encouragement\, and connection with others on a similar journey. Topics include heart-healthy lifestyle habits\, stress management\, and current treatment options. \nAs a service to our community\, Welia Health support groups are free and open to all. \nHave questions or want to learn more?\nCall Welia Health Cardiac Rehabilitation at 320.225.3364. \nThe Heart to Heart Support Group meets on the fourth Tuesday of each month\, September–May\, from 2:00–3:00 PM at Welia Center’s Fitness & Community Room.
URL:https://www.weliahealth.org/event/2026-heart-disease-support-group/2026-05-26/
LOCATION:Welia Center: Fitness & Community Room\, 200 N 9th St\, Mora\, MN\, 55051-1147\, United States
CATEGORIES:Heart Disease,Support Groups
ATTACH;FMTTYPE=image/jpeg:https://www.weliahealth.org/wp-content/uploads/2018/12/Heart-SG-430x200.jpg
END:VEVENT
BEGIN:VEVENT
DTSTART;TZID=America/Chicago:20260526T170000
DTEND;TZID=America/Chicago:20260526T190000
DTSTAMP:20260419T071606
CREATED:20251219T030450Z
LAST-MODIFIED:20260310T133039Z
UID:10015129-1779814800-1779822000@www.weliahealth.org
SUMMARY:Prenatal Education
DESCRIPTION:Congratulations!\n\n\n\nPregnancy—what an exciting and emotional time.\n\n\n\nWelia Health’s expert-led classes cover fetal development\, labor and delivery\, hospitalization and newborn care. You’ll soak up essential knowledge in a supportive environment. Prepare for parenthood with practical advice and skills\, leaving no question unanswered. \n\n\n\nLearn more about the topics to be covered during this four-part series. \n\n\n\nClasses begin on the first Tuesday of the month and meet weekly for four weeks from 5:00 pm to 7:00 pm. \n\n\n\n2026 Prenatal Education Dates \n\n\n\n\nFebruary 3\, 10\, 17 and 24\n\n\n\nMay 5\, 12\, 19\, and 26 \n\n\n\nAugust 4\, 11\, 18 and 25\n\n\n\nNovember 3\, 10\, 17 and 24\n\n\n\n\nFor more information\, please contact Welia Health at 320.225.3528. \n\n\n\nRegistration for this free series is required. \n\n\n\n  \n\n\n\n\n                \n                        \n                            Prenatal Classes 2026\n                             \n                        \n                        Name(Required)\n                            \n                            \n                                                    \n                                                    First\n                                                \n                            \n                            \n                                                    \n                                                    Last\n                                                \n                            \n                        Email(Required)\n                            \n                        Class dates(Required)\n			\n					\n					February 2026\n			\n			\n					\n					May 2026\n			\n			\n					\n					August 2026\n			\n			\n					\n					November 2026\n			CAPTCHA\n          \n            \n            \n            \n            \n            \n            \n            \n            \n            \n            \n            \n            \n            \n        \n                        \n                        \n\n\n\n\n\n\n\n\n\n\n\n\n\n\n\n\n 
URL:https://www.weliahealth.org/event/prenatal-education-2/2026-05-26/
LOCATION:Welia Health–Mora: Conference Rooms\, 301 MN-65\, Mora\, MN\, 55051\, United States
CATEGORIES:Classes,Prenatal
ATTACH;FMTTYPE=image/jpeg:https://www.weliahealth.org/wp-content/uploads/2018/12/Prenatal-Class-430x200.jpg
END:VEVENT
BEGIN:VEVENT
DTSTART;TZID=America/Chicago:20260527T133000
DTEND;TZID=America/Chicago:20260527T143000
DTSTAMP:20260419T071606
CREATED:20260109T193732Z
LAST-MODIFIED:20260310T133039Z
UID:10015203-1779888600-1779892200@www.weliahealth.org
SUMMARY:Diabetes Support Group – Pine City
DESCRIPTION:Living with diabetes can feel overwhelming — but you don’t have to manage it alone. Welia Health’s Diabetes Support Group offers a supportive\, welcoming space for individuals with diabetes\, as well as family members and friends\, to connect\, learn\, and share experiences. \n\n\n \nLed by knowledgeable healthcare professionals\, group discussions focus on practical\, real-life topics to help you feel more confident and supported in your day-to-day diabetes care. \n\n\n \nWhether you’re newly diagnosed or have been managing diabetes for years\, you’re welcome here. \nThis group meets in Mora and Pine City. \n \nAs a service to our community\, Welia Health support groups are free and open to all. \n\n\n \nQuestions or interested in learning more? Our diabetes educators are happy to help. Call 320.679.1313.
URL:https://www.weliahealth.org/event/2026-diabetes-support-group-pine-city/2026-05-27/
LOCATION:Timber Pines Assisted Living\, 650 Northridge Dr NW\, Pine City\, MN\, 55063\, United States
CATEGORIES:Diabetes (Pine City),Support Groups
ATTACH;FMTTYPE=image/jpeg:https://www.weliahealth.org/wp-content/uploads/2018/12/Diabetes-SG-430x200.jpg
END:VEVENT
BEGIN:VEVENT
DTSTART;TZID=America/Chicago:20260528T140000
DTEND;TZID=America/Chicago:20260528T153000
DTSTAMP:20260419T071606
CREATED:20260109T202357Z
LAST-MODIFIED:20260310T133040Z
UID:10015226-1779976800-1779982200@www.weliahealth.org
SUMMARY:Low Vision Support Group
DESCRIPTION:Adjusting to vision loss can feel overwhelming—but you don’t have to navigate it alone. The Low Vision Support Group offers a welcoming\, supportive environment for individuals experiencing vision loss\, as well as their family members and caregivers. This group provides a space to connect with others who understand\, share experiences and coping strategies\, and learn about helpful resources and tools that support independence in daily life. \nWelia Health is proud to support this group\, which is sponsored and led by State Services for the Blind\, part of the Minnesota Department of Employment and Economic Development. \nThe Low Vision Support Group is free and open to all. \nHave questions\, need more information\, or wondering about weather-related cancellations?\nCall Stacy Shamblott\, CTRS\, Aging Eyes Program Coordinator\, at 651.249.5118. \nThe Low Vision Support Group meets on the fourth Thursday of each month from 2:00–3:30 PM at the Mora United Methodist Church.\nPlease note: In November and December\, meetings will be held on the third Thursday to avoid holiday conflicts.
URL:https://www.weliahealth.org/event/2026-low-vision-support-group/2026-05-28/
LOCATION:Mora United Methodist Church\, 500 Clark Street\, Mora\, 55051\, United States
CATEGORIES:Low Vision,Support Groups
ATTACH;FMTTYPE=image/png:https://www.weliahealth.org/wp-content/uploads/2025/07/Low-Vision-SG-430x200-1-e1767990462589.png
END:VEVENT
END:VCALENDAR