BEGIN:VCALENDAR
VERSION:2.0
PRODID:-//Welia Health - ECPv6.15.20//NONSGML v1.0//EN
CALSCALE:GREGORIAN
METHOD:PUBLISH
X-ORIGINAL-URL:https://www.weliahealth.org
X-WR-CALDESC:Events for Welia Health
REFRESH-INTERVAL;VALUE=DURATION:PT1H
X-Robots-Tag:noindex
X-PUBLISHED-TTL:PT1H
BEGIN:VTIMEZONE
TZID:America/Chicago
BEGIN:DAYLIGHT
TZOFFSETFROM:-0600
TZOFFSETTO:-0500
TZNAME:CDT
DTSTART:20240310T080000
END:DAYLIGHT
BEGIN:STANDARD
TZOFFSETFROM:-0500
TZOFFSETTO:-0600
TZNAME:CST
DTSTART:20241103T070000
END:STANDARD
BEGIN:DAYLIGHT
TZOFFSETFROM:-0600
TZOFFSETTO:-0500
TZNAME:CDT
DTSTART:20250309T080000
END:DAYLIGHT
BEGIN:STANDARD
TZOFFSETFROM:-0500
TZOFFSETTO:-0600
TZNAME:CST
DTSTART:20251102T070000
END:STANDARD
BEGIN:DAYLIGHT
TZOFFSETFROM:-0600
TZOFFSETTO:-0500
TZNAME:CDT
DTSTART:20260308T080000
END:DAYLIGHT
BEGIN:STANDARD
TZOFFSETFROM:-0500
TZOFFSETTO:-0600
TZNAME:CST
DTSTART:20261101T070000
END:STANDARD
END:VTIMEZONE
BEGIN:VEVENT
DTSTART;TZID=America/Chicago:20250428T090000
DTEND;TZID=America/Chicago:20250428T163000
DTSTAMP:20260419T203809
CREATED:20250305T210852Z
LAST-MODIFIED:20250305T215911Z
UID:10014985-1745830800-1745857800@www.weliahealth.org
SUMMARY:Welia Center Fitness room Open Studio
DESCRIPTION:Welia Center Open Studio. This time is available for members to do a class of their choice or a workout on their own. First come first serve basis. Hundreds of on-demand classes available! The space is equipped with light weights\, yoga equipment\, kettlebells\, spin bikes\, and pickleball equipment
URL:https://www.weliahealth.org/event/welia-center-fitness-room-open-studio-28/2025-04-28/
LOCATION:Welia Center: Fitness & Community Room\, 200 N 9th St\, Mora\, MN\, 55051-1147\, United States
CATEGORIES:Caravan
END:VEVENT
BEGIN:VEVENT
DTSTART;TZID=America/Chicago:20250429T090000
DTEND;TZID=America/Chicago:20250429T110000
DTSTAMP:20260419T203809
CREATED:20250303T164410Z
LAST-MODIFIED:20250303T195644Z
UID:10014965-1745917200-1745924400@www.weliahealth.org
SUMMARY:Welia Center Fitness Room Open Studio
DESCRIPTION:Welia Center Open Studio. This time is available for members to do a class of their choice or a workout on their own. First come first serve basis. Hundreds of on-demand classes available! The space is equipped with light weights\, yoga equipment\, kettlebells\, spin bikes\, and pickleball equipment.
URL:https://www.weliahealth.org/event/welia-center-fitness-room-open-studio-29/2025-04-29/
LOCATION:Welia Center\, 200 N 9th St\, Mora\, MN\, 55051-1147\, United States
CATEGORIES:Caravan
END:VEVENT
BEGIN:VEVENT
DTSTART;TZID=America/Chicago:20250430T090000
DTEND;TZID=America/Chicago:20250430T163000
DTSTAMP:20260419T203809
CREATED:20250305T210852Z
LAST-MODIFIED:20250305T215911Z
UID:10014979-1746003600-1746030600@www.weliahealth.org
SUMMARY:Welia Center Fitness room Open Studio
DESCRIPTION:Welia Center Open Studio. This time is available for members to do a class of their choice or a workout on their own. First come first serve basis. Hundreds of on-demand classes available! The space is equipped with light weights\, yoga equipment\, kettlebells\, spin bikes\, and pickleball equipment
URL:https://www.weliahealth.org/event/welia-center-fitness-room-open-studio-28/2025-04-30/
LOCATION:Welia Center: Fitness & Community Room\, 200 N 9th St\, Mora\, MN\, 55051-1147\, United States
CATEGORIES:Caravan
END:VEVENT
BEGIN:VEVENT
DTSTART;TZID=America/Chicago:20250430T133000
DTEND;TZID=America/Chicago:20250430T143000
DTSTAMP:20260419T203809
CREATED:20241231T145200Z
LAST-MODIFIED:20241231T145206Z
UID:10014880-1746019800-1746023400@www.weliahealth.org
SUMMARY:Diabetes Support Group - Pine City
DESCRIPTION:Living with diabetes can be overwhelming. Join our supportive community of individuals with diabetes\, their families\, and friends. Our group discussions are led by knowledgeable healthcare professionals and focus on topics such as nutrition\, exercise\, medication management\, and emotional well-being. \n\n\n\nTo learn more\, call our diabetes educators at 320.679.1313. The group meets the last Wednesday of each month.
URL:https://www.weliahealth.org/event/diabetes-support-group-pine-city-9/
LOCATION:Pine City Public Library\, 300 5th Sr SE\, Pine City\, MN\, 55063\, United States
CATEGORIES:Diabetes (Pine City),Support Groups
ATTACH;FMTTYPE=image/jpeg:https://www.weliahealth.org/wp-content/uploads/2018/12/Diabetes-SG-430x200.jpg
END:VEVENT
BEGIN:VEVENT
DTSTART;VALUE=DATE:20250501
DTEND;VALUE=DATE:20250502
DTSTAMP:20260419T203809
CREATED:20250422T213517Z
LAST-MODIFIED:20250422T213749Z
UID:10014989-1746057600-1746143999@www.weliahealth.org
SUMMARY:Mental Health Month challenge kicks off!
DESCRIPTION:Prioritize your mental wellness this May with Welia Center’s 31-Day challenge!\nWelia Center members\, are you ready to focus on your mental health during Mental Health Awareness Month? Join our engaging 31-day Mental Wellness Challenge and take meaningful steps towards overall well-being. \nEach day features a simple yet impactful activity designed to nurture different aspects of your mental health journey\, including: \n\nNourishing your body: Focus on physical health and nutrition.\nStrengthening connections: Prioritize social health.\nSetting boundaries: Learn to protect your energy.\nCultivating positivity: Develop a growth mindset.\n\nReady to take the challenge? \nDownload your May Mental Health Challenge Calendar now! Complete each daily task and mark it off. Return your completed calendar to the Welia Center between June 1st and June 4th to claim your well-deserved prize! \nChallenge at a glance \n\nStarts: May 1st\nEnds: May 31st\nCalendar Return: June 1st – June 4th
URL:https://www.weliahealth.org/event/mental-health-month-challenge-2025/
LOCATION:Welia Center\, 200 N 9th St\, Mora\, MN\, 55051-1147\, United States
CATEGORIES:Community Events
ATTACH;FMTTYPE=image/png:https://www.weliahealth.org/wp-content/uploads/2025/04/Mental-Health-Month-430x200-1.png
END:VEVENT
BEGIN:VEVENT
DTSTART;TZID=America/Chicago:20250501T133000
DTEND;TZID=America/Chicago:20250501T143000
DTSTAMP:20260419T203809
CREATED:20241231T143142Z
LAST-MODIFIED:20241231T143146Z
UID:10014869-1746106200-1746109800@www.weliahealth.org
SUMMARY:Diabetes Support Group - Mora
DESCRIPTION:Living with diabetes can be overwhelming. Join our supportive community of individuals with diabetes\, their families\, and friends. Our group discussions are led by knowledgeable healthcare professionals and focus on topics such as nutrition\, exercise\, medication management\, and emotional well-being. \n\n\n\nTo learn more\, call our diabetes educators at 320.679.1313. The group meets the first Thursday of every month.
URL:https://www.weliahealth.org/event/diabetes-support-group-mora-24/
LOCATION:Welia Health–Mora: Conference Rooms\, 301 MN-65\, Mora\, MN\, 55051\, United States
CATEGORIES:Diabetes (Mora),Support Groups
ATTACH;FMTTYPE=image/jpeg:https://www.weliahealth.org/wp-content/uploads/2018/12/Diabetes-SG-430x200.jpg
END:VEVENT
BEGIN:VEVENT
DTSTART;TZID=America/Chicago:20250502T100000
DTEND;TZID=America/Chicago:20250502T160000
DTSTAMP:20260419T203809
CREATED:20241218T195641Z
LAST-MODIFIED:20241218T210312Z
UID:10014854-1746180000-1746201600@www.weliahealth.org
SUMMARY:Blood Drive
DESCRIPTION:Every two seconds someone in the U.S. needs blood. It is essential for surgeries\, cancer treatment\, chronic illnesses\, and traumatic injuries. Whether a patient receives whole blood\, red cells\, platelets or plasma\, this lifesaving care starts with one person making a generous donation.  \n\n\n\nWelia Health has partnered with the American Red Cross to host a blood drive and invites you to participate. Please visit the American Red Cross website and select the time you would like to donate. You may also schedule a donation time by calling call 1-800-RED CROSS (1.800.733.2767). \n\n\n\nTo learn more\, check out this Welia Health Connections post\, “Be a hero: The impact of blood donation.” \n\n\n\nBe a hero. Donate blood.
URL:https://www.weliahealth.org/event/blood-drive-6/2025-05-02/
LOCATION:Welia Health–Mora: Conference Rooms\, 301 MN-65\, Mora\, MN\, 55051\, United States
CATEGORIES:Community Events
ATTACH;FMTTYPE=image/jpeg:https://www.weliahealth.org/wp-content/uploads/2019/12/Blood-Drive-430x200.jpg
END:VEVENT
END:VCALENDAR