BEGIN:VCALENDAR
VERSION:2.0
PRODID:-//Welia Health - ECPv6.15.20//NONSGML v1.0//EN
CALSCALE:GREGORIAN
METHOD:PUBLISH
X-WR-CALNAME:Welia Health
X-ORIGINAL-URL:https://www.weliahealth.org
X-WR-CALDESC:Events for Welia Health
REFRESH-INTERVAL;VALUE=DURATION:PT1H
X-Robots-Tag:noindex
X-PUBLISHED-TTL:PT1H
BEGIN:VTIMEZONE
TZID:America/Chicago
BEGIN:DAYLIGHT
TZOFFSETFROM:-0600
TZOFFSETTO:-0500
TZNAME:CDT
DTSTART:20240310T080000
END:DAYLIGHT
BEGIN:STANDARD
TZOFFSETFROM:-0500
TZOFFSETTO:-0600
TZNAME:CST
DTSTART:20241103T070000
END:STANDARD
BEGIN:DAYLIGHT
TZOFFSETFROM:-0600
TZOFFSETTO:-0500
TZNAME:CDT
DTSTART:20250309T080000
END:DAYLIGHT
BEGIN:STANDARD
TZOFFSETFROM:-0500
TZOFFSETTO:-0600
TZNAME:CST
DTSTART:20251102T070000
END:STANDARD
BEGIN:DAYLIGHT
TZOFFSETFROM:-0600
TZOFFSETTO:-0500
TZNAME:CDT
DTSTART:20260308T080000
END:DAYLIGHT
BEGIN:STANDARD
TZOFFSETFROM:-0500
TZOFFSETTO:-0600
TZNAME:CST
DTSTART:20261101T070000
END:STANDARD
END:VTIMEZONE
BEGIN:VEVENT
DTSTART;TZID=America/Chicago:20250304T090000
DTEND;TZID=America/Chicago:20250304T120000
DTSTAMP:20260419T171224
CREATED:20250303T164410Z
LAST-MODIFIED:20250303T195644Z
UID:10014950-1741078800-1741089600@www.weliahealth.org
SUMMARY:Welia Center Fitness Room Open Studio
DESCRIPTION:Welia Center Open Studio. This time is available for members to do a class of their choice or a workout on their own. First come first serve basis. Hundreds of on-demand classes available! The space is equipped with light weights\, yoga equipment\, kettlebells\, spin bikes\, and pickleball equipment.
URL:https://www.weliahealth.org/event/welia-center-fitness-room-open-studio-29/2025-03-04/
LOCATION:Welia Center\, 200 N 9th St\, Mora\, MN\, 55051-1147\, United States
CATEGORIES:Caravan
END:VEVENT
BEGIN:VEVENT
DTSTART;TZID=America/Chicago:20250304T130000
DTEND;TZID=America/Chicago:20250304T140000
DTSTAMP:20260419T171224
CREATED:20241231T154133Z
LAST-MODIFIED:20241231T154914Z
UID:10014896-1741093200-1741096800@www.weliahealth.org
SUMMARY:Lung Disease Support Group
DESCRIPTION:Connect with others who understand the challenges of living with lung diseases like COPD\, asthma\, pulmonary hypertension\, or pulmonary fibrosis. Our group offers education and support from pulmonary rehabilitation specialists. Share experiences\, ask questions\, and learn valuable coping strategies. \n\n\n\nThis group is free of charge and meets the first Tuesday of every other month. Questions? Please call Rehabilitation Services at 320.225.3646
URL:https://www.weliahealth.org/event/lung-disease-support-group-2/
LOCATION:Welia Health–Mora: Conference Rooms\, 301 MN-65\, Mora\, MN\, 55051\, United States
CATEGORIES:Lung Disease,Support Groups
ATTACH;FMTTYPE=image/jpeg:https://www.weliahealth.org/wp-content/uploads/2018/12/Lung-SG-430x200.jpg
END:VEVENT
BEGIN:VEVENT
DTSTART;TZID=America/Chicago:20250305T130000
DTEND;TZID=America/Chicago:20250305T140000
DTSTAMP:20260419T171224
CREATED:20241231T140837Z
LAST-MODIFIED:20241231T140841Z
UID:10014860-1741179600-1741183200@www.weliahealth.org
SUMMARY:Caregivers support group
DESCRIPTION:Caring for a loved one with a chronic illness can be challenging. This group offers a safe space for caregivers of individuals with dementia\, Alzheimer’s\, cancer\, heart disease\, or other health conditions. Share experiences\, learn coping strategies\, and find support from others who understand. \n\n\n\nAs a service to our community\, Welia Health support groups are free of charge\, and all are welcome. Questions or want to learn more? Call Amelia Laman at 320.225.3577.
URL:https://www.weliahealth.org/event/caregivers-support-group-5/
LOCATION:Welia Health–Mora: Conference Rooms\, 301 MN-65\, Mora\, MN\, 55051\, United States
CATEGORIES:Caregivers,Support Groups
ATTACH;FMTTYPE=image/jpeg:https://www.weliahealth.org/wp-content/uploads/2018/12/CaregiversSG-430x200.jpg
END:VEVENT
BEGIN:VEVENT
DTSTART;TZID=America/Chicago:20250306T133000
DTEND;TZID=America/Chicago:20250306T143000
DTSTAMP:20260419T171224
CREATED:20241231T142237Z
LAST-MODIFIED:20241231T142537Z
UID:10014865-1741267800-1741271400@www.weliahealth.org
SUMMARY:Diabetes Support Group - Mora
DESCRIPTION:Living with diabetes can be overwhelming. Join our supportive community of individuals with diabetes\, their families\, and friends. Our group discussions are led by knowledgeable healthcare professionals and focus on topics such as nutrition\, exercise\, medication management\, and emotional well-being. \n\n\n\nTo learn more\, call our diabetes educators at 320.679.1313. The group meets the first Thursday of every month.
URL:https://www.weliahealth.org/event/diabetes-support-group-mora-22/
LOCATION:Welia Health–Mora: Conference Rooms\, 301 MN-65\, Mora\, MN\, 55051\, United States
CATEGORIES:Diabetes (Mora),Support Groups
ATTACH;FMTTYPE=image/jpeg:https://www.weliahealth.org/wp-content/uploads/2018/12/Diabetes-SG-430x200.jpg
END:VEVENT
BEGIN:VEVENT
DTSTART;TZID=America/Chicago:20250307T080000
DTEND;TZID=America/Chicago:20250307T120000
DTSTAMP:20260419T171224
CREATED:20250303T164410Z
LAST-MODIFIED:20250303T195644Z
UID:10014951-1741334400-1741348800@www.weliahealth.org
SUMMARY:Welia Center Fitness Room Open Studio
DESCRIPTION:Welia Center Open Studio. This time is available for members to do a class of their choice or a workout on their own. First come first serve basis. Hundreds of on-demand classes available! The space is equipped with light weights\, yoga equipment\, kettlebells\, spin bikes\, and pickleball equipment.
URL:https://www.weliahealth.org/event/welia-center-fitness-room-open-studio-29/2025-03-07/
LOCATION:Welia Center\, 200 N 9th St\, Mora\, MN\, 55051-1147\, United States
CATEGORIES:Caravan
END:VEVENT
BEGIN:VEVENT
DTSTART;TZID=America/Chicago:20250307T100000
DTEND;TZID=America/Chicago:20250307T160000
DTSTAMP:20260419T171224
CREATED:20241218T195641Z
LAST-MODIFIED:20241218T210312Z
UID:10014853-1741341600-1741363200@www.weliahealth.org
SUMMARY:Blood Drive
DESCRIPTION:Every two seconds someone in the U.S. needs blood. It is essential for surgeries\, cancer treatment\, chronic illnesses\, and traumatic injuries. Whether a patient receives whole blood\, red cells\, platelets or plasma\, this lifesaving care starts with one person making a generous donation.  \n\n\n\nWelia Health has partnered with the American Red Cross to host a blood drive and invites you to participate. Please visit the American Red Cross website and select the time you would like to donate. You may also schedule a donation time by calling call 1-800-RED CROSS (1.800.733.2767). \n\n\n\nTo learn more\, check out this Welia Health Connections post\, “Be a hero: The impact of blood donation.” \n\n\n\nBe a hero. Donate blood.
URL:https://www.weliahealth.org/event/blood-drive-6/2025-03-07/
LOCATION:Welia Health–Mora: Conference Rooms\, 301 MN-65\, Mora\, MN\, 55051\, United States
CATEGORIES:Community Events
ATTACH;FMTTYPE=image/jpeg:https://www.weliahealth.org/wp-content/uploads/2019/12/Blood-Drive-430x200.jpg
END:VEVENT
END:VCALENDAR