BEGIN:VCALENDAR
VERSION:2.0
PRODID:-//Welia Health - ECPv6.15.20//NONSGML v1.0//EN
CALSCALE:GREGORIAN
METHOD:PUBLISH
X-WR-CALNAME:Welia Health
X-ORIGINAL-URL:https://www.weliahealth.org
X-WR-CALDESC:Events for Welia Health
REFRESH-INTERVAL;VALUE=DURATION:PT1H
X-Robots-Tag:noindex
X-PUBLISHED-TTL:PT1H
BEGIN:VTIMEZONE
TZID:America/Chicago
BEGIN:DAYLIGHT
TZOFFSETFROM:-0600
TZOFFSETTO:-0500
TZNAME:CDT
DTSTART:20230312T080000
END:DAYLIGHT
BEGIN:STANDARD
TZOFFSETFROM:-0500
TZOFFSETTO:-0600
TZNAME:CST
DTSTART:20231105T070000
END:STANDARD
BEGIN:DAYLIGHT
TZOFFSETFROM:-0600
TZOFFSETTO:-0500
TZNAME:CDT
DTSTART:20240310T080000
END:DAYLIGHT
BEGIN:STANDARD
TZOFFSETFROM:-0500
TZOFFSETTO:-0600
TZNAME:CST
DTSTART:20241103T070000
END:STANDARD
BEGIN:DAYLIGHT
TZOFFSETFROM:-0600
TZOFFSETTO:-0500
TZNAME:CDT
DTSTART:20250309T080000
END:DAYLIGHT
BEGIN:STANDARD
TZOFFSETFROM:-0500
TZOFFSETTO:-0600
TZNAME:CST
DTSTART:20251102T070000
END:STANDARD
END:VTIMEZONE
BEGIN:VEVENT
DTSTART;TZID=America/Chicago:20241209T080000
DTEND;TZID=America/Chicago:20241209T110000
DTSTAMP:20260419T172341
CREATED:20241209T214835Z
LAST-MODIFIED:20241209T220538Z
UID:10014504-1733731200-1733742000@www.weliahealth.org
SUMMARY:Welia Center Fitness Room Open Studio
DESCRIPTION:Welia Center Open Studio. This time is available for members to do a class of their choice or a workout on their own. First come first serve basis. Hundreds of on-demand classes available! The space is equipped with light weights\, yoga equipment\, kettlebells\, spin bikes\, and pickleball equipment.
URL:https://www.weliahealth.org/event/welia-center-fitness-room-open-studio-18/2024-12-09/
LOCATION:Welia Center: Fitness & Community Room\, 200 N 9th St\, Mora\, MN\, 55051-1147\, United States
CATEGORIES:Caravan
ATTACH;FMTTYPE=image/jpeg:https://www.weliahealth.org/wp-content/uploads/2021/04/Generic-class-480x200-1.jpg
END:VEVENT
BEGIN:VEVENT
DTSTART;TZID=America/Chicago:20241210T080000
DTEND;TZID=America/Chicago:20241210T110000
DTSTAMP:20260419T172341
CREATED:20241209T202734Z
LAST-MODIFIED:20241209T210216Z
UID:10014421-1733817600-1733828400@www.weliahealth.org
SUMMARY:Welia Center Fitness Room Open Studio
DESCRIPTION:Welia Center Open Studio. This time is available for members to do a class of their choice or a workout on their own. First come first serve basis. Hundreds of on-demand classes available! The space is equipped with light weights\, yoga equipment\, kettlebells\, spin bikes\, and pickleball equipment.
URL:https://www.weliahealth.org/event/welia-center-fitness-room-open-studio-13/2024-12-10/
LOCATION:Welia Center: Fitness & Community Room\, 200 N 9th St\, Mora\, MN\, 55051-1147\, United States
CATEGORIES:Caravan
ATTACH;FMTTYPE=image/jpeg:https://www.weliahealth.org/wp-content/uploads/2021/04/Generic-class-480x200-1.jpg
END:VEVENT
BEGIN:VEVENT
DTSTART;TZID=America/Chicago:20241211T060000
DTEND;TZID=America/Chicago:20241211T110000
DTSTAMP:20260419T172341
CREATED:20241209T203430Z
LAST-MODIFIED:20241209T203434Z
UID:10014441-1733896800-1733914800@www.weliahealth.org
SUMMARY:Welia Center Fitness Room Open Studio
DESCRIPTION:Welia Center Open Studio. This time is available for members to do a class of their choice or a workout on their own. First come first serve basis. Hundreds of on-demand classes available! The space is equipped with light weights\, yoga equipment\, kettlebells\, spin bikes\, and pickleball equipment.
URL:https://www.weliahealth.org/event/welia-center-fitness-room-open-studio-14/2024-12-11/
LOCATION:Welia Center: Fitness & Community Room\, 200 N 9th St\, Mora\, MN\, 55051-1147\, United States
CATEGORIES:Caravan
ATTACH;FMTTYPE=image/jpeg:https://www.weliahealth.org/wp-content/uploads/2021/04/Generic-class-480x200-1.jpg
END:VEVENT
BEGIN:VEVENT
DTSTART;TZID=America/Chicago:20241211T120000
DTEND;TZID=America/Chicago:20241211T163000
DTSTAMP:20260419T172341
CREATED:20241211T145656Z
LAST-MODIFIED:20241211T145700Z
UID:10014516-1733918400-1733934600@www.weliahealth.org
SUMMARY:Welia Center Fitness Room Open Studio
DESCRIPTION:Welia Center Open Studio. This time is available for members to do a class of their choice or a workout on their own. First come first serve basis. Hundreds of on-demand classes available! The space is equipped with light weights\, yoga equipment\, kettlebells\, spin bikes\, and pickleball equipment.
URL:https://www.weliahealth.org/event/welia-center-fitness-room-open-studio-19/2024-12-11/
LOCATION:Welia Center: Fitness & Community Room\, 200 N 9th St\, Mora\, MN\, 55051-1147\, United States
CATEGORIES:Caravan
ATTACH;FMTTYPE=image/jpeg:https://www.weliahealth.org/wp-content/uploads/2021/04/Generic-class-480x200-1.jpg
END:VEVENT
BEGIN:VEVENT
DTSTART;TZID=America/Chicago:20241211T130000
DTEND;TZID=America/Chicago:20241211T140000
DTSTAMP:20260419T172341
CREATED:20240820T231939Z
LAST-MODIFIED:20240820T233915Z
UID:10008500-1733922000-1733925600@www.weliahealth.org
SUMMARY:Caregivers support group
DESCRIPTION:For anyone caring for a loved one with dementia\, Alzheimer’s\, cancer\, heart disease\, or any other health condition\, the Caregivers Support Group is a place to share information\, give and receive mutual support\, and exchange coping skills. \n\n\n\nAs a service to our community\, Welia Health support groups are free of charge\, and all are welcome. Questions or want to learn more? Call Amelia Laman at 320.225.3577.
URL:https://www.weliahealth.org/event/caregivers-support-group/2024-12-11/
LOCATION:Welia Health–Mora: Conference Rooms\, 301 MN-65\, Mora\, MN\, 55051\, United States
CATEGORIES:Caregivers,Support Groups
ATTACH;FMTTYPE=image/jpeg:https://www.weliahealth.org/wp-content/uploads/2018/12/CaregiversSG-430x200.jpg
END:VEVENT
BEGIN:VEVENT
DTSTART;TZID=America/Chicago:20241212T080000
DTEND;TZID=America/Chicago:20241212T110000
DTSTAMP:20260419T172341
CREATED:20241209T202734Z
LAST-MODIFIED:20241209T210216Z
UID:10014422-1733990400-1734001200@www.weliahealth.org
SUMMARY:Welia Center Fitness Room Open Studio
DESCRIPTION:Welia Center Open Studio. This time is available for members to do a class of their choice or a workout on their own. First come first serve basis. Hundreds of on-demand classes available! The space is equipped with light weights\, yoga equipment\, kettlebells\, spin bikes\, and pickleball equipment.
URL:https://www.weliahealth.org/event/welia-center-fitness-room-open-studio-13/2024-12-12/
LOCATION:Welia Center: Fitness & Community Room\, 200 N 9th St\, Mora\, MN\, 55051-1147\, United States
CATEGORIES:Caravan
ATTACH;FMTTYPE=image/jpeg:https://www.weliahealth.org/wp-content/uploads/2021/04/Generic-class-480x200-1.jpg
END:VEVENT
BEGIN:VEVENT
DTSTART;TZID=America/Chicago:20241212T120000
DTEND;TZID=America/Chicago:20241212T163000
DTSTAMP:20260419T172341
CREATED:20241211T150420Z
LAST-MODIFIED:20241211T150425Z
UID:10014526-1734004800-1734021000@www.weliahealth.org
SUMMARY:Welia Center Fitness Room Open Studio
DESCRIPTION:Welia Center Open Studio. This time is available for members to do a class of their choice or a workout on their own. First come first serve basis. Hundreds of on-demand classes available! The space is equipped with light weights\, yoga equipment\, kettlebells\, spin bikes\, and pickleball equipment.
URL:https://www.weliahealth.org/event/welia-center-fitness-room-open-studio-20/2024-12-12/
LOCATION:Welia Health – Community Wellness Center\, 200 9th Street N\, Mora\, MN\, 55051-1147\, United States
CATEGORIES:Caravan
ATTACH;FMTTYPE=image/jpeg:https://www.weliahealth.org/wp-content/uploads/2021/04/Generic-class-480x200-1.jpg
END:VEVENT
BEGIN:VEVENT
DTSTART;TZID=America/Chicago:20241213T060000
DTEND;TZID=America/Chicago:20241213T110000
DTSTAMP:20260419T172341
CREATED:20241209T201933Z
LAST-MODIFIED:20241209T201938Z
UID:10014410-1734069600-1734087600@www.weliahealth.org
SUMMARY:Welia Center Fitness Room Open Studio
DESCRIPTION:Welia Center Open Studio. This time is available for members to do a class of their choice or a workout on their own. First come first serve basis. Hundreds of on-demand classes available! The space is equipped with light weights\, yoga equipment\, kettlebells\, spin bikes\, and pickleball equipment.
URL:https://www.weliahealth.org/event/welia-center-fitness-room-open-studio/2024-12-13/
LOCATION:Welia Center\, 200 N 9th St\, Mora\, MN\, 55051-1147\, United States
CATEGORIES:Caravan
ATTACH;FMTTYPE=image/jpeg:https://www.weliahealth.org/wp-content/uploads/2021/04/Generic-class-480x200-1.jpg
END:VEVENT
END:VCALENDAR