BEGIN:VCALENDAR
VERSION:2.0
PRODID:-//Welia Health - ECPv6.15.20//NONSGML v1.0//EN
CALSCALE:GREGORIAN
METHOD:PUBLISH
X-WR-CALNAME:Welia Health
X-ORIGINAL-URL:https://www.weliahealth.org
X-WR-CALDESC:Events for Welia Health
REFRESH-INTERVAL;VALUE=DURATION:PT1H
X-Robots-Tag:noindex
X-PUBLISHED-TTL:PT1H
BEGIN:VTIMEZONE
TZID:America/Chicago
BEGIN:DAYLIGHT
TZOFFSETFROM:-0600
TZOFFSETTO:-0500
TZNAME:CDT
DTSTART:20230312T080000
END:DAYLIGHT
BEGIN:STANDARD
TZOFFSETFROM:-0500
TZOFFSETTO:-0600
TZNAME:CST
DTSTART:20231105T070000
END:STANDARD
BEGIN:DAYLIGHT
TZOFFSETFROM:-0600
TZOFFSETTO:-0500
TZNAME:CDT
DTSTART:20240310T080000
END:DAYLIGHT
BEGIN:STANDARD
TZOFFSETFROM:-0500
TZOFFSETTO:-0600
TZNAME:CST
DTSTART:20241103T070000
END:STANDARD
BEGIN:DAYLIGHT
TZOFFSETFROM:-0600
TZOFFSETTO:-0500
TZNAME:CDT
DTSTART:20250309T080000
END:DAYLIGHT
BEGIN:STANDARD
TZOFFSETFROM:-0500
TZOFFSETTO:-0600
TZNAME:CST
DTSTART:20251102T070000
END:STANDARD
END:VTIMEZONE
BEGIN:VEVENT
DTSTART;TZID=America/Chicago:20240304T081500
DTEND;TZID=America/Chicago:20240304T210500
DTSTAMP:20260419T172341
CREATED:20240229T143034Z
LAST-MODIFIED:20240229T143037Z
UID:10004354-1709540100-1709586300@www.weliahealth.org
SUMMARY:Cardio Class
DESCRIPTION:The classes in this category may focus on building strength\, burning fat or working up a sweat\, but what is sure to be true is they all will get your heart rate up!
URL:https://www.weliahealth.org/event/heart-healthy-class-2/2024-03-04/
LOCATION:Welia Center\, 200 N 9th St\, Mora\, MN\, 55051-1147\, United States
CATEGORIES:Caravan
ATTACH;FMTTYPE=image/jpeg:https://www.weliahealth.org/wp-content/uploads/2022/05/blog-ortho-may-2022.jpg
END:VEVENT
BEGIN:VEVENT
DTSTART;TZID=America/Chicago:20240304T091500
DTEND;TZID=America/Chicago:20240304T100500
DTSTAMP:20260419T172341
CREATED:20240108T135403Z
LAST-MODIFIED:20240108T135405Z
UID:10004580-1709543700-1709546700@www.weliahealth.org
SUMMARY:Silver & Fit
DESCRIPTION:Designed for 65+\, this class is for the active adult looking for a challenging free-standing workout.  Increase heart health\, muscle endurance\, strength\, mobility\, and balance.
URL:https://www.weliahealth.org/event/silver-fit/2024-03-04/
LOCATION:Welia Center\, 200 N 9th St\, Mora\, MN\, 55051-1147\, United States
CATEGORIES:Caravan
ATTACH;FMTTYPE=image/jpeg:https://www.weliahealth.org/wp-content/uploads/2021/04/Silver-fit-480x200-1.jpg
END:VEVENT
BEGIN:VEVENT
DTSTART;TZID=America/Chicago:20240304T160000
DTEND;TZID=America/Chicago:20240304T163000
DTSTAMP:20260419T172341
CREATED:20240229T143546Z
LAST-MODIFIED:20240229T143742Z
UID:10005873-1709568000-1709569800@www.weliahealth.org
SUMMARY:Class Choice
DESCRIPTION:Choose a class from one of the Wellbeats channels! Anything from yoga\, Zumba\, sculpting\, step and more!
URL:https://www.weliahealth.org/event/class-choice-2/2024-03-04/
LOCATION:Welia Center: Fitness & Community Room\, 200 N 9th St\, Mora\, MN\, 55051-1147\, United States
CATEGORIES:Caravan
ATTACH;FMTTYPE=image/jpeg:https://www.weliahealth.org/wp-content/uploads/2023/05/Wellbeats-Zumba-430x200-1.jpg
END:VEVENT
BEGIN:VEVENT
DTSTART;TZID=America/Chicago:20240304T170000
DTEND;TZID=America/Chicago:20240304T173000
DTSTAMP:20260419T172341
CREATED:20240108T135940Z
LAST-MODIFIED:20240108T135942Z
UID:10004976-1709571600-1709573400@www.weliahealth.org
SUMMARY:Yoga Class
DESCRIPTION:Discover a unique fusion of yoga and Pilates. Improve your mind-body connection while building stronger muscles.
URL:https://www.weliahealth.org/event/yoga-class-2/2024-03-04/
LOCATION:Welia Center\, 200 N 9th St\, Mora\, MN\, 55051-1147\, United States
CATEGORIES:Caravan
ATTACH;FMTTYPE=image/png:https://www.weliahealth.org/wp-content/uploads/2021/12/yoga-class.png
END:VEVENT
BEGIN:VEVENT
DTSTART;TZID=America/Chicago:20240305T083000
DTEND;TZID=America/Chicago:20240305T091500
DTSTAMP:20260419T172341
CREATED:20240229T144718Z
LAST-MODIFIED:20240229T144852Z
UID:10006289-1709627400-1709630100@www.weliahealth.org
SUMMARY:Class Choice
DESCRIPTION:Choose a class from one of the Wellbeats channels! Anything from yoga\, Zumba\, sculpting\, step and more!
URL:https://www.weliahealth.org/event/class-choice-3/2024-03-05/
LOCATION:Welia Center: Fitness & Community Room\, 200 N 9th St\, Mora\, MN\, 55051-1147\, United States
CATEGORIES:Caravan
ATTACH;FMTTYPE=image/jpeg:https://www.weliahealth.org/wp-content/uploads/2023/05/Wellbeats-Zumba-430x200-1.jpg
END:VEVENT
BEGIN:VEVENT
DTSTART;TZID=America/Chicago:20240305T091500
DTEND;TZID=America/Chicago:20240305T100500
DTSTAMP:20260419T172341
CREATED:20240108T135403Z
LAST-MODIFIED:20240108T135405Z
UID:10004581-1709630100-1709633100@www.weliahealth.org
SUMMARY:Silver & Fit
DESCRIPTION:Designed for 65+\, this class is for the active adult looking for a challenging free-standing workout.  Increase heart health\, muscle endurance\, strength\, mobility\, and balance.
URL:https://www.weliahealth.org/event/silver-fit/2024-03-05/
LOCATION:Welia Center\, 200 N 9th St\, Mora\, MN\, 55051-1147\, United States
CATEGORIES:Caravan
ATTACH;FMTTYPE=image/jpeg:https://www.weliahealth.org/wp-content/uploads/2021/04/Silver-fit-480x200-1.jpg
END:VEVENT
BEGIN:VEVENT
DTSTART;TZID=America/Chicago:20240305T130000
DTEND;TZID=America/Chicago:20240305T140000
DTSTAMP:20260419T172341
CREATED:20240102T162316Z
LAST-MODIFIED:20240205T200424Z
UID:10003891-1709643600-1709647200@www.weliahealth.org
SUMMARY:Lung Support Group
DESCRIPTION:Registered Dietitian Melissa Merrick and Amy Miller\, CCC-SLP\, LSVT\, swallow specialist will be discussing nutrition and different aspects of swallowing for the chronic lung disease population.
URL:https://www.weliahealth.org/event/lung-support-group/
LOCATION:Welia Health-Mora: Conference Room 5\, 301 MN-65\, Mora\, Minnesota\, 55051\, United States
CATEGORIES:Lung Disease
ATTACH;FMTTYPE=image/jpeg:https://www.weliahealth.org/wp-content/uploads/2018/12/Lung-SG-430x200.jpg
END:VEVENT
BEGIN:VEVENT
DTSTART;TZID=America/Chicago:20240305T160000
DTEND;TZID=America/Chicago:20240305T163000
DTSTAMP:20260419T172341
CREATED:20240229T143546Z
LAST-MODIFIED:20240229T143742Z
UID:10005874-1709654400-1709656200@www.weliahealth.org
SUMMARY:Class Choice
DESCRIPTION:Choose a class from one of the Wellbeats channels! Anything from yoga\, Zumba\, sculpting\, step and more!
URL:https://www.weliahealth.org/event/class-choice-2/2024-03-05/
LOCATION:Welia Center: Fitness & Community Room\, 200 N 9th St\, Mora\, MN\, 55051-1147\, United States
CATEGORIES:Caravan
ATTACH;FMTTYPE=image/jpeg:https://www.weliahealth.org/wp-content/uploads/2023/05/Wellbeats-Zumba-430x200-1.jpg
END:VEVENT
BEGIN:VEVENT
DTSTART;TZID=America/Chicago:20240306T081500
DTEND;TZID=America/Chicago:20240306T210500
DTSTAMP:20260419T172341
CREATED:20240229T143034Z
LAST-MODIFIED:20240229T143037Z
UID:10004355-1709712900-1709759100@www.weliahealth.org
SUMMARY:Cardio Class
DESCRIPTION:The classes in this category may focus on building strength\, burning fat or working up a sweat\, but what is sure to be true is they all will get your heart rate up!
URL:https://www.weliahealth.org/event/heart-healthy-class-2/2024-03-06/
LOCATION:Welia Center\, 200 N 9th St\, Mora\, MN\, 55051-1147\, United States
CATEGORIES:Caravan
ATTACH;FMTTYPE=image/jpeg:https://www.weliahealth.org/wp-content/uploads/2022/05/blog-ortho-may-2022.jpg
END:VEVENT
BEGIN:VEVENT
DTSTART;TZID=America/Chicago:20240306T091500
DTEND;TZID=America/Chicago:20240306T100500
DTSTAMP:20260419T172341
CREATED:20240108T135403Z
LAST-MODIFIED:20240108T135405Z
UID:10004582-1709716500-1709719500@www.weliahealth.org
SUMMARY:Silver & Fit
DESCRIPTION:Designed for 65+\, this class is for the active adult looking for a challenging free-standing workout.  Increase heart health\, muscle endurance\, strength\, mobility\, and balance.
URL:https://www.weliahealth.org/event/silver-fit/2024-03-06/
LOCATION:Welia Center\, 200 N 9th St\, Mora\, MN\, 55051-1147\, United States
CATEGORIES:Caravan
ATTACH;FMTTYPE=image/jpeg:https://www.weliahealth.org/wp-content/uploads/2021/04/Silver-fit-480x200-1.jpg
END:VEVENT
BEGIN:VEVENT
DTSTART;TZID=America/Chicago:20240306T160000
DTEND;TZID=America/Chicago:20240306T163000
DTSTAMP:20260419T172341
CREATED:20240229T143546Z
LAST-MODIFIED:20240229T143742Z
UID:10005875-1709740800-1709742600@www.weliahealth.org
SUMMARY:Class Choice
DESCRIPTION:Choose a class from one of the Wellbeats channels! Anything from yoga\, Zumba\, sculpting\, step and more!
URL:https://www.weliahealth.org/event/class-choice-2/2024-03-06/
LOCATION:Welia Center: Fitness & Community Room\, 200 N 9th St\, Mora\, MN\, 55051-1147\, United States
CATEGORIES:Caravan
ATTACH;FMTTYPE=image/jpeg:https://www.weliahealth.org/wp-content/uploads/2023/05/Wellbeats-Zumba-430x200-1.jpg
END:VEVENT
BEGIN:VEVENT
DTSTART;TZID=America/Chicago:20240306T163000
DTEND;TZID=America/Chicago:20240306T170000
DTSTAMP:20260419T172341
CREATED:20240108T141846Z
LAST-MODIFIED:20240108T142509Z
UID:10005501-1709742600-1709744400@www.weliahealth.org
SUMMARY:Yoga Class
DESCRIPTION:Discover a unique fusion of yoga and Pilates.  Improve your mind-body connection while building stronger muscles.
URL:https://www.weliahealth.org/event/yoga-class-3/2024-03-06/
LOCATION:Welia Center\, 200 N 9th St\, Mora\, MN\, 55051-1147\, United States
CATEGORIES:Caravan
ATTACH;FMTTYPE=image/png:https://www.weliahealth.org/wp-content/uploads/2021/12/yoga-class.png
END:VEVENT
BEGIN:VEVENT
DTSTART;TZID=America/Chicago:20240307T083000
DTEND;TZID=America/Chicago:20240307T091500
DTSTAMP:20260419T172341
CREATED:20240229T144718Z
LAST-MODIFIED:20240229T144852Z
UID:10006290-1709800200-1709802900@www.weliahealth.org
SUMMARY:Class Choice
DESCRIPTION:Choose a class from one of the Wellbeats channels! Anything from yoga\, Zumba\, sculpting\, step and more!
URL:https://www.weliahealth.org/event/class-choice-3/2024-03-07/
LOCATION:Welia Center: Fitness & Community Room\, 200 N 9th St\, Mora\, MN\, 55051-1147\, United States
CATEGORIES:Caravan
ATTACH;FMTTYPE=image/jpeg:https://www.weliahealth.org/wp-content/uploads/2023/05/Wellbeats-Zumba-430x200-1.jpg
END:VEVENT
BEGIN:VEVENT
DTSTART;TZID=America/Chicago:20240307T091500
DTEND;TZID=America/Chicago:20240307T100500
DTSTAMP:20260419T172341
CREATED:20240108T135403Z
LAST-MODIFIED:20240108T135405Z
UID:10004583-1709802900-1709805900@www.weliahealth.org
SUMMARY:Silver & Fit
DESCRIPTION:Designed for 65+\, this class is for the active adult looking for a challenging free-standing workout.  Increase heart health\, muscle endurance\, strength\, mobility\, and balance.
URL:https://www.weliahealth.org/event/silver-fit/2024-03-07/
LOCATION:Welia Center\, 200 N 9th St\, Mora\, MN\, 55051-1147\, United States
CATEGORIES:Caravan
ATTACH;FMTTYPE=image/jpeg:https://www.weliahealth.org/wp-content/uploads/2021/04/Silver-fit-480x200-1.jpg
END:VEVENT
BEGIN:VEVENT
DTSTART;TZID=America/Chicago:20240307T133000
DTEND;TZID=America/Chicago:20240307T143000
DTSTAMP:20260419T172341
CREATED:20231226T173808Z
LAST-MODIFIED:20240131T034455Z
UID:10003799-1709818200-1709821800@www.weliahealth.org
SUMMARY:Diabetes Support Group - Mora
DESCRIPTION:The Diabetes Support Group welcomes people with diabetes\, their families and friends. To learn more\, call our diabetes educators at 320.679.1313. The group meets the first Thursday of every month.
URL:https://www.weliahealth.org/event/diabetes-support-group-mora-2/2024-03-07/
LOCATION:Welia Health–Mora: Conference Rooms\, 301 MN-65\, Mora\, MN\, 55051\, United States
CATEGORIES:Diabetes (Mora),Support Groups
ATTACH;FMTTYPE=image/jpeg:https://www.weliahealth.org/wp-content/uploads/2018/12/Diabetes-SG-430x200.jpg
END:VEVENT
BEGIN:VEVENT
DTSTART;TZID=America/Chicago:20240307T160000
DTEND;TZID=America/Chicago:20240307T163000
DTSTAMP:20260419T172341
CREATED:20240229T143546Z
LAST-MODIFIED:20240229T143742Z
UID:10005876-1709827200-1709829000@www.weliahealth.org
SUMMARY:Class Choice
DESCRIPTION:Choose a class from one of the Wellbeats channels! Anything from yoga\, Zumba\, sculpting\, step and more!
URL:https://www.weliahealth.org/event/class-choice-2/2024-03-07/
LOCATION:Welia Center: Fitness & Community Room\, 200 N 9th St\, Mora\, MN\, 55051-1147\, United States
CATEGORIES:Caravan
ATTACH;FMTTYPE=image/jpeg:https://www.weliahealth.org/wp-content/uploads/2023/05/Wellbeats-Zumba-430x200-1.jpg
END:VEVENT
END:VCALENDAR