BEGIN:VCALENDAR
VERSION:2.0
PRODID:-//Welia Health - ECPv6.15.20//NONSGML v1.0//EN
CALSCALE:GREGORIAN
METHOD:PUBLISH
X-ORIGINAL-URL:https://www.weliahealth.org
X-WR-CALDESC:Events for Welia Health
REFRESH-INTERVAL;VALUE=DURATION:PT1H
X-Robots-Tag:noindex
X-PUBLISHED-TTL:PT1H
BEGIN:VTIMEZONE
TZID:America/Chicago
BEGIN:DAYLIGHT
TZOFFSETFROM:-0600
TZOFFSETTO:-0500
TZNAME:CDT
DTSTART:20220313T080000
END:DAYLIGHT
BEGIN:STANDARD
TZOFFSETFROM:-0500
TZOFFSETTO:-0600
TZNAME:CST
DTSTART:20221106T070000
END:STANDARD
BEGIN:DAYLIGHT
TZOFFSETFROM:-0600
TZOFFSETTO:-0500
TZNAME:CDT
DTSTART:20230312T080000
END:DAYLIGHT
BEGIN:STANDARD
TZOFFSETFROM:-0500
TZOFFSETTO:-0600
TZNAME:CST
DTSTART:20231105T070000
END:STANDARD
BEGIN:DAYLIGHT
TZOFFSETFROM:-0600
TZOFFSETTO:-0500
TZNAME:CDT
DTSTART:20240310T080000
END:DAYLIGHT
BEGIN:STANDARD
TZOFFSETFROM:-0500
TZOFFSETTO:-0600
TZNAME:CST
DTSTART:20241103T070000
END:STANDARD
END:VTIMEZONE
BEGIN:VEVENT
DTSTART;TZID=America/Chicago:20231212T160000
DTEND;TZID=America/Chicago:20231212T163000
DTSTAMP:20260421T170849
CREATED:20230912T204120Z
LAST-MODIFIED:20231018T193803Z
UID:10003605-1702396800-1702398600@www.weliahealth.org
SUMMARY:Open Studio
DESCRIPTION:Come check out the classroom at Welia Center! Come to stretch\, do your own workout\, or try a free Wellbeats class! \n\n\n\nOct Wellbeats Calendar 2023Download\n\n\n\nNov Wellbeats Calendar 2023Download\n\n\n\nDec Wellbeats Calendar 2023Download
URL:https://www.weliahealth.org/event/open-studio-11/2023-12-12/
LOCATION:Welia Center: Fitness & Community Room\, 200 N 9th St\, Mora\, MN\, 55051-1147\, United States
CATEGORIES:Caravan
ATTACH;FMTTYPE=image/jpeg:https://www.weliahealth.org/wp-content/uploads/2021/04/Generic-class-480x200-1.jpg
END:VEVENT
BEGIN:VEVENT
DTSTART;TZID=America/Chicago:20231214T160000
DTEND;TZID=America/Chicago:20231214T163000
DTSTAMP:20260421T170849
CREATED:20230912T204120Z
LAST-MODIFIED:20231018T193803Z
UID:10003606-1702569600-1702571400@www.weliahealth.org
SUMMARY:Open Studio
DESCRIPTION:Come check out the classroom at Welia Center! Come to stretch\, do your own workout\, or try a free Wellbeats class! \n\n\n\nOct Wellbeats Calendar 2023Download\n\n\n\nNov Wellbeats Calendar 2023Download\n\n\n\nDec Wellbeats Calendar 2023Download
URL:https://www.weliahealth.org/event/open-studio-11/2023-12-14/
LOCATION:Welia Center: Fitness & Community Room\, 200 N 9th St\, Mora\, MN\, 55051-1147\, United States
CATEGORIES:Caravan
ATTACH;FMTTYPE=image/jpeg:https://www.weliahealth.org/wp-content/uploads/2021/04/Generic-class-480x200-1.jpg
END:VEVENT
BEGIN:VEVENT
DTSTART;TZID=America/Chicago:20231214T183000
DTEND;TZID=America/Chicago:20231214T183000
DTSTAMP:20260421T170849
CREATED:20231207T195341Z
LAST-MODIFIED:20231207T195343Z
UID:10003790-1702578600-1702578600@www.weliahealth.org
SUMMARY:"Tipping The Pain Scale" Showing at Paradise Theatre
DESCRIPTION:In the urgent fight to save lives\, this documentary depicts the current system failures of how we have dealt with addiction in communities.
URL:https://www.weliahealth.org/event/tipping-the-pain-scale-showing-at-paradise-theatre/
LOCATION:Paradise Theatre\, 237 S. Union St.\, Mora\, Minnesota\, 55051\, United States
END:VEVENT
END:VCALENDAR