BEGIN:VCALENDAR
VERSION:2.0
PRODID:-//Welia Health - ECPv6.15.20//NONSGML v1.0//EN
CALSCALE:GREGORIAN
METHOD:PUBLISH
X-ORIGINAL-URL:https://www.weliahealth.org
X-WR-CALDESC:Events for Welia Health
REFRESH-INTERVAL;VALUE=DURATION:PT1H
X-Robots-Tag:noindex
X-PUBLISHED-TTL:PT1H
BEGIN:VTIMEZONE
TZID:America/Chicago
BEGIN:DAYLIGHT
TZOFFSETFROM:-0600
TZOFFSETTO:-0500
TZNAME:CDT
DTSTART:20220313T080000
END:DAYLIGHT
BEGIN:STANDARD
TZOFFSETFROM:-0500
TZOFFSETTO:-0600
TZNAME:CST
DTSTART:20221106T070000
END:STANDARD
BEGIN:DAYLIGHT
TZOFFSETFROM:-0600
TZOFFSETTO:-0500
TZNAME:CDT
DTSTART:20230312T080000
END:DAYLIGHT
BEGIN:STANDARD
TZOFFSETFROM:-0500
TZOFFSETTO:-0600
TZNAME:CST
DTSTART:20231105T070000
END:STANDARD
BEGIN:DAYLIGHT
TZOFFSETFROM:-0600
TZOFFSETTO:-0500
TZNAME:CDT
DTSTART:20240310T080000
END:DAYLIGHT
BEGIN:STANDARD
TZOFFSETFROM:-0500
TZOFFSETTO:-0600
TZNAME:CST
DTSTART:20241103T070000
END:STANDARD
END:VTIMEZONE
BEGIN:VEVENT
DTSTART;TZID=America/Chicago:20231113T091500
DTEND;TZID=America/Chicago:20231113T094500
DTSTAMP:20260422T145230
CREATED:20231011T023525Z
LAST-MODIFIED:20231018T193108Z
UID:10003560-1699866900-1699868700@www.weliahealth.org
SUMMARY:Wellbeats - Zumba Class
DESCRIPTION:Join a free Wellbeats fitness class at Welia Center!  \n\n\n\nOct Wellbeats Calendar 2023Download\n\n\n\nNov Wellbeats Calendar 2023Download\n\n\n\nDec Wellbeats Calendar 2023Download
URL:https://www.weliahealth.org/event/wellbeats-zumba-class-5/2023-11-13/
LOCATION:Welia Center: Fitness & Community Room\, 200 N 9th St\, Mora\, MN\, 55051-1147\, United States
CATEGORIES:Caravan
ATTACH;FMTTYPE=image/jpeg:https://www.weliahealth.org/wp-content/uploads/2023/05/Wellbeats-Zumba-430x200-1.jpg
END:VEVENT
BEGIN:VEVENT
DTSTART;TZID=America/Chicago:20231114T160000
DTEND;TZID=America/Chicago:20231114T163000
DTSTAMP:20260422T145230
CREATED:20230912T204120Z
LAST-MODIFIED:20231018T193803Z
UID:10003597-1699977600-1699979400@www.weliahealth.org
SUMMARY:Open Studio
DESCRIPTION:Come check out the classroom at Welia Center! Come to stretch\, do your own workout\, or try a free Wellbeats class! \n\n\n\nOct Wellbeats Calendar 2023Download\n\n\n\nNov Wellbeats Calendar 2023Download\n\n\n\nDec Wellbeats Calendar 2023Download
URL:https://www.weliahealth.org/event/open-studio-11/2023-11-14/
LOCATION:Welia Center: Fitness & Community Room\, 200 N 9th St\, Mora\, MN\, 55051-1147\, United States
CATEGORIES:Caravan
ATTACH;FMTTYPE=image/jpeg:https://www.weliahealth.org/wp-content/uploads/2021/04/Generic-class-480x200-1.jpg
END:VEVENT
BEGIN:VEVENT
DTSTART;TZID=America/Chicago:20231114T170000
DTEND;TZID=America/Chicago:20231114T190000
DTSTAMP:20260422T145230
CREATED:20230317T163042Z
LAST-MODIFIED:20230317T163043Z
UID:10001668-1699981200-1699988400@www.weliahealth.org
SUMMARY:Prenatal Education Classes\, Mora
DESCRIPTION:Congratulations!\nPregnancy—what an exciting and emotional time! Welia Health’s prenatal classes have been designed to prepare you for pregnancy\, labor and caring for your newborn. Learn more about the topics to be covered during this four-part series. \nClasses are available in Mora. They begin on the first Tuesday of the month and meet weekly for four weeks from 5–7pm. \n2023 Prenatal Classes \n\nFebruary 7\, 14\, 21 and 28\nMay 2\, 9\, 16\, and 23 \nAugust 1\, 8\, 15 and 22\nNovember 7\, 14\, 21 and 28\n\nFor more information\, please get in touch with Welia Health at 320.225.3528. \nRegistration for this free series is required. \n[contact-form-7 id=”19337″ title=”Prenatal Class”]
URL:https://www.weliahealth.org/event/prenatal-education-classes-mora-5/2023-11-14/
CATEGORIES:Classes,Prenatal
ATTACH;FMTTYPE=image/jpeg:https://www.weliahealth.org/wp-content/uploads/2018/12/Prenatal-Class-430x200.jpg
END:VEVENT
BEGIN:VEVENT
DTSTART;TZID=America/Chicago:20231116T160000
DTEND;TZID=America/Chicago:20231116T163000
DTSTAMP:20260422T145230
CREATED:20230912T204120Z
LAST-MODIFIED:20231018T193803Z
UID:10003598-1700150400-1700152200@www.weliahealth.org
SUMMARY:Open Studio
DESCRIPTION:Come check out the classroom at Welia Center! Come to stretch\, do your own workout\, or try a free Wellbeats class! \n\n\n\nOct Wellbeats Calendar 2023Download\n\n\n\nNov Wellbeats Calendar 2023Download\n\n\n\nDec Wellbeats Calendar 2023Download
URL:https://www.weliahealth.org/event/open-studio-11/2023-11-16/
LOCATION:Welia Center: Fitness & Community Room\, 200 N 9th St\, Mora\, MN\, 55051-1147\, United States
CATEGORIES:Caravan
ATTACH;FMTTYPE=image/jpeg:https://www.weliahealth.org/wp-content/uploads/2021/04/Generic-class-480x200-1.jpg
END:VEVENT
BEGIN:VEVENT
DTSTART;TZID=America/Chicago:20231117T083000
DTEND;TZID=America/Chicago:20231117T140000
DTSTAMP:20260422T145230
CREATED:20231106T151153Z
LAST-MODIFIED:20231106T151155Z
UID:10000809-1700209800-1700229600@www.weliahealth.org
SUMMARY:CPR\, AED and First Aid Class
DESCRIPTION:CPR\, AED and first aid training presented by the American Heart Association\n\n\n\n\n\nDesigned for employee training for companies\, corporations\, businesses or other entities. \n\n\n\nLearn about: \n\n\n\nAdult/child/infant choking CPR with/without mask Use of an automated external defibrillation (AED) and may include Adult First Aid (general principles\, medical emergencies\, injury emergencies\, and environmental emergencies)\n\n\n\nCard received: Heartsaver CPR\, AED and first aid course completion card
URL:https://www.weliahealth.org/event/cpr-aed-and-first-aid-class/
LOCATION:Welia Health–Mora: Classroom\, 301 MN-65\, Mora\, MN\, 55051\, United States
CATEGORIES:First Aid CPR AED Course
ATTACH;FMTTYPE=image/jpeg:https://www.weliahealth.org/wp-content/uploads/2020/01/CPR-430x200.jpg
ORGANIZER;CN="Health and Wellness Coordinator":MAILTO:wellnesscenter@WeliaHealth.org
END:VEVENT
END:VCALENDAR