BEGIN:VCALENDAR
VERSION:2.0
PRODID:-//Welia Health - ECPv6.15.20//NONSGML v1.0//EN
CALSCALE:GREGORIAN
METHOD:PUBLISH
X-WR-CALNAME:Welia Health
X-ORIGINAL-URL:https://www.weliahealth.org
X-WR-CALDESC:Events for Welia Health
REFRESH-INTERVAL;VALUE=DURATION:PT1H
X-Robots-Tag:noindex
X-PUBLISHED-TTL:PT1H
BEGIN:VTIMEZONE
TZID:America/Chicago
BEGIN:DAYLIGHT
TZOFFSETFROM:-0600
TZOFFSETTO:-0500
TZNAME:CDT
DTSTART:20220313T080000
END:DAYLIGHT
BEGIN:STANDARD
TZOFFSETFROM:-0500
TZOFFSETTO:-0600
TZNAME:CST
DTSTART:20221106T070000
END:STANDARD
BEGIN:DAYLIGHT
TZOFFSETFROM:-0600
TZOFFSETTO:-0500
TZNAME:CDT
DTSTART:20230312T080000
END:DAYLIGHT
BEGIN:STANDARD
TZOFFSETFROM:-0500
TZOFFSETTO:-0600
TZNAME:CST
DTSTART:20231105T070000
END:STANDARD
BEGIN:DAYLIGHT
TZOFFSETFROM:-0600
TZOFFSETTO:-0500
TZNAME:CDT
DTSTART:20240310T080000
END:DAYLIGHT
BEGIN:STANDARD
TZOFFSETFROM:-0500
TZOFFSETTO:-0600
TZNAME:CST
DTSTART:20241103T070000
END:STANDARD
END:VTIMEZONE
BEGIN:VEVENT
DTSTART;TZID=America/Chicago:20230814T083000
DTEND;TZID=America/Chicago:20230814T090500
DTSTAMP:20260420T030048
CREATED:20230626T145228Z
LAST-MODIFIED:20230626T145231Z
UID:10002073-1692001800-1692003900@www.weliahealth.org
SUMMARY:Wellbeats - Silver & Fit
DESCRIPTION:Join a free Wellbeats fitness class at Welia Center! \n\n\n\nThis class is for the active\, athletic older adult\, looking for a challenging free-standing workout. Increase heart health\, muscle endurance\, strength\, mobility and balance.
URL:https://www.weliahealth.org/event/wellbeats-silver-fit-13/2023-08-14/
LOCATION:Welia Center: Fitness & Community Room\, 200 N 9th St\, Mora\, MN\, 55051-1147\, United States
CATEGORIES:Caravan
ATTACH;FMTTYPE=image/jpeg:https://www.weliahealth.org/wp-content/uploads/2021/04/Silver-fit-480x200-1.jpg
END:VEVENT
BEGIN:VEVENT
DTSTART;TZID=America/Chicago:20230814T091500
DTEND;TZID=America/Chicago:20230814T100000
DTSTAMP:20260420T030048
CREATED:20230626T145935Z
LAST-MODIFIED:20230626T145937Z
UID:10002098-1692004500-1692007200@www.weliahealth.org
SUMMARY:Wellbeats - HIIT Class
DESCRIPTION:Join a free Wellbeats fitness class at Welia Center! \n\n\n\nTrain your body with a blend of HIIT (high intensity interval training)\, weight training\, and cardio. Fire up your metabolism in these quick-moving\, total-body workouts!
URL:https://www.weliahealth.org/event/wellbeats-hiit-class-11/2023-08-14/
LOCATION:Welia Center: Fitness & Community Room\, 200 N 9th St\, Mora\, MN\, 55051-1147\, United States
CATEGORIES:Caravan
ATTACH;FMTTYPE=image/jpeg:https://www.weliahealth.org/wp-content/uploads/2021/04/Generic-class-480x200-1.jpg
END:VEVENT
BEGIN:VEVENT
DTSTART;TZID=America/Chicago:20230814T094500
DTEND;TZID=America/Chicago:20230814T101500
DTSTAMP:20260420T030048
CREATED:20230626T151128Z
LAST-MODIFIED:20231018T212419Z
UID:10002135-1692006300-1692008100@www.weliahealth.org
SUMMARY:Open Studio
DESCRIPTION:Come check out the classroom at Welia Center! Come to stretch\, do your own workout\, or try a free Wellbeats class!
URL:https://www.weliahealth.org/event/open-studio-8/2023-08-14/
LOCATION:Welia Center: Fitness & Community Room\, 200 N 9th St\, Mora\, MN\, 55051-1147\, United States
CATEGORIES:Caravan
ATTACH;FMTTYPE=image/jpeg:https://www.weliahealth.org/wp-content/uploads/2021/04/Generic-class-480x200-1.jpg
END:VEVENT
BEGIN:VEVENT
DTSTART;TZID=America/Chicago:20230814T160000
DTEND;TZID=America/Chicago:20230814T163000
DTSTAMP:20260420T030048
CREATED:20230626T154444Z
LAST-MODIFIED:20230626T154446Z
UID:10002162-1692028800-1692030600@www.weliahealth.org
SUMMARY:Wellbeats - Spin Class
DESCRIPTION:Join a free Wellbeats fitness class at Welia Center!  \n\n\n\nTry an indoor cycling cardio class that involves different combinations of sitting or standing\, leg speed (revolutions per minutes) and resistance. \n\n\n\nThere are six spin bikes available per class.
URL:https://www.weliahealth.org/event/wellbeats-spin-class-14/2023-08-14/
LOCATION:Welia Center: Fitness & Community Room\, 200 N 9th St\, Mora\, MN\, 55051-1147\, United States
CATEGORIES:Caravan
ATTACH;FMTTYPE=image/jpeg:https://www.weliahealth.org/wp-content/uploads/2021/04/spin-class-480x200-1.jpg
END:VEVENT
BEGIN:VEVENT
DTSTART;TZID=America/Chicago:20230814T170000
DTEND;TZID=America/Chicago:20230814T173000
DTSTAMP:20260420T030048
CREATED:20230626T155113Z
LAST-MODIFIED:20230626T155115Z
UID:10002200-1692032400-1692034200@www.weliahealth.org
SUMMARY:Open Studio
DESCRIPTION:Come check out the classroom at Welia Center! Come to stretch\, do your own workout\, or try a free Wellbeats class!
URL:https://www.weliahealth.org/event/open-studio-9/2023-08-14/
LOCATION:Welia Center: Fitness & Community Room\, 200 N 9th St\, Mora\, MN\, 55051-1147\, United States
CATEGORIES:Caravan
ATTACH;FMTTYPE=image/jpeg:https://www.weliahealth.org/wp-content/uploads/2021/04/Generic-class-480x200-1.jpg
END:VEVENT
BEGIN:VEVENT
DTSTART;TZID=America/Chicago:20230814T180000
DTEND;TZID=America/Chicago:20230814T183500
DTSTAMP:20260420T030048
CREATED:20230626T155626Z
LAST-MODIFIED:20230626T155629Z
UID:10002221-1692036000-1692038100@www.weliahealth.org
SUMMARY:Wellbeats - Yoga Class
DESCRIPTION:Join us for a free Wellbeats fitness class at Welia Center! \n\n\n\nDiscover a unique fusion of yoga and Pilates. Improve your mind-body connection while building stronger\, leaner muscles. \n\n\n\nJuly Wellbeats CalendarDownload\n\n\n\nJuly Wellbeats Class DescriptionDownload
URL:https://www.weliahealth.org/event/wellbeats-yoga-class-9/2023-08-14/
LOCATION:Welia Center: Fitness & Community Room\, 200 N 9th St\, Mora\, MN\, 55051-1147\, United States
CATEGORIES:Caravan
ATTACH;FMTTYPE=image/png:https://www.weliahealth.org/wp-content/uploads/2021/12/yoga-class.png
END:VEVENT
BEGIN:VEVENT
DTSTART;TZID=America/Chicago:20230815T083000
DTEND;TZID=America/Chicago:20230815T090000
DTSTAMP:20260420T030048
CREATED:20230626T175521Z
LAST-MODIFIED:20230626T175523Z
UID:10002260-1692088200-1692090000@www.weliahealth.org
SUMMARY:Wellbeats - Yoga Class
DESCRIPTION:Join us for a free Wellbeats fitness class at Welia Center! \n\n\n\nDiscover a unique fusion of yoga and Pilates. Improve your mind-body connection while building stronger\, leaner muscles. \n\n\n\nJuly Wellbeats CalendarDownload\n\n\n\nJuly Wellbeats Class DescriptionDownload
URL:https://www.weliahealth.org/event/wellbeats-yoga-class-10/2023-08-15/
LOCATION:Welia Center: Fitness & Community Room\, 200 N 9th St\, Mora\, MN\, 55051-1147\, United States
CATEGORIES:Caravan
ATTACH;FMTTYPE=image/png:https://www.weliahealth.org/wp-content/uploads/2021/12/yoga-class.png
END:VEVENT
BEGIN:VEVENT
DTSTART;TZID=America/Chicago:20230815T091500
DTEND;TZID=America/Chicago:20230815T094500
DTSTAMP:20260420T030048
CREATED:20230626T180111Z
LAST-MODIFIED:20230626T180243Z
UID:10002284-1692090900-1692092700@www.weliahealth.org
SUMMARY:Wellbeats - Zumba Class
DESCRIPTION:Join a free Wellbeats fitness class at Welia Center!
URL:https://www.weliahealth.org/event/wellbeats-zumba-class-3/2023-08-15/
LOCATION:Welia Center: Fitness & Community Room\, 200 N 9th St\, Mora\, MN\, 55051-1147\, United States
CATEGORIES:Caravan
ATTACH;FMTTYPE=image/jpeg:https://www.weliahealth.org/wp-content/uploads/2023/05/Wellbeats-Zumba-430x200-1.jpg
END:VEVENT
BEGIN:VEVENT
DTSTART;TZID=America/Chicago:20230815T153000
DTEND;TZID=America/Chicago:20230815T155000
DTSTAMP:20260420T030048
CREATED:20230626T183322Z
LAST-MODIFIED:20230626T183323Z
UID:10002339-1692113400-1692114600@www.weliahealth.org
SUMMARY:Pilates Wellbeats Class
DESCRIPTION:Join a free Wellbeats fitness class at Welia Center! \n\n\n\nLow-impact on the joints and uses controlled movements\, with primary focus on the core to build strength\, flexibility and endurance in a full body workout. \n\n\n\nAugust Wellbeats CalendarDownload
URL:https://www.weliahealth.org/event/pilates-wellbeats-class-4/2023-08-15/
LOCATION:Welia Center\, 200 N 9th St\, Mora\, MN\, 55051-1147\, United States
CATEGORIES:Classes
ATTACH;FMTTYPE=image/jpeg:https://www.weliahealth.org/wp-content/uploads/2021/04/Generic-class-480x200-1.jpg
END:VEVENT
BEGIN:VEVENT
DTSTART;TZID=America/Chicago:20230815T160000
DTEND;TZID=America/Chicago:20230815T163000
DTSTAMP:20260420T030048
CREATED:20230626T181551Z
LAST-MODIFIED:20230626T183835Z
UID:10002356-1692115200-1692117000@www.weliahealth.org
SUMMARY:Open Studio
DESCRIPTION:Come check out the classroom at Welia Center! Come to stretch\, do your own workout\, or try a free Wellbeats class!
URL:https://www.weliahealth.org/event/open-studio-10/2023-08-15/
LOCATION:Welia Center: Fitness & Community Room\, 200 N 9th St\, Mora\, MN\, 55051-1147\, United States
CATEGORIES:Caravan
ATTACH;FMTTYPE=image/jpeg:https://www.weliahealth.org/wp-content/uploads/2021/04/Generic-class-480x200-1.jpg
END:VEVENT
BEGIN:VEVENT
DTSTART;TZID=America/Chicago:20230815T170000
DTEND;TZID=America/Chicago:20230815T190000
DTSTAMP:20260420T030048
CREATED:20230317T163600Z
LAST-MODIFIED:20230317T163602Z
UID:10001675-1692118800-1692126000@www.weliahealth.org
SUMMARY:Prenatal Education Classes\, Mora
DESCRIPTION:Congratulations!\nPregnancy—what an exciting and emotional time! Welia Health’s prenatal classes have been designed to prepare you for pregnancy\, labor and caring for your newborn. Learn more about the topics to be covered during this four-part series. \nClasses are available in Mora. They begin on the first Tuesday of the month and meet weekly for four weeks from 5–7pm. \n2023 Prenatal Classes \n\nFebruary 7\, 14\, 21 and 28\nMay 2\, 9\, 16\, and 23 \nAugust 1\, 8\, 15 and 22\nNovember 7\, 14\, 21 and 28\n\nFor more information\, please get in touch with Welia Health at 320.225.3528. \nRegistration for this free series is required. \n[contact-form-7 id=”19337″ title=”Prenatal Class”]
URL:https://www.weliahealth.org/event/prenatal-education-classes-mora-3/2023-08-15/
CATEGORIES:Classes,Prenatal
ATTACH;FMTTYPE=image/jpeg:https://www.weliahealth.org/wp-content/uploads/2018/12/Prenatal-Class-430x200.jpg
END:VEVENT
BEGIN:VEVENT
DTSTART;TZID=America/Chicago:20230816T083000
DTEND;TZID=America/Chicago:20230816T090500
DTSTAMP:20260420T030048
CREATED:20230626T145228Z
LAST-MODIFIED:20230626T145231Z
UID:10002074-1692174600-1692176700@www.weliahealth.org
SUMMARY:Wellbeats - Silver & Fit
DESCRIPTION:Join a free Wellbeats fitness class at Welia Center! \n\n\n\nThis class is for the active\, athletic older adult\, looking for a challenging free-standing workout. Increase heart health\, muscle endurance\, strength\, mobility and balance.
URL:https://www.weliahealth.org/event/wellbeats-silver-fit-13/2023-08-16/
LOCATION:Welia Center: Fitness & Community Room\, 200 N 9th St\, Mora\, MN\, 55051-1147\, United States
CATEGORIES:Caravan
ATTACH;FMTTYPE=image/jpeg:https://www.weliahealth.org/wp-content/uploads/2021/04/Silver-fit-480x200-1.jpg
END:VEVENT
BEGIN:VEVENT
DTSTART;TZID=America/Chicago:20230816T091500
DTEND;TZID=America/Chicago:20230816T100000
DTSTAMP:20260420T030048
CREATED:20230626T145935Z
LAST-MODIFIED:20230626T145937Z
UID:10002099-1692177300-1692180000@www.weliahealth.org
SUMMARY:Wellbeats - HIIT Class
DESCRIPTION:Join a free Wellbeats fitness class at Welia Center! \n\n\n\nTrain your body with a blend of HIIT (high intensity interval training)\, weight training\, and cardio. Fire up your metabolism in these quick-moving\, total-body workouts!
URL:https://www.weliahealth.org/event/wellbeats-hiit-class-11/2023-08-16/
LOCATION:Welia Center: Fitness & Community Room\, 200 N 9th St\, Mora\, MN\, 55051-1147\, United States
CATEGORIES:Caravan
ATTACH;FMTTYPE=image/jpeg:https://www.weliahealth.org/wp-content/uploads/2021/04/Generic-class-480x200-1.jpg
END:VEVENT
BEGIN:VEVENT
DTSTART;TZID=America/Chicago:20230816T094500
DTEND;TZID=America/Chicago:20230816T101500
DTSTAMP:20260420T030048
CREATED:20230626T151128Z
LAST-MODIFIED:20231018T212419Z
UID:10002136-1692179100-1692180900@www.weliahealth.org
SUMMARY:Open Studio
DESCRIPTION:Come check out the classroom at Welia Center! Come to stretch\, do your own workout\, or try a free Wellbeats class!
URL:https://www.weliahealth.org/event/open-studio-8/2023-08-16/
LOCATION:Welia Center: Fitness & Community Room\, 200 N 9th St\, Mora\, MN\, 55051-1147\, United States
CATEGORIES:Caravan
ATTACH;FMTTYPE=image/jpeg:https://www.weliahealth.org/wp-content/uploads/2021/04/Generic-class-480x200-1.jpg
END:VEVENT
BEGIN:VEVENT
DTSTART;TZID=America/Chicago:20230816T160000
DTEND;TZID=America/Chicago:20230816T163000
DTSTAMP:20260420T030048
CREATED:20230626T154444Z
LAST-MODIFIED:20230626T154446Z
UID:10002163-1692201600-1692203400@www.weliahealth.org
SUMMARY:Wellbeats - Spin Class
DESCRIPTION:Join a free Wellbeats fitness class at Welia Center!  \n\n\n\nTry an indoor cycling cardio class that involves different combinations of sitting or standing\, leg speed (revolutions per minutes) and resistance. \n\n\n\nThere are six spin bikes available per class.
URL:https://www.weliahealth.org/event/wellbeats-spin-class-14/2023-08-16/
LOCATION:Welia Center: Fitness & Community Room\, 200 N 9th St\, Mora\, MN\, 55051-1147\, United States
CATEGORIES:Caravan
ATTACH;FMTTYPE=image/jpeg:https://www.weliahealth.org/wp-content/uploads/2021/04/spin-class-480x200-1.jpg
END:VEVENT
BEGIN:VEVENT
DTSTART;TZID=America/Chicago:20230816T170000
DTEND;TZID=America/Chicago:20230816T173000
DTSTAMP:20260420T030048
CREATED:20230626T155113Z
LAST-MODIFIED:20230626T155115Z
UID:10002201-1692205200-1692207000@www.weliahealth.org
SUMMARY:Open Studio
DESCRIPTION:Come check out the classroom at Welia Center! Come to stretch\, do your own workout\, or try a free Wellbeats class!
URL:https://www.weliahealth.org/event/open-studio-9/2023-08-16/
LOCATION:Welia Center: Fitness & Community Room\, 200 N 9th St\, Mora\, MN\, 55051-1147\, United States
CATEGORIES:Caravan
ATTACH;FMTTYPE=image/jpeg:https://www.weliahealth.org/wp-content/uploads/2021/04/Generic-class-480x200-1.jpg
END:VEVENT
BEGIN:VEVENT
DTSTART;TZID=America/Chicago:20230816T180000
DTEND;TZID=America/Chicago:20230816T183500
DTSTAMP:20260420T030048
CREATED:20230626T155626Z
LAST-MODIFIED:20230626T155629Z
UID:10002222-1692208800-1692210900@www.weliahealth.org
SUMMARY:Wellbeats - Yoga Class
DESCRIPTION:Join us for a free Wellbeats fitness class at Welia Center! \n\n\n\nDiscover a unique fusion of yoga and Pilates. Improve your mind-body connection while building stronger\, leaner muscles. \n\n\n\nJuly Wellbeats CalendarDownload\n\n\n\nJuly Wellbeats Class DescriptionDownload
URL:https://www.weliahealth.org/event/wellbeats-yoga-class-9/2023-08-16/
LOCATION:Welia Center: Fitness & Community Room\, 200 N 9th St\, Mora\, MN\, 55051-1147\, United States
CATEGORIES:Caravan
ATTACH;FMTTYPE=image/png:https://www.weliahealth.org/wp-content/uploads/2021/12/yoga-class.png
END:VEVENT
BEGIN:VEVENT
DTSTART;TZID=America/Chicago:20230817T083000
DTEND;TZID=America/Chicago:20230817T090000
DTSTAMP:20260420T030048
CREATED:20230626T175521Z
LAST-MODIFIED:20230626T175523Z
UID:10002261-1692261000-1692262800@www.weliahealth.org
SUMMARY:Wellbeats - Yoga Class
DESCRIPTION:Join us for a free Wellbeats fitness class at Welia Center! \n\n\n\nDiscover a unique fusion of yoga and Pilates. Improve your mind-body connection while building stronger\, leaner muscles. \n\n\n\nJuly Wellbeats CalendarDownload\n\n\n\nJuly Wellbeats Class DescriptionDownload
URL:https://www.weliahealth.org/event/wellbeats-yoga-class-10/2023-08-17/
LOCATION:Welia Center: Fitness & Community Room\, 200 N 9th St\, Mora\, MN\, 55051-1147\, United States
CATEGORIES:Caravan
ATTACH;FMTTYPE=image/png:https://www.weliahealth.org/wp-content/uploads/2021/12/yoga-class.png
END:VEVENT
BEGIN:VEVENT
DTSTART;TZID=America/Chicago:20230817T091500
DTEND;TZID=America/Chicago:20230817T094500
DTSTAMP:20260420T030048
CREATED:20230626T180111Z
LAST-MODIFIED:20230626T180243Z
UID:10002285-1692263700-1692265500@www.weliahealth.org
SUMMARY:Wellbeats - Zumba Class
DESCRIPTION:Join a free Wellbeats fitness class at Welia Center!
URL:https://www.weliahealth.org/event/wellbeats-zumba-class-3/2023-08-17/
LOCATION:Welia Center: Fitness & Community Room\, 200 N 9th St\, Mora\, MN\, 55051-1147\, United States
CATEGORIES:Caravan
ATTACH;FMTTYPE=image/jpeg:https://www.weliahealth.org/wp-content/uploads/2023/05/Wellbeats-Zumba-430x200-1.jpg
END:VEVENT
BEGIN:VEVENT
DTSTART;TZID=America/Chicago:20230817T153000
DTEND;TZID=America/Chicago:20230817T155000
DTSTAMP:20260420T030048
CREATED:20230626T183322Z
LAST-MODIFIED:20230626T183323Z
UID:10002340-1692286200-1692287400@www.weliahealth.org
SUMMARY:Pilates Wellbeats Class
DESCRIPTION:Join a free Wellbeats fitness class at Welia Center! \n\n\n\nLow-impact on the joints and uses controlled movements\, with primary focus on the core to build strength\, flexibility and endurance in a full body workout. \n\n\n\nAugust Wellbeats CalendarDownload
URL:https://www.weliahealth.org/event/pilates-wellbeats-class-4/2023-08-17/
LOCATION:Welia Center\, 200 N 9th St\, Mora\, MN\, 55051-1147\, United States
CATEGORIES:Classes
ATTACH;FMTTYPE=image/jpeg:https://www.weliahealth.org/wp-content/uploads/2021/04/Generic-class-480x200-1.jpg
END:VEVENT
BEGIN:VEVENT
DTSTART;TZID=America/Chicago:20230817T160000
DTEND;TZID=America/Chicago:20230817T160000
DTSTAMP:20260420T030048
CREATED:20230622T153432Z
LAST-MODIFIED:20250703T165311Z
UID:10002039-1692288000-1692288000@www.weliahealth.org
SUMMARY:Mora Rocks The Parks- Cops\, Cones & K-9 RIP
DESCRIPTION:All ages are welcome to enjoy ice cream with our local law enforcement partners. Plus a demonstration from K-9 RIP at 5pm!
URL:https://www.weliahealth.org/event/mora-rocks-the-parks-cops-cones-k-9-rip/
LOCATION:Library Park\, 210 Maple Ave W\, Mora\, MN\, 55051\, United States
CATEGORIES:Community Events
END:VEVENT
BEGIN:VEVENT
DTSTART;TZID=America/Chicago:20230817T160000
DTEND;TZID=America/Chicago:20230817T163000
DTSTAMP:20260420T030048
CREATED:20230626T181551Z
LAST-MODIFIED:20230626T183835Z
UID:10002357-1692288000-1692289800@www.weliahealth.org
SUMMARY:Open Studio
DESCRIPTION:Come check out the classroom at Welia Center! Come to stretch\, do your own workout\, or try a free Wellbeats class!
URL:https://www.weliahealth.org/event/open-studio-10/2023-08-17/
LOCATION:Welia Center: Fitness & Community Room\, 200 N 9th St\, Mora\, MN\, 55051-1147\, United States
CATEGORIES:Caravan
ATTACH;FMTTYPE=image/jpeg:https://www.weliahealth.org/wp-content/uploads/2021/04/Generic-class-480x200-1.jpg
END:VEVENT
BEGIN:VEVENT
DTSTART;TZID=America/Chicago:20230818T073000
DTEND;TZID=America/Chicago:20230818T080000
DTSTAMP:20260420T030048
CREATED:20230626T185834Z
LAST-MODIFIED:20230626T185836Z
UID:10002386-1692343800-1692345600@www.weliahealth.org
SUMMARY:Wellbeats - Spin Class
DESCRIPTION:Join a free Wellbeats fitness class at Welia Center!  \n\n\n\nTry an indoor cycling cardio class that involves different combinations of sitting or standing\, leg speed (revolutions per minutes) and resistance. \n\n\n\nThere are six spin bikes available per class.
URL:https://www.weliahealth.org/event/wellbeats-spin-class-15/2023-08-18/
LOCATION:Welia Center: Fitness & Community Room\, 200 N 9th St\, Mora\, MN\, 55051-1147\, United States
CATEGORIES:Caravan
ATTACH;FMTTYPE=image/jpeg:https://www.weliahealth.org/wp-content/uploads/2021/04/spin-class-480x200-1.jpg
END:VEVENT
BEGIN:VEVENT
DTSTART;TZID=America/Chicago:20230818T083000
DTEND;TZID=America/Chicago:20230818T130000
DTSTAMP:20260420T030048
CREATED:20230124T225432Z
LAST-MODIFIED:20231106T151116Z
UID:10000806-1692347400-1692363600@www.weliahealth.org
SUMMARY:CPR\, AED and First Aid Class
DESCRIPTION:CPR\, AED and first aid training presented by the American Heart Association\n\n\n\n\n\nDesigned for employee training for companies\, corporations\, businesses or other entities. \n\n\n\nLearn about: \n\n\n\nAdult/child/infant choking CPR with/without mask Use of an automated external defibrillation (AED) and may include Adult First Aid (general principles\, medical emergencies\, injury emergencies\, and environmental emergencies)\n\n\n\nCard received:  \n\n\n\nHeartsaver CPR\, AED and first aid course completion card  \n\n\n\n[contact-form-7 id=”31686″ title=”CPR Class”]
URL:https://www.weliahealth.org/event/cpr-aed-and-fa-classes/2023-08-18/
LOCATION:Welia Health–Mora: Classroom\, 301 MN-65\, Mora\, MN\, 55051\, United States
CATEGORIES:First Aid CPR AED Course
ATTACH;FMTTYPE=image/jpeg:https://www.weliahealth.org/wp-content/uploads/2020/01/CPR-430x200.jpg
ORGANIZER;CN="Health and Wellness Coordinator":MAILTO:wellnesscenter@WeliaHealth.org
END:VEVENT
END:VCALENDAR