BEGIN:VCALENDAR
VERSION:2.0
PRODID:-//Welia Health - ECPv6.15.20//NONSGML v1.0//EN
CALSCALE:GREGORIAN
METHOD:PUBLISH
X-ORIGINAL-URL:https://www.weliahealth.org
X-WR-CALDESC:Events for Welia Health
REFRESH-INTERVAL;VALUE=DURATION:PT1H
X-Robots-Tag:noindex
X-PUBLISHED-TTL:PT1H
BEGIN:VTIMEZONE
TZID:America/Chicago
BEGIN:DAYLIGHT
TZOFFSETFROM:-0600
TZOFFSETTO:-0500
TZNAME:CDT
DTSTART:20230312T080000
END:DAYLIGHT
BEGIN:STANDARD
TZOFFSETFROM:-0500
TZOFFSETTO:-0600
TZNAME:CST
DTSTART:20231105T070000
END:STANDARD
BEGIN:DAYLIGHT
TZOFFSETFROM:-0600
TZOFFSETTO:-0500
TZNAME:CDT
DTSTART:20240310T080000
END:DAYLIGHT
BEGIN:STANDARD
TZOFFSETFROM:-0500
TZOFFSETTO:-0600
TZNAME:CST
DTSTART:20241103T070000
END:STANDARD
BEGIN:DAYLIGHT
TZOFFSETFROM:-0600
TZOFFSETTO:-0500
TZNAME:CDT
DTSTART:20250309T080000
END:DAYLIGHT
BEGIN:STANDARD
TZOFFSETFROM:-0500
TZOFFSETTO:-0600
TZNAME:CST
DTSTART:20251102T070000
END:STANDARD
END:VTIMEZONE
BEGIN:VEVENT
DTSTART;TZID=America/Chicago:20240904T081500
DTEND;TZID=America/Chicago:20240904T210500
DTSTAMP:20260419T155002
CREATED:20240229T143034Z
LAST-MODIFIED:20240229T143037Z
UID:10004407-1725437700-1725483900@www.weliahealth.org
SUMMARY:Cardio Class
DESCRIPTION:The classes in this category may focus on building strength\, burning fat or working up a sweat\, but what is sure to be true is they all will get your heart rate up!
URL:https://www.weliahealth.org/event/heart-healthy-class-2/2024-09-04/
LOCATION:Welia Center\, 200 N 9th St\, Mora\, MN\, 55051-1147\, United States
CATEGORIES:Caravan
ATTACH;FMTTYPE=image/jpeg:https://www.weliahealth.org/wp-content/uploads/2022/05/blog-ortho-may-2022.jpg
END:VEVENT
BEGIN:VEVENT
DTSTART;TZID=America/Chicago:20240902T081500
DTEND;TZID=America/Chicago:20240902T210500
DTSTAMP:20260419T155002
CREATED:20240229T143034Z
LAST-MODIFIED:20240229T143037Z
UID:10004406-1725264900-1725311100@www.weliahealth.org
SUMMARY:Cardio Class
DESCRIPTION:The classes in this category may focus on building strength\, burning fat or working up a sweat\, but what is sure to be true is they all will get your heart rate up!
URL:https://www.weliahealth.org/event/heart-healthy-class-2/2024-09-02/
LOCATION:Welia Center\, 200 N 9th St\, Mora\, MN\, 55051-1147\, United States
CATEGORIES:Caravan
ATTACH;FMTTYPE=image/jpeg:https://www.weliahealth.org/wp-content/uploads/2022/05/blog-ortho-may-2022.jpg
END:VEVENT
BEGIN:VEVENT
DTSTART;TZID=America/Chicago:20240828T081500
DTEND;TZID=America/Chicago:20240828T210500
DTSTAMP:20260419T155002
CREATED:20240229T143034Z
LAST-MODIFIED:20240229T143037Z
UID:10004405-1724832900-1724879100@www.weliahealth.org
SUMMARY:Cardio Class
DESCRIPTION:The classes in this category may focus on building strength\, burning fat or working up a sweat\, but what is sure to be true is they all will get your heart rate up!
URL:https://www.weliahealth.org/event/heart-healthy-class-2/2024-08-28/
LOCATION:Welia Center\, 200 N 9th St\, Mora\, MN\, 55051-1147\, United States
CATEGORIES:Caravan
ATTACH;FMTTYPE=image/jpeg:https://www.weliahealth.org/wp-content/uploads/2022/05/blog-ortho-may-2022.jpg
END:VEVENT
BEGIN:VEVENT
DTSTART;TZID=America/Chicago:20240826T081500
DTEND;TZID=America/Chicago:20240826T210500
DTSTAMP:20260419T155002
CREATED:20240229T143034Z
LAST-MODIFIED:20240229T143037Z
UID:10004404-1724660100-1724706300@www.weliahealth.org
SUMMARY:Cardio Class
DESCRIPTION:The classes in this category may focus on building strength\, burning fat or working up a sweat\, but what is sure to be true is they all will get your heart rate up!
URL:https://www.weliahealth.org/event/heart-healthy-class-2/2024-08-26/
LOCATION:Welia Center\, 200 N 9th St\, Mora\, MN\, 55051-1147\, United States
CATEGORIES:Caravan
ATTACH;FMTTYPE=image/jpeg:https://www.weliahealth.org/wp-content/uploads/2022/05/blog-ortho-may-2022.jpg
END:VEVENT
BEGIN:VEVENT
DTSTART;TZID=America/Chicago:20240821T081500
DTEND;TZID=America/Chicago:20240821T210500
DTSTAMP:20260419T155002
CREATED:20240229T143034Z
LAST-MODIFIED:20240229T143037Z
UID:10004403-1724228100-1724274300@www.weliahealth.org
SUMMARY:Cardio Class
DESCRIPTION:The classes in this category may focus on building strength\, burning fat or working up a sweat\, but what is sure to be true is they all will get your heart rate up!
URL:https://www.weliahealth.org/event/heart-healthy-class-2/2024-08-21/
LOCATION:Welia Center\, 200 N 9th St\, Mora\, MN\, 55051-1147\, United States
CATEGORIES:Caravan
ATTACH;FMTTYPE=image/jpeg:https://www.weliahealth.org/wp-content/uploads/2022/05/blog-ortho-may-2022.jpg
END:VEVENT
BEGIN:VEVENT
DTSTART;TZID=America/Chicago:20240819T081500
DTEND;TZID=America/Chicago:20240819T210500
DTSTAMP:20260419T155002
CREATED:20240229T143034Z
LAST-MODIFIED:20240229T143037Z
UID:10004402-1724055300-1724101500@www.weliahealth.org
SUMMARY:Cardio Class
DESCRIPTION:The classes in this category may focus on building strength\, burning fat or working up a sweat\, but what is sure to be true is they all will get your heart rate up!
URL:https://www.weliahealth.org/event/heart-healthy-class-2/2024-08-19/
LOCATION:Welia Center\, 200 N 9th St\, Mora\, MN\, 55051-1147\, United States
CATEGORIES:Caravan
ATTACH;FMTTYPE=image/jpeg:https://www.weliahealth.org/wp-content/uploads/2022/05/blog-ortho-may-2022.jpg
END:VEVENT
BEGIN:VEVENT
DTSTART;TZID=America/Chicago:20240814T081500
DTEND;TZID=America/Chicago:20240814T210500
DTSTAMP:20260419T155002
CREATED:20240229T143034Z
LAST-MODIFIED:20240229T143037Z
UID:10004401-1723623300-1723669500@www.weliahealth.org
SUMMARY:Cardio Class
DESCRIPTION:The classes in this category may focus on building strength\, burning fat or working up a sweat\, but what is sure to be true is they all will get your heart rate up!
URL:https://www.weliahealth.org/event/heart-healthy-class-2/2024-08-14/
LOCATION:Welia Center\, 200 N 9th St\, Mora\, MN\, 55051-1147\, United States
CATEGORIES:Caravan
ATTACH;FMTTYPE=image/jpeg:https://www.weliahealth.org/wp-content/uploads/2022/05/blog-ortho-may-2022.jpg
END:VEVENT
BEGIN:VEVENT
DTSTART;TZID=America/Chicago:20240812T081500
DTEND;TZID=America/Chicago:20240812T210500
DTSTAMP:20260419T155002
CREATED:20240229T143034Z
LAST-MODIFIED:20240229T143037Z
UID:10004400-1723450500-1723496700@www.weliahealth.org
SUMMARY:Cardio Class
DESCRIPTION:The classes in this category may focus on building strength\, burning fat or working up a sweat\, but what is sure to be true is they all will get your heart rate up!
URL:https://www.weliahealth.org/event/heart-healthy-class-2/2024-08-12/
LOCATION:Welia Center\, 200 N 9th St\, Mora\, MN\, 55051-1147\, United States
CATEGORIES:Caravan
ATTACH;FMTTYPE=image/jpeg:https://www.weliahealth.org/wp-content/uploads/2022/05/blog-ortho-may-2022.jpg
END:VEVENT
BEGIN:VEVENT
DTSTART;TZID=America/Chicago:20240807T081500
DTEND;TZID=America/Chicago:20240807T210500
DTSTAMP:20260419T155002
CREATED:20240229T143034Z
LAST-MODIFIED:20240229T143037Z
UID:10004399-1723018500-1723064700@www.weliahealth.org
SUMMARY:Cardio Class
DESCRIPTION:The classes in this category may focus on building strength\, burning fat or working up a sweat\, but what is sure to be true is they all will get your heart rate up!
URL:https://www.weliahealth.org/event/heart-healthy-class-2/2024-08-07/
LOCATION:Welia Center\, 200 N 9th St\, Mora\, MN\, 55051-1147\, United States
CATEGORIES:Caravan
ATTACH;FMTTYPE=image/jpeg:https://www.weliahealth.org/wp-content/uploads/2022/05/blog-ortho-may-2022.jpg
END:VEVENT
BEGIN:VEVENT
DTSTART;TZID=America/Chicago:20240805T081500
DTEND;TZID=America/Chicago:20240805T210500
DTSTAMP:20260419T155002
CREATED:20240229T143034Z
LAST-MODIFIED:20240229T143037Z
UID:10004398-1722845700-1722891900@www.weliahealth.org
SUMMARY:Cardio Class
DESCRIPTION:The classes in this category may focus on building strength\, burning fat or working up a sweat\, but what is sure to be true is they all will get your heart rate up!
URL:https://www.weliahealth.org/event/heart-healthy-class-2/2024-08-05/
LOCATION:Welia Center\, 200 N 9th St\, Mora\, MN\, 55051-1147\, United States
CATEGORIES:Caravan
ATTACH;FMTTYPE=image/jpeg:https://www.weliahealth.org/wp-content/uploads/2022/05/blog-ortho-may-2022.jpg
END:VEVENT
BEGIN:VEVENT
DTSTART;TZID=America/Chicago:20240731T081500
DTEND;TZID=America/Chicago:20240731T210500
DTSTAMP:20260419T155002
CREATED:20240229T143034Z
LAST-MODIFIED:20240229T143037Z
UID:10004397-1722413700-1722459900@www.weliahealth.org
SUMMARY:Cardio Class
DESCRIPTION:The classes in this category may focus on building strength\, burning fat or working up a sweat\, but what is sure to be true is they all will get your heart rate up!
URL:https://www.weliahealth.org/event/heart-healthy-class-2/2024-07-31/
LOCATION:Welia Center\, 200 N 9th St\, Mora\, MN\, 55051-1147\, United States
CATEGORIES:Caravan
ATTACH;FMTTYPE=image/jpeg:https://www.weliahealth.org/wp-content/uploads/2022/05/blog-ortho-may-2022.jpg
END:VEVENT
BEGIN:VEVENT
DTSTART;TZID=America/Chicago:20240729T081500
DTEND;TZID=America/Chicago:20240729T210500
DTSTAMP:20260419T155002
CREATED:20240229T143034Z
LAST-MODIFIED:20240229T143037Z
UID:10004396-1722240900-1722287100@www.weliahealth.org
SUMMARY:Cardio Class
DESCRIPTION:The classes in this category may focus on building strength\, burning fat or working up a sweat\, but what is sure to be true is they all will get your heart rate up!
URL:https://www.weliahealth.org/event/heart-healthy-class-2/2024-07-29/
LOCATION:Welia Center\, 200 N 9th St\, Mora\, MN\, 55051-1147\, United States
CATEGORIES:Caravan
ATTACH;FMTTYPE=image/jpeg:https://www.weliahealth.org/wp-content/uploads/2022/05/blog-ortho-may-2022.jpg
END:VEVENT
BEGIN:VEVENT
DTSTART;TZID=America/Chicago:20240724T081500
DTEND;TZID=America/Chicago:20240724T210500
DTSTAMP:20260419T155002
CREATED:20240229T143034Z
LAST-MODIFIED:20240229T143037Z
UID:10004395-1721808900-1721855100@www.weliahealth.org
SUMMARY:Cardio Class
DESCRIPTION:The classes in this category may focus on building strength\, burning fat or working up a sweat\, but what is sure to be true is they all will get your heart rate up!
URL:https://www.weliahealth.org/event/heart-healthy-class-2/2024-07-24/
LOCATION:Welia Center\, 200 N 9th St\, Mora\, MN\, 55051-1147\, United States
CATEGORIES:Caravan
ATTACH;FMTTYPE=image/jpeg:https://www.weliahealth.org/wp-content/uploads/2022/05/blog-ortho-may-2022.jpg
END:VEVENT
BEGIN:VEVENT
DTSTART;TZID=America/Chicago:20240722T081500
DTEND;TZID=America/Chicago:20240722T210500
DTSTAMP:20260419T155002
CREATED:20240229T143034Z
LAST-MODIFIED:20240229T143037Z
UID:10004394-1721636100-1721682300@www.weliahealth.org
SUMMARY:Cardio Class
DESCRIPTION:The classes in this category may focus on building strength\, burning fat or working up a sweat\, but what is sure to be true is they all will get your heart rate up!
URL:https://www.weliahealth.org/event/heart-healthy-class-2/2024-07-22/
LOCATION:Welia Center\, 200 N 9th St\, Mora\, MN\, 55051-1147\, United States
CATEGORIES:Caravan
ATTACH;FMTTYPE=image/jpeg:https://www.weliahealth.org/wp-content/uploads/2022/05/blog-ortho-may-2022.jpg
END:VEVENT
BEGIN:VEVENT
DTSTART;TZID=America/Chicago:20240717T081500
DTEND;TZID=America/Chicago:20240717T210500
DTSTAMP:20260419T155002
CREATED:20240229T143034Z
LAST-MODIFIED:20240229T143037Z
UID:10004393-1721204100-1721250300@www.weliahealth.org
SUMMARY:Cardio Class
DESCRIPTION:The classes in this category may focus on building strength\, burning fat or working up a sweat\, but what is sure to be true is they all will get your heart rate up!
URL:https://www.weliahealth.org/event/heart-healthy-class-2/2024-07-17/
LOCATION:Welia Center\, 200 N 9th St\, Mora\, MN\, 55051-1147\, United States
CATEGORIES:Caravan
ATTACH;FMTTYPE=image/jpeg:https://www.weliahealth.org/wp-content/uploads/2022/05/blog-ortho-may-2022.jpg
END:VEVENT
BEGIN:VEVENT
DTSTART;TZID=America/Chicago:20240715T081500
DTEND;TZID=America/Chicago:20240715T210500
DTSTAMP:20260419T155002
CREATED:20240229T143034Z
LAST-MODIFIED:20240229T143037Z
UID:10004392-1721031300-1721077500@www.weliahealth.org
SUMMARY:Cardio Class
DESCRIPTION:The classes in this category may focus on building strength\, burning fat or working up a sweat\, but what is sure to be true is they all will get your heart rate up!
URL:https://www.weliahealth.org/event/heart-healthy-class-2/2024-07-15/
LOCATION:Welia Center\, 200 N 9th St\, Mora\, MN\, 55051-1147\, United States
CATEGORIES:Caravan
ATTACH;FMTTYPE=image/jpeg:https://www.weliahealth.org/wp-content/uploads/2022/05/blog-ortho-may-2022.jpg
END:VEVENT
BEGIN:VEVENT
DTSTART;TZID=America/Chicago:20240710T081500
DTEND;TZID=America/Chicago:20240710T210500
DTSTAMP:20260419T155002
CREATED:20240229T143034Z
LAST-MODIFIED:20240229T143037Z
UID:10004391-1720599300-1720645500@www.weliahealth.org
SUMMARY:Cardio Class
DESCRIPTION:The classes in this category may focus on building strength\, burning fat or working up a sweat\, but what is sure to be true is they all will get your heart rate up!
URL:https://www.weliahealth.org/event/heart-healthy-class-2/2024-07-10/
LOCATION:Welia Center\, 200 N 9th St\, Mora\, MN\, 55051-1147\, United States
CATEGORIES:Caravan
ATTACH;FMTTYPE=image/jpeg:https://www.weliahealth.org/wp-content/uploads/2022/05/blog-ortho-may-2022.jpg
END:VEVENT
BEGIN:VEVENT
DTSTART;TZID=America/Chicago:20240708T081500
DTEND;TZID=America/Chicago:20240708T210500
DTSTAMP:20260419T155002
CREATED:20240229T143034Z
LAST-MODIFIED:20240229T143037Z
UID:10004390-1720426500-1720472700@www.weliahealth.org
SUMMARY:Cardio Class
DESCRIPTION:The classes in this category may focus on building strength\, burning fat or working up a sweat\, but what is sure to be true is they all will get your heart rate up!
URL:https://www.weliahealth.org/event/heart-healthy-class-2/2024-07-08/
LOCATION:Welia Center\, 200 N 9th St\, Mora\, MN\, 55051-1147\, United States
CATEGORIES:Caravan
ATTACH;FMTTYPE=image/jpeg:https://www.weliahealth.org/wp-content/uploads/2022/05/blog-ortho-may-2022.jpg
END:VEVENT
BEGIN:VEVENT
DTSTART;TZID=America/Chicago:20240703T081500
DTEND;TZID=America/Chicago:20240703T210500
DTSTAMP:20260419T155002
CREATED:20240229T143034Z
LAST-MODIFIED:20240229T143037Z
UID:10004389-1719994500-1720040700@www.weliahealth.org
SUMMARY:Cardio Class
DESCRIPTION:The classes in this category may focus on building strength\, burning fat or working up a sweat\, but what is sure to be true is they all will get your heart rate up!
URL:https://www.weliahealth.org/event/heart-healthy-class-2/2024-07-03/
LOCATION:Welia Center\, 200 N 9th St\, Mora\, MN\, 55051-1147\, United States
CATEGORIES:Caravan
ATTACH;FMTTYPE=image/jpeg:https://www.weliahealth.org/wp-content/uploads/2022/05/blog-ortho-may-2022.jpg
END:VEVENT
BEGIN:VEVENT
DTSTART;TZID=America/Chicago:20240701T081500
DTEND;TZID=America/Chicago:20240701T210500
DTSTAMP:20260419T155002
CREATED:20240229T143034Z
LAST-MODIFIED:20240229T143037Z
UID:10004388-1719821700-1719867900@www.weliahealth.org
SUMMARY:Cardio Class
DESCRIPTION:The classes in this category may focus on building strength\, burning fat or working up a sweat\, but what is sure to be true is they all will get your heart rate up!
URL:https://www.weliahealth.org/event/heart-healthy-class-2/2024-07-01/
LOCATION:Welia Center\, 200 N 9th St\, Mora\, MN\, 55051-1147\, United States
CATEGORIES:Caravan
ATTACH;FMTTYPE=image/jpeg:https://www.weliahealth.org/wp-content/uploads/2022/05/blog-ortho-may-2022.jpg
END:VEVENT
BEGIN:VEVENT
DTSTART;TZID=America/Chicago:20240626T081500
DTEND;TZID=America/Chicago:20240626T210500
DTSTAMP:20260419T155002
CREATED:20240229T143034Z
LAST-MODIFIED:20240229T143037Z
UID:10004387-1719389700-1719435900@www.weliahealth.org
SUMMARY:Cardio Class
DESCRIPTION:The classes in this category may focus on building strength\, burning fat or working up a sweat\, but what is sure to be true is they all will get your heart rate up!
URL:https://www.weliahealth.org/event/heart-healthy-class-2/2024-06-26/
LOCATION:Welia Center\, 200 N 9th St\, Mora\, MN\, 55051-1147\, United States
CATEGORIES:Caravan
ATTACH;FMTTYPE=image/jpeg:https://www.weliahealth.org/wp-content/uploads/2022/05/blog-ortho-may-2022.jpg
END:VEVENT
BEGIN:VEVENT
DTSTART;TZID=America/Chicago:20240624T081500
DTEND;TZID=America/Chicago:20240624T210500
DTSTAMP:20260419T155002
CREATED:20240229T143034Z
LAST-MODIFIED:20240229T143037Z
UID:10004386-1719216900-1719263100@www.weliahealth.org
SUMMARY:Cardio Class
DESCRIPTION:The classes in this category may focus on building strength\, burning fat or working up a sweat\, but what is sure to be true is they all will get your heart rate up!
URL:https://www.weliahealth.org/event/heart-healthy-class-2/2024-06-24/
LOCATION:Welia Center\, 200 N 9th St\, Mora\, MN\, 55051-1147\, United States
CATEGORIES:Caravan
ATTACH;FMTTYPE=image/jpeg:https://www.weliahealth.org/wp-content/uploads/2022/05/blog-ortho-may-2022.jpg
END:VEVENT
BEGIN:VEVENT
DTSTART;TZID=America/Chicago:20240619T081500
DTEND;TZID=America/Chicago:20240619T210500
DTSTAMP:20260419T155002
CREATED:20240229T143034Z
LAST-MODIFIED:20240229T143037Z
UID:10004385-1718784900-1718831100@www.weliahealth.org
SUMMARY:Cardio Class
DESCRIPTION:The classes in this category may focus on building strength\, burning fat or working up a sweat\, but what is sure to be true is they all will get your heart rate up!
URL:https://www.weliahealth.org/event/heart-healthy-class-2/2024-06-19/
LOCATION:Welia Center\, 200 N 9th St\, Mora\, MN\, 55051-1147\, United States
CATEGORIES:Caravan
ATTACH;FMTTYPE=image/jpeg:https://www.weliahealth.org/wp-content/uploads/2022/05/blog-ortho-may-2022.jpg
END:VEVENT
BEGIN:VEVENT
DTSTART;TZID=America/Chicago:20240617T081500
DTEND;TZID=America/Chicago:20240617T210500
DTSTAMP:20260419T155002
CREATED:20240229T143034Z
LAST-MODIFIED:20240229T143037Z
UID:10004384-1718612100-1718658300@www.weliahealth.org
SUMMARY:Cardio Class
DESCRIPTION:The classes in this category may focus on building strength\, burning fat or working up a sweat\, but what is sure to be true is they all will get your heart rate up!
URL:https://www.weliahealth.org/event/heart-healthy-class-2/2024-06-17/
LOCATION:Welia Center\, 200 N 9th St\, Mora\, MN\, 55051-1147\, United States
CATEGORIES:Caravan
ATTACH;FMTTYPE=image/jpeg:https://www.weliahealth.org/wp-content/uploads/2022/05/blog-ortho-may-2022.jpg
END:VEVENT
BEGIN:VEVENT
DTSTART;TZID=America/Chicago:20240612T081500
DTEND;TZID=America/Chicago:20240612T210500
DTSTAMP:20260419T155002
CREATED:20240229T143034Z
LAST-MODIFIED:20240229T143037Z
UID:10004383-1718180100-1718226300@www.weliahealth.org
SUMMARY:Cardio Class
DESCRIPTION:The classes in this category may focus on building strength\, burning fat or working up a sweat\, but what is sure to be true is they all will get your heart rate up!
URL:https://www.weliahealth.org/event/heart-healthy-class-2/2024-06-12/
LOCATION:Welia Center\, 200 N 9th St\, Mora\, MN\, 55051-1147\, United States
CATEGORIES:Caravan
ATTACH;FMTTYPE=image/jpeg:https://www.weliahealth.org/wp-content/uploads/2022/05/blog-ortho-may-2022.jpg
END:VEVENT
BEGIN:VEVENT
DTSTART;TZID=America/Chicago:20240610T081500
DTEND;TZID=America/Chicago:20240610T210500
DTSTAMP:20260419T155002
CREATED:20240229T143034Z
LAST-MODIFIED:20240229T143037Z
UID:10004382-1718007300-1718053500@www.weliahealth.org
SUMMARY:Cardio Class
DESCRIPTION:The classes in this category may focus on building strength\, burning fat or working up a sweat\, but what is sure to be true is they all will get your heart rate up!
URL:https://www.weliahealth.org/event/heart-healthy-class-2/2024-06-10/
LOCATION:Welia Center\, 200 N 9th St\, Mora\, MN\, 55051-1147\, United States
CATEGORIES:Caravan
ATTACH;FMTTYPE=image/jpeg:https://www.weliahealth.org/wp-content/uploads/2022/05/blog-ortho-may-2022.jpg
END:VEVENT
BEGIN:VEVENT
DTSTART;TZID=America/Chicago:20240605T081500
DTEND;TZID=America/Chicago:20240605T210500
DTSTAMP:20260419T155002
CREATED:20240229T143034Z
LAST-MODIFIED:20240229T143037Z
UID:10004381-1717575300-1717621500@www.weliahealth.org
SUMMARY:Cardio Class
DESCRIPTION:The classes in this category may focus on building strength\, burning fat or working up a sweat\, but what is sure to be true is they all will get your heart rate up!
URL:https://www.weliahealth.org/event/heart-healthy-class-2/2024-06-05/
LOCATION:Welia Center\, 200 N 9th St\, Mora\, MN\, 55051-1147\, United States
CATEGORIES:Caravan
ATTACH;FMTTYPE=image/jpeg:https://www.weliahealth.org/wp-content/uploads/2022/05/blog-ortho-may-2022.jpg
END:VEVENT
BEGIN:VEVENT
DTSTART;TZID=America/Chicago:20240603T081500
DTEND;TZID=America/Chicago:20240603T210500
DTSTAMP:20260419T155002
CREATED:20240229T143034Z
LAST-MODIFIED:20240229T143037Z
UID:10004380-1717402500-1717448700@www.weliahealth.org
SUMMARY:Cardio Class
DESCRIPTION:The classes in this category may focus on building strength\, burning fat or working up a sweat\, but what is sure to be true is they all will get your heart rate up!
URL:https://www.weliahealth.org/event/heart-healthy-class-2/2024-06-03/
LOCATION:Welia Center\, 200 N 9th St\, Mora\, MN\, 55051-1147\, United States
CATEGORIES:Caravan
ATTACH;FMTTYPE=image/jpeg:https://www.weliahealth.org/wp-content/uploads/2022/05/blog-ortho-may-2022.jpg
END:VEVENT
BEGIN:VEVENT
DTSTART;TZID=America/Chicago:20240529T081500
DTEND;TZID=America/Chicago:20240529T210500
DTSTAMP:20260419T155002
CREATED:20240229T143034Z
LAST-MODIFIED:20240229T143037Z
UID:10004379-1716970500-1717016700@www.weliahealth.org
SUMMARY:Cardio Class
DESCRIPTION:The classes in this category may focus on building strength\, burning fat or working up a sweat\, but what is sure to be true is they all will get your heart rate up!
URL:https://www.weliahealth.org/event/heart-healthy-class-2/2024-05-29/
LOCATION:Welia Center\, 200 N 9th St\, Mora\, MN\, 55051-1147\, United States
CATEGORIES:Caravan
ATTACH;FMTTYPE=image/jpeg:https://www.weliahealth.org/wp-content/uploads/2022/05/blog-ortho-may-2022.jpg
END:VEVENT
BEGIN:VEVENT
DTSTART;TZID=America/Chicago:20240522T081500
DTEND;TZID=America/Chicago:20240522T210500
DTSTAMP:20260419T155002
CREATED:20240229T143034Z
LAST-MODIFIED:20240229T143037Z
UID:10004377-1716365700-1716411900@www.weliahealth.org
SUMMARY:Cardio Class
DESCRIPTION:The classes in this category may focus on building strength\, burning fat or working up a sweat\, but what is sure to be true is they all will get your heart rate up!
URL:https://www.weliahealth.org/event/heart-healthy-class-2/2024-05-22/
LOCATION:Welia Center\, 200 N 9th St\, Mora\, MN\, 55051-1147\, United States
CATEGORIES:Caravan
ATTACH;FMTTYPE=image/jpeg:https://www.weliahealth.org/wp-content/uploads/2022/05/blog-ortho-may-2022.jpg
END:VEVENT
END:VCALENDAR