BEGIN:VCALENDAR
VERSION:2.0
PRODID:-//Welia Health - ECPv6.15.20//NONSGML v1.0//EN
CALSCALE:GREGORIAN
METHOD:PUBLISH
X-ORIGINAL-URL:https://www.weliahealth.org
X-WR-CALDESC:Events for Welia Health
REFRESH-INTERVAL;VALUE=DURATION:PT1H
X-Robots-Tag:noindex
X-PUBLISHED-TTL:PT1H
BEGIN:VTIMEZONE
TZID:America/Chicago
BEGIN:DAYLIGHT
TZOFFSETFROM:-0600
TZOFFSETTO:-0500
TZNAME:CDT
DTSTART:20230312T080000
END:DAYLIGHT
BEGIN:STANDARD
TZOFFSETFROM:-0500
TZOFFSETTO:-0600
TZNAME:CST
DTSTART:20231105T070000
END:STANDARD
BEGIN:DAYLIGHT
TZOFFSETFROM:-0600
TZOFFSETTO:-0500
TZNAME:CDT
DTSTART:20240310T080000
END:DAYLIGHT
BEGIN:STANDARD
TZOFFSETFROM:-0500
TZOFFSETTO:-0600
TZNAME:CST
DTSTART:20241103T070000
END:STANDARD
BEGIN:DAYLIGHT
TZOFFSETFROM:-0600
TZOFFSETTO:-0500
TZNAME:CDT
DTSTART:20250309T080000
END:DAYLIGHT
BEGIN:STANDARD
TZOFFSETFROM:-0500
TZOFFSETTO:-0600
TZNAME:CST
DTSTART:20251102T070000
END:STANDARD
END:VTIMEZONE
BEGIN:VEVENT
DTSTART;TZID=America/Chicago:20240108T081500
DTEND;TZID=America/Chicago:20240108T210500
DTSTAMP:20260419T171511
CREATED:20240108T134659Z
LAST-MODIFIED:20240108T134701Z
UID:10004338-1704701700-1704747900@www.weliahealth.org
SUMMARY:Heart Healthy Class
DESCRIPTION:50 minute cardio and strength training class.  This circuit class gets you active and energized with easy-to-follow low-impact moves combined with conditioning and balance\, plus a stretch for better mobility.
URL:https://www.weliahealth.org/event/heart-healthy-class/2024-01-08/
LOCATION:Welia Center\, 200 N 9th St\, Mora\, MN\, 55051-1147\, United States
CATEGORIES:Caravan
ATTACH;FMTTYPE=image/jpeg:https://www.weliahealth.org/wp-content/uploads/2022/05/blog-ortho-may-2022.jpg
END:VEVENT
BEGIN:VEVENT
DTSTART;TZID=America/Chicago:20240110T081500
DTEND;TZID=America/Chicago:20240110T210500
DTSTAMP:20260419T171511
CREATED:20240108T134659Z
LAST-MODIFIED:20240108T134701Z
UID:10004339-1704874500-1704920700@www.weliahealth.org
SUMMARY:Heart Healthy Class
DESCRIPTION:50 minute cardio and strength training class.  This circuit class gets you active and energized with easy-to-follow low-impact moves combined with conditioning and balance\, plus a stretch for better mobility.
URL:https://www.weliahealth.org/event/heart-healthy-class/2024-01-10/
LOCATION:Welia Center\, 200 N 9th St\, Mora\, MN\, 55051-1147\, United States
CATEGORIES:Caravan
ATTACH;FMTTYPE=image/jpeg:https://www.weliahealth.org/wp-content/uploads/2022/05/blog-ortho-may-2022.jpg
END:VEVENT
BEGIN:VEVENT
DTSTART;TZID=America/Chicago:20240115T081500
DTEND;TZID=America/Chicago:20240115T210500
DTSTAMP:20260419T171511
CREATED:20240108T134659Z
LAST-MODIFIED:20240108T134701Z
UID:10004340-1705306500-1705352700@www.weliahealth.org
SUMMARY:Heart Healthy Class
DESCRIPTION:50 minute cardio and strength training class.  This circuit class gets you active and energized with easy-to-follow low-impact moves combined with conditioning and balance\, plus a stretch for better mobility.
URL:https://www.weliahealth.org/event/heart-healthy-class/2024-01-15/
LOCATION:Welia Center\, 200 N 9th St\, Mora\, MN\, 55051-1147\, United States
CATEGORIES:Caravan
ATTACH;FMTTYPE=image/jpeg:https://www.weliahealth.org/wp-content/uploads/2022/05/blog-ortho-may-2022.jpg
END:VEVENT
BEGIN:VEVENT
DTSTART;TZID=America/Chicago:20240117T081500
DTEND;TZID=America/Chicago:20240117T210500
DTSTAMP:20260419T171511
CREATED:20240108T134659Z
LAST-MODIFIED:20240108T134701Z
UID:10004341-1705479300-1705525500@www.weliahealth.org
SUMMARY:Heart Healthy Class
DESCRIPTION:50 minute cardio and strength training class.  This circuit class gets you active and energized with easy-to-follow low-impact moves combined with conditioning and balance\, plus a stretch for better mobility.
URL:https://www.weliahealth.org/event/heart-healthy-class/2024-01-17/
LOCATION:Welia Center\, 200 N 9th St\, Mora\, MN\, 55051-1147\, United States
CATEGORIES:Caravan
ATTACH;FMTTYPE=image/jpeg:https://www.weliahealth.org/wp-content/uploads/2022/05/blog-ortho-may-2022.jpg
END:VEVENT
BEGIN:VEVENT
DTSTART;TZID=America/Chicago:20240122T081500
DTEND;TZID=America/Chicago:20240122T210500
DTSTAMP:20260419T171511
CREATED:20240108T134659Z
LAST-MODIFIED:20240108T134701Z
UID:10004342-1705911300-1705957500@www.weliahealth.org
SUMMARY:Heart Healthy Class
DESCRIPTION:50 minute cardio and strength training class.  This circuit class gets you active and energized with easy-to-follow low-impact moves combined with conditioning and balance\, plus a stretch for better mobility.
URL:https://www.weliahealth.org/event/heart-healthy-class/2024-01-22/
LOCATION:Welia Center\, 200 N 9th St\, Mora\, MN\, 55051-1147\, United States
CATEGORIES:Caravan
ATTACH;FMTTYPE=image/jpeg:https://www.weliahealth.org/wp-content/uploads/2022/05/blog-ortho-may-2022.jpg
END:VEVENT
BEGIN:VEVENT
DTSTART;TZID=America/Chicago:20240124T081500
DTEND;TZID=America/Chicago:20240124T210500
DTSTAMP:20260419T171511
CREATED:20240108T134659Z
LAST-MODIFIED:20240108T134701Z
UID:10004343-1706084100-1706130300@www.weliahealth.org
SUMMARY:Heart Healthy Class
DESCRIPTION:50 minute cardio and strength training class.  This circuit class gets you active and energized with easy-to-follow low-impact moves combined with conditioning and balance\, plus a stretch for better mobility.
URL:https://www.weliahealth.org/event/heart-healthy-class/2024-01-24/
LOCATION:Welia Center\, 200 N 9th St\, Mora\, MN\, 55051-1147\, United States
CATEGORIES:Caravan
ATTACH;FMTTYPE=image/jpeg:https://www.weliahealth.org/wp-content/uploads/2022/05/blog-ortho-may-2022.jpg
END:VEVENT
BEGIN:VEVENT
DTSTART;TZID=America/Chicago:20240129T081500
DTEND;TZID=America/Chicago:20240129T210500
DTSTAMP:20260419T171511
CREATED:20240108T134659Z
LAST-MODIFIED:20240108T134701Z
UID:10004344-1706516100-1706562300@www.weliahealth.org
SUMMARY:Heart Healthy Class
DESCRIPTION:50 minute cardio and strength training class.  This circuit class gets you active and energized with easy-to-follow low-impact moves combined with conditioning and balance\, plus a stretch for better mobility.
URL:https://www.weliahealth.org/event/heart-healthy-class/2024-01-29/
LOCATION:Welia Center\, 200 N 9th St\, Mora\, MN\, 55051-1147\, United States
CATEGORIES:Caravan
ATTACH;FMTTYPE=image/jpeg:https://www.weliahealth.org/wp-content/uploads/2022/05/blog-ortho-may-2022.jpg
END:VEVENT
BEGIN:VEVENT
DTSTART;TZID=America/Chicago:20240131T081500
DTEND;TZID=America/Chicago:20240131T210500
DTSTAMP:20260419T171511
CREATED:20240108T134659Z
LAST-MODIFIED:20240108T134701Z
UID:10004345-1706688900-1706735100@www.weliahealth.org
SUMMARY:Heart Healthy Class
DESCRIPTION:50 minute cardio and strength training class.  This circuit class gets you active and energized with easy-to-follow low-impact moves combined with conditioning and balance\, plus a stretch for better mobility.
URL:https://www.weliahealth.org/event/heart-healthy-class/2024-01-31/
LOCATION:Welia Center\, 200 N 9th St\, Mora\, MN\, 55051-1147\, United States
CATEGORIES:Caravan
ATTACH;FMTTYPE=image/jpeg:https://www.weliahealth.org/wp-content/uploads/2022/05/blog-ortho-may-2022.jpg
END:VEVENT
BEGIN:VEVENT
DTSTART;TZID=America/Chicago:20240205T081500
DTEND;TZID=America/Chicago:20240205T210500
DTSTAMP:20260419T171511
CREATED:20240108T134659Z
LAST-MODIFIED:20240108T134701Z
UID:10004346-1707120900-1707167100@www.weliahealth.org
SUMMARY:Heart Healthy Class
DESCRIPTION:50 minute cardio and strength training class.  This circuit class gets you active and energized with easy-to-follow low-impact moves combined with conditioning and balance\, plus a stretch for better mobility.
URL:https://www.weliahealth.org/event/heart-healthy-class/2024-02-05/
LOCATION:Welia Center\, 200 N 9th St\, Mora\, MN\, 55051-1147\, United States
CATEGORIES:Caravan
ATTACH;FMTTYPE=image/jpeg:https://www.weliahealth.org/wp-content/uploads/2022/05/blog-ortho-may-2022.jpg
END:VEVENT
BEGIN:VEVENT
DTSTART;TZID=America/Chicago:20240207T081500
DTEND;TZID=America/Chicago:20240207T210500
DTSTAMP:20260419T171511
CREATED:20240108T134659Z
LAST-MODIFIED:20240108T134701Z
UID:10004347-1707293700-1707339900@www.weliahealth.org
SUMMARY:Heart Healthy Class
DESCRIPTION:50 minute cardio and strength training class.  This circuit class gets you active and energized with easy-to-follow low-impact moves combined with conditioning and balance\, plus a stretch for better mobility.
URL:https://www.weliahealth.org/event/heart-healthy-class/2024-02-07/
LOCATION:Welia Center\, 200 N 9th St\, Mora\, MN\, 55051-1147\, United States
CATEGORIES:Caravan
ATTACH;FMTTYPE=image/jpeg:https://www.weliahealth.org/wp-content/uploads/2022/05/blog-ortho-may-2022.jpg
END:VEVENT
BEGIN:VEVENT
DTSTART;TZID=America/Chicago:20240212T081500
DTEND;TZID=America/Chicago:20240212T210500
DTSTAMP:20260419T171511
CREATED:20240108T134659Z
LAST-MODIFIED:20240108T134701Z
UID:10004348-1707725700-1707771900@www.weliahealth.org
SUMMARY:Heart Healthy Class
DESCRIPTION:50 minute cardio and strength training class.  This circuit class gets you active and energized with easy-to-follow low-impact moves combined with conditioning and balance\, plus a stretch for better mobility.
URL:https://www.weliahealth.org/event/heart-healthy-class/2024-02-12/
LOCATION:Welia Center\, 200 N 9th St\, Mora\, MN\, 55051-1147\, United States
CATEGORIES:Caravan
ATTACH;FMTTYPE=image/jpeg:https://www.weliahealth.org/wp-content/uploads/2022/05/blog-ortho-may-2022.jpg
END:VEVENT
BEGIN:VEVENT
DTSTART;TZID=America/Chicago:20240214T081500
DTEND;TZID=America/Chicago:20240214T210500
DTSTAMP:20260419T171511
CREATED:20240108T134659Z
LAST-MODIFIED:20240108T134701Z
UID:10004349-1707898500-1707944700@www.weliahealth.org
SUMMARY:Heart Healthy Class
DESCRIPTION:50 minute cardio and strength training class.  This circuit class gets you active and energized with easy-to-follow low-impact moves combined with conditioning and balance\, plus a stretch for better mobility.
URL:https://www.weliahealth.org/event/heart-healthy-class/2024-02-14/
LOCATION:Welia Center\, 200 N 9th St\, Mora\, MN\, 55051-1147\, United States
CATEGORIES:Caravan
ATTACH;FMTTYPE=image/jpeg:https://www.weliahealth.org/wp-content/uploads/2022/05/blog-ortho-may-2022.jpg
END:VEVENT
BEGIN:VEVENT
DTSTART;TZID=America/Chicago:20240219T081500
DTEND;TZID=America/Chicago:20240219T210500
DTSTAMP:20260419T171511
CREATED:20240108T134659Z
LAST-MODIFIED:20240108T134701Z
UID:10004350-1708330500-1708376700@www.weliahealth.org
SUMMARY:Heart Healthy Class
DESCRIPTION:50 minute cardio and strength training class.  This circuit class gets you active and energized with easy-to-follow low-impact moves combined with conditioning and balance\, plus a stretch for better mobility.
URL:https://www.weliahealth.org/event/heart-healthy-class/2024-02-19/
LOCATION:Welia Center\, 200 N 9th St\, Mora\, MN\, 55051-1147\, United States
CATEGORIES:Caravan
ATTACH;FMTTYPE=image/jpeg:https://www.weliahealth.org/wp-content/uploads/2022/05/blog-ortho-may-2022.jpg
END:VEVENT
BEGIN:VEVENT
DTSTART;TZID=America/Chicago:20240221T081500
DTEND;TZID=America/Chicago:20240221T210500
DTSTAMP:20260419T171511
CREATED:20240108T134659Z
LAST-MODIFIED:20240108T134701Z
UID:10004351-1708503300-1708549500@www.weliahealth.org
SUMMARY:Heart Healthy Class
DESCRIPTION:50 minute cardio and strength training class.  This circuit class gets you active and energized with easy-to-follow low-impact moves combined with conditioning and balance\, plus a stretch for better mobility.
URL:https://www.weliahealth.org/event/heart-healthy-class/2024-02-21/
LOCATION:Welia Center\, 200 N 9th St\, Mora\, MN\, 55051-1147\, United States
CATEGORIES:Caravan
ATTACH;FMTTYPE=image/jpeg:https://www.weliahealth.org/wp-content/uploads/2022/05/blog-ortho-may-2022.jpg
END:VEVENT
BEGIN:VEVENT
DTSTART;TZID=America/Chicago:20240226T081500
DTEND;TZID=America/Chicago:20240226T210500
DTSTAMP:20260419T171511
CREATED:20240108T134659Z
LAST-MODIFIED:20240108T134701Z
UID:10004352-1708935300-1708981500@www.weliahealth.org
SUMMARY:Heart Healthy Class
DESCRIPTION:50 minute cardio and strength training class.  This circuit class gets you active and energized with easy-to-follow low-impact moves combined with conditioning and balance\, plus a stretch for better mobility.
URL:https://www.weliahealth.org/event/heart-healthy-class/2024-02-26/
LOCATION:Welia Center\, 200 N 9th St\, Mora\, MN\, 55051-1147\, United States
CATEGORIES:Caravan
ATTACH;FMTTYPE=image/jpeg:https://www.weliahealth.org/wp-content/uploads/2022/05/blog-ortho-may-2022.jpg
END:VEVENT
BEGIN:VEVENT
DTSTART;TZID=America/Chicago:20240228T081500
DTEND;TZID=America/Chicago:20240228T210500
DTSTAMP:20260419T171511
CREATED:20240108T134659Z
LAST-MODIFIED:20240108T134701Z
UID:10004353-1709108100-1709154300@www.weliahealth.org
SUMMARY:Heart Healthy Class
DESCRIPTION:50 minute cardio and strength training class.  This circuit class gets you active and energized with easy-to-follow low-impact moves combined with conditioning and balance\, plus a stretch for better mobility.
URL:https://www.weliahealth.org/event/heart-healthy-class/2024-02-28/
LOCATION:Welia Center\, 200 N 9th St\, Mora\, MN\, 55051-1147\, United States
CATEGORIES:Caravan
ATTACH;FMTTYPE=image/jpeg:https://www.weliahealth.org/wp-content/uploads/2022/05/blog-ortho-may-2022.jpg
END:VEVENT
BEGIN:VEVENT
DTSTART;TZID=America/Chicago:20240304T081500
DTEND;TZID=America/Chicago:20240304T210500
DTSTAMP:20260419T171511
CREATED:20240229T143034Z
LAST-MODIFIED:20240229T143037Z
UID:10004354-1709540100-1709586300@www.weliahealth.org
SUMMARY:Cardio Class
DESCRIPTION:The classes in this category may focus on building strength\, burning fat or working up a sweat\, but what is sure to be true is they all will get your heart rate up!
URL:https://www.weliahealth.org/event/heart-healthy-class-2/2024-03-04/
LOCATION:Welia Center\, 200 N 9th St\, Mora\, MN\, 55051-1147\, United States
CATEGORIES:Caravan
ATTACH;FMTTYPE=image/jpeg:https://www.weliahealth.org/wp-content/uploads/2022/05/blog-ortho-may-2022.jpg
END:VEVENT
BEGIN:VEVENT
DTSTART;TZID=America/Chicago:20240306T081500
DTEND;TZID=America/Chicago:20240306T210500
DTSTAMP:20260419T171511
CREATED:20240229T143034Z
LAST-MODIFIED:20240229T143037Z
UID:10004355-1709712900-1709759100@www.weliahealth.org
SUMMARY:Cardio Class
DESCRIPTION:The classes in this category may focus on building strength\, burning fat or working up a sweat\, but what is sure to be true is they all will get your heart rate up!
URL:https://www.weliahealth.org/event/heart-healthy-class-2/2024-03-06/
LOCATION:Welia Center\, 200 N 9th St\, Mora\, MN\, 55051-1147\, United States
CATEGORIES:Caravan
ATTACH;FMTTYPE=image/jpeg:https://www.weliahealth.org/wp-content/uploads/2022/05/blog-ortho-may-2022.jpg
END:VEVENT
BEGIN:VEVENT
DTSTART;TZID=America/Chicago:20240311T081500
DTEND;TZID=America/Chicago:20240311T210500
DTSTAMP:20260419T171511
CREATED:20240229T143034Z
LAST-MODIFIED:20240229T143037Z
UID:10004356-1710144900-1710191100@www.weliahealth.org
SUMMARY:Cardio Class
DESCRIPTION:The classes in this category may focus on building strength\, burning fat or working up a sweat\, but what is sure to be true is they all will get your heart rate up!
URL:https://www.weliahealth.org/event/heart-healthy-class-2/2024-03-11/
LOCATION:Welia Center\, 200 N 9th St\, Mora\, MN\, 55051-1147\, United States
CATEGORIES:Caravan
ATTACH;FMTTYPE=image/jpeg:https://www.weliahealth.org/wp-content/uploads/2022/05/blog-ortho-may-2022.jpg
END:VEVENT
BEGIN:VEVENT
DTSTART;TZID=America/Chicago:20240313T081500
DTEND;TZID=America/Chicago:20240313T210500
DTSTAMP:20260419T171511
CREATED:20240229T143034Z
LAST-MODIFIED:20240229T143037Z
UID:10004357-1710317700-1710363900@www.weliahealth.org
SUMMARY:Cardio Class
DESCRIPTION:The classes in this category may focus on building strength\, burning fat or working up a sweat\, but what is sure to be true is they all will get your heart rate up!
URL:https://www.weliahealth.org/event/heart-healthy-class-2/2024-03-13/
LOCATION:Welia Center\, 200 N 9th St\, Mora\, MN\, 55051-1147\, United States
CATEGORIES:Caravan
ATTACH;FMTTYPE=image/jpeg:https://www.weliahealth.org/wp-content/uploads/2022/05/blog-ortho-may-2022.jpg
END:VEVENT
BEGIN:VEVENT
DTSTART;TZID=America/Chicago:20240318T081500
DTEND;TZID=America/Chicago:20240318T210500
DTSTAMP:20260419T171511
CREATED:20240229T143034Z
LAST-MODIFIED:20240229T143037Z
UID:10004358-1710749700-1710795900@www.weliahealth.org
SUMMARY:Cardio Class
DESCRIPTION:The classes in this category may focus on building strength\, burning fat or working up a sweat\, but what is sure to be true is they all will get your heart rate up!
URL:https://www.weliahealth.org/event/heart-healthy-class-2/2024-03-18/
LOCATION:Welia Center\, 200 N 9th St\, Mora\, MN\, 55051-1147\, United States
CATEGORIES:Caravan
ATTACH;FMTTYPE=image/jpeg:https://www.weliahealth.org/wp-content/uploads/2022/05/blog-ortho-may-2022.jpg
END:VEVENT
BEGIN:VEVENT
DTSTART;TZID=America/Chicago:20240320T081500
DTEND;TZID=America/Chicago:20240320T210500
DTSTAMP:20260419T171511
CREATED:20240229T143034Z
LAST-MODIFIED:20240229T143037Z
UID:10004359-1710922500-1710968700@www.weliahealth.org
SUMMARY:Cardio Class
DESCRIPTION:The classes in this category may focus on building strength\, burning fat or working up a sweat\, but what is sure to be true is they all will get your heart rate up!
URL:https://www.weliahealth.org/event/heart-healthy-class-2/2024-03-20/
LOCATION:Welia Center\, 200 N 9th St\, Mora\, MN\, 55051-1147\, United States
CATEGORIES:Caravan
ATTACH;FMTTYPE=image/jpeg:https://www.weliahealth.org/wp-content/uploads/2022/05/blog-ortho-may-2022.jpg
END:VEVENT
BEGIN:VEVENT
DTSTART;TZID=America/Chicago:20240325T081500
DTEND;TZID=America/Chicago:20240325T210500
DTSTAMP:20260419T171511
CREATED:20240229T143034Z
LAST-MODIFIED:20240229T143037Z
UID:10004360-1711354500-1711400700@www.weliahealth.org
SUMMARY:Cardio Class
DESCRIPTION:The classes in this category may focus on building strength\, burning fat or working up a sweat\, but what is sure to be true is they all will get your heart rate up!
URL:https://www.weliahealth.org/event/heart-healthy-class-2/2024-03-25/
LOCATION:Welia Center\, 200 N 9th St\, Mora\, MN\, 55051-1147\, United States
CATEGORIES:Caravan
ATTACH;FMTTYPE=image/jpeg:https://www.weliahealth.org/wp-content/uploads/2022/05/blog-ortho-may-2022.jpg
END:VEVENT
BEGIN:VEVENT
DTSTART;TZID=America/Chicago:20240327T081500
DTEND;TZID=America/Chicago:20240327T210500
DTSTAMP:20260419T171511
CREATED:20240229T143034Z
LAST-MODIFIED:20240229T143037Z
UID:10004361-1711527300-1711573500@www.weliahealth.org
SUMMARY:Cardio Class
DESCRIPTION:The classes in this category may focus on building strength\, burning fat or working up a sweat\, but what is sure to be true is they all will get your heart rate up!
URL:https://www.weliahealth.org/event/heart-healthy-class-2/2024-03-27/
LOCATION:Welia Center\, 200 N 9th St\, Mora\, MN\, 55051-1147\, United States
CATEGORIES:Caravan
ATTACH;FMTTYPE=image/jpeg:https://www.weliahealth.org/wp-content/uploads/2022/05/blog-ortho-may-2022.jpg
END:VEVENT
BEGIN:VEVENT
DTSTART;TZID=America/Chicago:20240401T081500
DTEND;TZID=America/Chicago:20240401T210500
DTSTAMP:20260419T171511
CREATED:20240229T143034Z
LAST-MODIFIED:20240229T143037Z
UID:10004362-1711959300-1712005500@www.weliahealth.org
SUMMARY:Cardio Class
DESCRIPTION:The classes in this category may focus on building strength\, burning fat or working up a sweat\, but what is sure to be true is they all will get your heart rate up!
URL:https://www.weliahealth.org/event/heart-healthy-class-2/2024-04-01/
LOCATION:Welia Center\, 200 N 9th St\, Mora\, MN\, 55051-1147\, United States
CATEGORIES:Caravan
ATTACH;FMTTYPE=image/jpeg:https://www.weliahealth.org/wp-content/uploads/2022/05/blog-ortho-may-2022.jpg
END:VEVENT
BEGIN:VEVENT
DTSTART;TZID=America/Chicago:20240403T081500
DTEND;TZID=America/Chicago:20240403T210500
DTSTAMP:20260419T171511
CREATED:20240229T143034Z
LAST-MODIFIED:20240229T143037Z
UID:10004363-1712132100-1712178300@www.weliahealth.org
SUMMARY:Cardio Class
DESCRIPTION:The classes in this category may focus on building strength\, burning fat or working up a sweat\, but what is sure to be true is they all will get your heart rate up!
URL:https://www.weliahealth.org/event/heart-healthy-class-2/2024-04-03/
LOCATION:Welia Center\, 200 N 9th St\, Mora\, MN\, 55051-1147\, United States
CATEGORIES:Caravan
ATTACH;FMTTYPE=image/jpeg:https://www.weliahealth.org/wp-content/uploads/2022/05/blog-ortho-may-2022.jpg
END:VEVENT
BEGIN:VEVENT
DTSTART;TZID=America/Chicago:20240408T081500
DTEND;TZID=America/Chicago:20240408T210500
DTSTAMP:20260419T171511
CREATED:20240229T143034Z
LAST-MODIFIED:20240229T143037Z
UID:10004364-1712564100-1712610300@www.weliahealth.org
SUMMARY:Cardio Class
DESCRIPTION:The classes in this category may focus on building strength\, burning fat or working up a sweat\, but what is sure to be true is they all will get your heart rate up!
URL:https://www.weliahealth.org/event/heart-healthy-class-2/2024-04-08/
LOCATION:Welia Center\, 200 N 9th St\, Mora\, MN\, 55051-1147\, United States
CATEGORIES:Caravan
ATTACH;FMTTYPE=image/jpeg:https://www.weliahealth.org/wp-content/uploads/2022/05/blog-ortho-may-2022.jpg
END:VEVENT
BEGIN:VEVENT
DTSTART;TZID=America/Chicago:20240410T081500
DTEND;TZID=America/Chicago:20240410T210500
DTSTAMP:20260419T171511
CREATED:20240229T143034Z
LAST-MODIFIED:20240229T143037Z
UID:10004365-1712736900-1712783100@www.weliahealth.org
SUMMARY:Cardio Class
DESCRIPTION:The classes in this category may focus on building strength\, burning fat or working up a sweat\, but what is sure to be true is they all will get your heart rate up!
URL:https://www.weliahealth.org/event/heart-healthy-class-2/2024-04-10/
LOCATION:Welia Center\, 200 N 9th St\, Mora\, MN\, 55051-1147\, United States
CATEGORIES:Caravan
ATTACH;FMTTYPE=image/jpeg:https://www.weliahealth.org/wp-content/uploads/2022/05/blog-ortho-may-2022.jpg
END:VEVENT
BEGIN:VEVENT
DTSTART;TZID=America/Chicago:20240415T081500
DTEND;TZID=America/Chicago:20240415T210500
DTSTAMP:20260419T171511
CREATED:20240229T143034Z
LAST-MODIFIED:20240229T143037Z
UID:10004366-1713168900-1713215100@www.weliahealth.org
SUMMARY:Cardio Class
DESCRIPTION:The classes in this category may focus on building strength\, burning fat or working up a sweat\, but what is sure to be true is they all will get your heart rate up!
URL:https://www.weliahealth.org/event/heart-healthy-class-2/2024-04-15/
LOCATION:Welia Center\, 200 N 9th St\, Mora\, MN\, 55051-1147\, United States
CATEGORIES:Caravan
ATTACH;FMTTYPE=image/jpeg:https://www.weliahealth.org/wp-content/uploads/2022/05/blog-ortho-may-2022.jpg
END:VEVENT
BEGIN:VEVENT
DTSTART;TZID=America/Chicago:20240417T081500
DTEND;TZID=America/Chicago:20240417T210500
DTSTAMP:20260419T171511
CREATED:20240229T143034Z
LAST-MODIFIED:20240229T143037Z
UID:10004367-1713341700-1713387900@www.weliahealth.org
SUMMARY:Cardio Class
DESCRIPTION:The classes in this category may focus on building strength\, burning fat or working up a sweat\, but what is sure to be true is they all will get your heart rate up!
URL:https://www.weliahealth.org/event/heart-healthy-class-2/2024-04-17/
LOCATION:Welia Center\, 200 N 9th St\, Mora\, MN\, 55051-1147\, United States
CATEGORIES:Caravan
ATTACH;FMTTYPE=image/jpeg:https://www.weliahealth.org/wp-content/uploads/2022/05/blog-ortho-may-2022.jpg
END:VEVENT
END:VCALENDAR