BEGIN:VCALENDAR
VERSION:2.0
PRODID:-//Welia Health - ECPv6.15.20//NONSGML v1.0//EN
CALSCALE:GREGORIAN
METHOD:PUBLISH
X-ORIGINAL-URL:https://www.weliahealth.org
X-WR-CALDESC:Events for Welia Health
REFRESH-INTERVAL;VALUE=DURATION:PT1H
X-Robots-Tag:noindex
X-PUBLISHED-TTL:PT1H
BEGIN:VTIMEZONE
TZID:America/Chicago
BEGIN:DAYLIGHT
TZOFFSETFROM:-0600
TZOFFSETTO:-0500
TZNAME:CDT
DTSTART:20220313T080000
END:DAYLIGHT
BEGIN:STANDARD
TZOFFSETFROM:-0500
TZOFFSETTO:-0600
TZNAME:CST
DTSTART:20221106T070000
END:STANDARD
BEGIN:DAYLIGHT
TZOFFSETFROM:-0600
TZOFFSETTO:-0500
TZNAME:CDT
DTSTART:20230312T080000
END:DAYLIGHT
BEGIN:STANDARD
TZOFFSETFROM:-0500
TZOFFSETTO:-0600
TZNAME:CST
DTSTART:20231105T070000
END:STANDARD
BEGIN:DAYLIGHT
TZOFFSETFROM:-0600
TZOFFSETTO:-0500
TZNAME:CDT
DTSTART:20240310T080000
END:DAYLIGHT
BEGIN:STANDARD
TZOFFSETFROM:-0500
TZOFFSETTO:-0600
TZNAME:CST
DTSTART:20241103T070000
END:STANDARD
END:VTIMEZONE
BEGIN:VEVENT
DTSTART;TZID=America/Chicago:20231019T110000
DTEND;TZID=America/Chicago:20231019T160000
DTSTAMP:20260421T065040
CREATED:20230821T173603Z
LAST-MODIFIED:20230913T154910Z
UID:10002435-1697713200-1697731200@www.weliahealth.org
SUMMARY:Kanabec County Operation Community Connect Resource Fair
DESCRIPTION:All Kanabec County residents are welcome to attend the Kanabec County Operation Community Connect (OCC) free resource fair.  \n\n\n\nResources available include: \n\n\n\nFree lunch  from 11am – 2pmTouch a Truck (for the kids)\, weather permittingWhile supplies last –Children’s winter coats and bootsAdult winter coats Hygiene products GlovesSocksPrizes and giveaways!\n\n\n\nFree transportation is available to the event by calling Timber Trails at 1.888.217.5222. \n\n\n\nDownload the flyer:   \n\n\n\nKanabec County OCC-2023-Event-FlyerDownload\n\n\n\nOCC Coat and boot Request FormDownload
URL:https://www.weliahealth.org/event/kanabec-county-operation-community-connect/
LOCATION:Emmanuel Baptist Church\, 536 S Union St\, Mora\, Minnesota\, 55051\, United States
CATEGORIES:Community Events
ATTACH;FMTTYPE=image/jpeg:https://www.weliahealth.org/wp-content/uploads/2023/08/OCC-2023-Event-Flyer-scaled.jpg
END:VEVENT
END:VCALENDAR