BEGIN:VCALENDAR
VERSION:2.0
PRODID:-//Welia Health - ECPv6.15.20//NONSGML v1.0//EN
CALSCALE:GREGORIAN
METHOD:PUBLISH
X-ORIGINAL-URL:https://www.weliahealth.org
X-WR-CALDESC:Events for Welia Health
REFRESH-INTERVAL;VALUE=DURATION:PT1H
X-Robots-Tag:noindex
X-PUBLISHED-TTL:PT1H
BEGIN:VTIMEZONE
TZID:America/Chicago
BEGIN:DAYLIGHT
TZOFFSETFROM:-0600
TZOFFSETTO:-0500
TZNAME:CDT
DTSTART:20230312T080000
END:DAYLIGHT
BEGIN:STANDARD
TZOFFSETFROM:-0500
TZOFFSETTO:-0600
TZNAME:CST
DTSTART:20231105T070000
END:STANDARD
BEGIN:DAYLIGHT
TZOFFSETFROM:-0600
TZOFFSETTO:-0500
TZNAME:CDT
DTSTART:20240310T080000
END:DAYLIGHT
BEGIN:STANDARD
TZOFFSETFROM:-0500
TZOFFSETTO:-0600
TZNAME:CST
DTSTART:20241103T070000
END:STANDARD
BEGIN:DAYLIGHT
TZOFFSETFROM:-0600
TZOFFSETTO:-0500
TZNAME:CDT
DTSTART:20250309T080000
END:DAYLIGHT
BEGIN:STANDARD
TZOFFSETFROM:-0500
TZOFFSETTO:-0600
TZNAME:CST
DTSTART:20251102T070000
END:STANDARD
END:VTIMEZONE
BEGIN:VEVENT
DTSTART;TZID=America/Chicago:20240213T170000
DTEND;TZID=America/Chicago:20240213T190000
DTSTAMP:20260419T105412
CREATED:20231227T014452Z
LAST-MODIFIED:20240104T182059Z
UID:10003838-1707843600-1707850800@www.weliahealth.org
SUMMARY:Prenatal Education\, Mora
DESCRIPTION:Congratulations!\n\n\n\n\n\n\n\nPregnancy—what an exciting and emotional time.\n\n\n\n\n\n\n\nWelia Health’s expert-led classes cover fetal development\, labor and delivery\, hospitalization and newborn care. You’ll soak up essential knowledge in a supportive environment. Prepare for parenthood with practical advice and skills\, leaving no question unanswered. \n\n\n\nLearn more about the topics to be covered during this four-part series. \n\n\n\nClasses begin the first Tuesday of the month and meet weekly for four weeks from 5–7pm. \n\n\n\n2024 Prenatal Education Dates \n\n\n\nFebruary 6\, 13\, 20 and 27May 7\, 14\, 21\, and 28 August 6\, 13\, 20 and 27November 5\, 12\, 19 and 26\n\n\n\nFor more information\, please get in touch with Welia Health at 320.225.3528. \n\n\n\nFor a hospital map and parking info\, click here.  \n\n\n\nRegistration for this free series is required. \n\n\n\n[contact-form-7 id=”42160″ title=”Prenatal Classes 2024″]
URL:https://www.weliahealth.org/event/prenatal-education-mora/2024-02-13/
LOCATION:Welia Health–Mora: Conference Rooms\, 301 MN-65\, Mora\, MN\, 55051\, United States
CATEGORIES:Classes,Prenatal
ATTACH;FMTTYPE=image/jpeg:https://www.weliahealth.org/wp-content/uploads/2018/12/Prenatal-Class-430x200.jpg
END:VEVENT
BEGIN:VEVENT
DTSTART;TZID=America/Chicago:20240213T163000
DTEND;TZID=America/Chicago:20240213T170000
DTSTAMP:20260419T105412
CREATED:20240108T140641Z
LAST-MODIFIED:20240108T140643Z
UID:10005083-1707841800-1707843600@www.weliahealth.org
SUMMARY:Pilates Class
DESCRIPTION:Discover a unique fusion of Pilates and yoga.  Improve your mind-body connection while buliding stronger muscles.
URL:https://www.weliahealth.org/event/pilates-class/2024-02-13/
LOCATION:Welia Center\, 200 N 9th St\, Mora\, MN\, 55051-1147\, United States
CATEGORIES:Caravan
ATTACH;FMTTYPE=image/jpeg:https://www.weliahealth.org/wp-content/uploads/2021/04/Generic-class-480x200-1.jpg
END:VEVENT
BEGIN:VEVENT
DTSTART;TZID=America/Chicago:20240213T091500
DTEND;TZID=America/Chicago:20240213T100500
DTSTAMP:20260419T105412
CREATED:20240108T135403Z
LAST-MODIFIED:20240108T135405Z
UID:10004569-1707815700-1707818700@www.weliahealth.org
SUMMARY:Silver & Fit
DESCRIPTION:Designed for 65+\, this class is for the active adult looking for a challenging free-standing workout.  Increase heart health\, muscle endurance\, strength\, mobility\, and balance.
URL:https://www.weliahealth.org/event/silver-fit/2024-02-13/
LOCATION:Welia Center\, 200 N 9th St\, Mora\, MN\, 55051-1147\, United States
CATEGORIES:Caravan
ATTACH;FMTTYPE=image/jpeg:https://www.weliahealth.org/wp-content/uploads/2021/04/Silver-fit-480x200-1.jpg
END:VEVENT
BEGIN:VEVENT
DTSTART;TZID=America/Chicago:20240212T170000
DTEND;TZID=America/Chicago:20240212T173000
DTSTAMP:20260419T105412
CREATED:20240108T135940Z
LAST-MODIFIED:20240108T135942Z
UID:10004973-1707757200-1707759000@www.weliahealth.org
SUMMARY:Yoga Class
DESCRIPTION:Discover a unique fusion of yoga and Pilates. Improve your mind-body connection while building stronger muscles.
URL:https://www.weliahealth.org/event/yoga-class-2/2024-02-12/
LOCATION:Welia Center\, 200 N 9th St\, Mora\, MN\, 55051-1147\, United States
CATEGORIES:Caravan
ATTACH;FMTTYPE=image/png:https://www.weliahealth.org/wp-content/uploads/2021/12/yoga-class.png
END:VEVENT
BEGIN:VEVENT
DTSTART;TZID=America/Chicago:20240212T091500
DTEND;TZID=America/Chicago:20240212T100500
DTSTAMP:20260419T105412
CREATED:20240108T135403Z
LAST-MODIFIED:20240108T135405Z
UID:10004568-1707729300-1707732300@www.weliahealth.org
SUMMARY:Silver & Fit
DESCRIPTION:Designed for 65+\, this class is for the active adult looking for a challenging free-standing workout.  Increase heart health\, muscle endurance\, strength\, mobility\, and balance.
URL:https://www.weliahealth.org/event/silver-fit/2024-02-12/
LOCATION:Welia Center\, 200 N 9th St\, Mora\, MN\, 55051-1147\, United States
CATEGORIES:Caravan
ATTACH;FMTTYPE=image/jpeg:https://www.weliahealth.org/wp-content/uploads/2021/04/Silver-fit-480x200-1.jpg
END:VEVENT
BEGIN:VEVENT
DTSTART;TZID=America/Chicago:20240212T081500
DTEND;TZID=America/Chicago:20240212T210500
DTSTAMP:20260419T105412
CREATED:20240108T134659Z
LAST-MODIFIED:20240108T134701Z
UID:10004348-1707725700-1707771900@www.weliahealth.org
SUMMARY:Heart Healthy Class
DESCRIPTION:50 minute cardio and strength training class.  This circuit class gets you active and energized with easy-to-follow low-impact moves combined with conditioning and balance\, plus a stretch for better mobility.
URL:https://www.weliahealth.org/event/heart-healthy-class/2024-02-12/
LOCATION:Welia Center\, 200 N 9th St\, Mora\, MN\, 55051-1147\, United States
CATEGORIES:Caravan
ATTACH;FMTTYPE=image/jpeg:https://www.weliahealth.org/wp-content/uploads/2022/05/blog-ortho-may-2022.jpg
END:VEVENT
BEGIN:VEVENT
DTSTART;TZID=America/Chicago:20240208T163000
DTEND;TZID=America/Chicago:20240208T170000
DTSTAMP:20260419T105412
CREATED:20240108T140641Z
LAST-MODIFIED:20240108T140643Z
UID:10005082-1707409800-1707411600@www.weliahealth.org
SUMMARY:Pilates Class
DESCRIPTION:Discover a unique fusion of Pilates and yoga.  Improve your mind-body connection while buliding stronger muscles.
URL:https://www.weliahealth.org/event/pilates-class/2024-02-08/
LOCATION:Welia Center\, 200 N 9th St\, Mora\, MN\, 55051-1147\, United States
CATEGORIES:Caravan
ATTACH;FMTTYPE=image/jpeg:https://www.weliahealth.org/wp-content/uploads/2021/04/Generic-class-480x200-1.jpg
END:VEVENT
BEGIN:VEVENT
DTSTART;TZID=America/Chicago:20240208T091500
DTEND;TZID=America/Chicago:20240208T100500
DTSTAMP:20260419T105412
CREATED:20240108T135403Z
LAST-MODIFIED:20240108T135405Z
UID:10004567-1707383700-1707386700@www.weliahealth.org
SUMMARY:Silver & Fit
DESCRIPTION:Designed for 65+\, this class is for the active adult looking for a challenging free-standing workout.  Increase heart health\, muscle endurance\, strength\, mobility\, and balance.
URL:https://www.weliahealth.org/event/silver-fit/2024-02-08/
LOCATION:Welia Center\, 200 N 9th St\, Mora\, MN\, 55051-1147\, United States
CATEGORIES:Caravan
ATTACH;FMTTYPE=image/jpeg:https://www.weliahealth.org/wp-content/uploads/2021/04/Silver-fit-480x200-1.jpg
END:VEVENT
BEGIN:VEVENT
DTSTART;TZID=America/Chicago:20240207T163000
DTEND;TZID=America/Chicago:20240207T170000
DTSTAMP:20260419T105412
CREATED:20240108T141846Z
LAST-MODIFIED:20240108T142509Z
UID:10005497-1707323400-1707325200@www.weliahealth.org
SUMMARY:Yoga Class
DESCRIPTION:Discover a unique fusion of yoga and Pilates.  Improve your mind-body connection while building stronger muscles.
URL:https://www.weliahealth.org/event/yoga-class-3/2024-02-07/
LOCATION:Welia Center\, 200 N 9th St\, Mora\, MN\, 55051-1147\, United States
CATEGORIES:Caravan
ATTACH;FMTTYPE=image/png:https://www.weliahealth.org/wp-content/uploads/2021/12/yoga-class.png
END:VEVENT
BEGIN:VEVENT
DTSTART;TZID=America/Chicago:20240207T091500
DTEND;TZID=America/Chicago:20240207T100500
DTSTAMP:20260419T105412
CREATED:20240108T135403Z
LAST-MODIFIED:20240108T135405Z
UID:10004566-1707297300-1707300300@www.weliahealth.org
SUMMARY:Silver & Fit
DESCRIPTION:Designed for 65+\, this class is for the active adult looking for a challenging free-standing workout.  Increase heart health\, muscle endurance\, strength\, mobility\, and balance.
URL:https://www.weliahealth.org/event/silver-fit/2024-02-07/
LOCATION:Welia Center\, 200 N 9th St\, Mora\, MN\, 55051-1147\, United States
CATEGORIES:Caravan
ATTACH;FMTTYPE=image/jpeg:https://www.weliahealth.org/wp-content/uploads/2021/04/Silver-fit-480x200-1.jpg
END:VEVENT
BEGIN:VEVENT
DTSTART;TZID=America/Chicago:20240207T081500
DTEND;TZID=America/Chicago:20240207T210500
DTSTAMP:20260419T105412
CREATED:20240108T134659Z
LAST-MODIFIED:20240108T134701Z
UID:10004347-1707293700-1707339900@www.weliahealth.org
SUMMARY:Heart Healthy Class
DESCRIPTION:50 minute cardio and strength training class.  This circuit class gets you active and energized with easy-to-follow low-impact moves combined with conditioning and balance\, plus a stretch for better mobility.
URL:https://www.weliahealth.org/event/heart-healthy-class/2024-02-07/
LOCATION:Welia Center\, 200 N 9th St\, Mora\, MN\, 55051-1147\, United States
CATEGORIES:Caravan
ATTACH;FMTTYPE=image/jpeg:https://www.weliahealth.org/wp-content/uploads/2022/05/blog-ortho-may-2022.jpg
END:VEVENT
BEGIN:VEVENT
DTSTART;TZID=America/Chicago:20240206T170000
DTEND;TZID=America/Chicago:20240206T190000
DTSTAMP:20260419T105412
CREATED:20231227T014452Z
LAST-MODIFIED:20240104T182059Z
UID:10003837-1707238800-1707246000@www.weliahealth.org
SUMMARY:Prenatal Education\, Mora
DESCRIPTION:Congratulations!\n\n\n\n\n\n\n\nPregnancy—what an exciting and emotional time.\n\n\n\n\n\n\n\nWelia Health’s expert-led classes cover fetal development\, labor and delivery\, hospitalization and newborn care. You’ll soak up essential knowledge in a supportive environment. Prepare for parenthood with practical advice and skills\, leaving no question unanswered. \n\n\n\nLearn more about the topics to be covered during this four-part series. \n\n\n\nClasses begin the first Tuesday of the month and meet weekly for four weeks from 5–7pm. \n\n\n\n2024 Prenatal Education Dates \n\n\n\nFebruary 6\, 13\, 20 and 27May 7\, 14\, 21\, and 28 August 6\, 13\, 20 and 27November 5\, 12\, 19 and 26\n\n\n\nFor more information\, please get in touch with Welia Health at 320.225.3528. \n\n\n\nFor a hospital map and parking info\, click here.  \n\n\n\nRegistration for this free series is required. \n\n\n\n[contact-form-7 id=”42160″ title=”Prenatal Classes 2024″]
URL:https://www.weliahealth.org/event/prenatal-education-mora/2024-02-06/
LOCATION:Welia Health–Mora: Conference Rooms\, 301 MN-65\, Mora\, MN\, 55051\, United States
CATEGORIES:Classes,Prenatal
ATTACH;FMTTYPE=image/jpeg:https://www.weliahealth.org/wp-content/uploads/2018/12/Prenatal-Class-430x200.jpg
END:VEVENT
BEGIN:VEVENT
DTSTART;TZID=America/Chicago:20240206T163000
DTEND;TZID=America/Chicago:20240206T170000
DTSTAMP:20260419T105412
CREATED:20240108T140641Z
LAST-MODIFIED:20240108T140643Z
UID:10005081-1707237000-1707238800@www.weliahealth.org
SUMMARY:Pilates Class
DESCRIPTION:Discover a unique fusion of Pilates and yoga.  Improve your mind-body connection while buliding stronger muscles.
URL:https://www.weliahealth.org/event/pilates-class/2024-02-06/
LOCATION:Welia Center\, 200 N 9th St\, Mora\, MN\, 55051-1147\, United States
CATEGORIES:Caravan
ATTACH;FMTTYPE=image/jpeg:https://www.weliahealth.org/wp-content/uploads/2021/04/Generic-class-480x200-1.jpg
END:VEVENT
BEGIN:VEVENT
DTSTART;TZID=America/Chicago:20240206T091500
DTEND;TZID=America/Chicago:20240206T100500
DTSTAMP:20260419T105412
CREATED:20240108T135403Z
LAST-MODIFIED:20240108T135405Z
UID:10004565-1707210900-1707213900@www.weliahealth.org
SUMMARY:Silver & Fit
DESCRIPTION:Designed for 65+\, this class is for the active adult looking for a challenging free-standing workout.  Increase heart health\, muscle endurance\, strength\, mobility\, and balance.
URL:https://www.weliahealth.org/event/silver-fit/2024-02-06/
LOCATION:Welia Center\, 200 N 9th St\, Mora\, MN\, 55051-1147\, United States
CATEGORIES:Caravan
ATTACH;FMTTYPE=image/jpeg:https://www.weliahealth.org/wp-content/uploads/2021/04/Silver-fit-480x200-1.jpg
END:VEVENT
BEGIN:VEVENT
DTSTART;TZID=America/Chicago:20240205T170000
DTEND;TZID=America/Chicago:20240205T173000
DTSTAMP:20260419T105412
CREATED:20240108T135940Z
LAST-MODIFIED:20240108T135942Z
UID:10004972-1707152400-1707154200@www.weliahealth.org
SUMMARY:Yoga Class
DESCRIPTION:Discover a unique fusion of yoga and Pilates. Improve your mind-body connection while building stronger muscles.
URL:https://www.weliahealth.org/event/yoga-class-2/2024-02-05/
LOCATION:Welia Center\, 200 N 9th St\, Mora\, MN\, 55051-1147\, United States
CATEGORIES:Caravan
ATTACH;FMTTYPE=image/png:https://www.weliahealth.org/wp-content/uploads/2021/12/yoga-class.png
END:VEVENT
BEGIN:VEVENT
DTSTART;TZID=America/Chicago:20240205T091500
DTEND;TZID=America/Chicago:20240205T100500
DTSTAMP:20260419T105412
CREATED:20240108T135403Z
LAST-MODIFIED:20240108T135405Z
UID:10004564-1707124500-1707127500@www.weliahealth.org
SUMMARY:Silver & Fit
DESCRIPTION:Designed for 65+\, this class is for the active adult looking for a challenging free-standing workout.  Increase heart health\, muscle endurance\, strength\, mobility\, and balance.
URL:https://www.weliahealth.org/event/silver-fit/2024-02-05/
LOCATION:Welia Center\, 200 N 9th St\, Mora\, MN\, 55051-1147\, United States
CATEGORIES:Caravan
ATTACH;FMTTYPE=image/jpeg:https://www.weliahealth.org/wp-content/uploads/2021/04/Silver-fit-480x200-1.jpg
END:VEVENT
BEGIN:VEVENT
DTSTART;TZID=America/Chicago:20240205T081500
DTEND;TZID=America/Chicago:20240205T210500
DTSTAMP:20260419T105412
CREATED:20240108T134659Z
LAST-MODIFIED:20240108T134701Z
UID:10004346-1707120900-1707167100@www.weliahealth.org
SUMMARY:Heart Healthy Class
DESCRIPTION:50 minute cardio and strength training class.  This circuit class gets you active and energized with easy-to-follow low-impact moves combined with conditioning and balance\, plus a stretch for better mobility.
URL:https://www.weliahealth.org/event/heart-healthy-class/2024-02-05/
LOCATION:Welia Center\, 200 N 9th St\, Mora\, MN\, 55051-1147\, United States
CATEGORIES:Caravan
ATTACH;FMTTYPE=image/jpeg:https://www.weliahealth.org/wp-content/uploads/2022/05/blog-ortho-may-2022.jpg
END:VEVENT
BEGIN:VEVENT
DTSTART;TZID=America/Chicago:20240201T163000
DTEND;TZID=America/Chicago:20240201T170000
DTSTAMP:20260419T105412
CREATED:20240108T140641Z
LAST-MODIFIED:20240108T140643Z
UID:10005080-1706805000-1706806800@www.weliahealth.org
SUMMARY:Pilates Class
DESCRIPTION:Discover a unique fusion of Pilates and yoga.  Improve your mind-body connection while buliding stronger muscles.
URL:https://www.weliahealth.org/event/pilates-class/2024-02-01/
LOCATION:Welia Center\, 200 N 9th St\, Mora\, MN\, 55051-1147\, United States
CATEGORIES:Caravan
ATTACH;FMTTYPE=image/jpeg:https://www.weliahealth.org/wp-content/uploads/2021/04/Generic-class-480x200-1.jpg
END:VEVENT
BEGIN:VEVENT
DTSTART;TZID=America/Chicago:20240201T133000
DTEND;TZID=America/Chicago:20240201T143000
DTSTAMP:20260419T105412
CREATED:20231226T173808Z
LAST-MODIFIED:20240131T034455Z
UID:10003798-1706794200-1706797800@www.weliahealth.org
SUMMARY:Diabetes Support Group - Mora
DESCRIPTION:The Diabetes Support Group welcomes people with diabetes\, their families and friends. To learn more\, call our diabetes educators at 320.679.1313. The group meets the first Thursday of every month.
URL:https://www.weliahealth.org/event/diabetes-support-group-mora-2/2024-02-01/
LOCATION:Welia Health–Mora: Conference Rooms\, 301 MN-65\, Mora\, MN\, 55051\, United States
CATEGORIES:Diabetes (Mora),Support Groups
ATTACH;FMTTYPE=image/jpeg:https://www.weliahealth.org/wp-content/uploads/2018/12/Diabetes-SG-430x200.jpg
END:VEVENT
BEGIN:VEVENT
DTSTART;TZID=America/Chicago:20240201T091500
DTEND;TZID=America/Chicago:20240201T100500
DTSTAMP:20260419T105412
CREATED:20240108T135403Z
LAST-MODIFIED:20240108T135405Z
UID:10004563-1706778900-1706781900@www.weliahealth.org
SUMMARY:Silver & Fit
DESCRIPTION:Designed for 65+\, this class is for the active adult looking for a challenging free-standing workout.  Increase heart health\, muscle endurance\, strength\, mobility\, and balance.
URL:https://www.weliahealth.org/event/silver-fit/2024-02-01/
LOCATION:Welia Center\, 200 N 9th St\, Mora\, MN\, 55051-1147\, United States
CATEGORIES:Caravan
ATTACH;FMTTYPE=image/jpeg:https://www.weliahealth.org/wp-content/uploads/2021/04/Silver-fit-480x200-1.jpg
END:VEVENT
BEGIN:VEVENT
DTSTART;TZID=America/Chicago:20240131T163000
DTEND;TZID=America/Chicago:20240131T170000
DTSTAMP:20260419T105412
CREATED:20240108T141846Z
LAST-MODIFIED:20240108T142509Z
UID:10005496-1706718600-1706720400@www.weliahealth.org
SUMMARY:Yoga Class
DESCRIPTION:Discover a unique fusion of yoga and Pilates.  Improve your mind-body connection while building stronger muscles.
URL:https://www.weliahealth.org/event/yoga-class-3/2024-01-31/
LOCATION:Welia Center\, 200 N 9th St\, Mora\, MN\, 55051-1147\, United States
CATEGORIES:Caravan
ATTACH;FMTTYPE=image/png:https://www.weliahealth.org/wp-content/uploads/2021/12/yoga-class.png
END:VEVENT
BEGIN:VEVENT
DTSTART;TZID=America/Chicago:20240131T133000
DTEND;TZID=America/Chicago:20240131T143000
DTSTAMP:20260419T105412
CREATED:20231121T193453Z
LAST-MODIFIED:20231121T193455Z
UID:10003788-1706707800-1706711400@www.weliahealth.org
SUMMARY:Diabetes Support Group\, Pine City
DESCRIPTION:The Diabetes Support Group welcomes people with diabetes\, their families and friends.  The group meets the last Wednesday of every month. \n\n\n\nTo learn more\, call our diabetes educators at 320.679.1313.
URL:https://www.weliahealth.org/event/diabetes-support-group-pine-city-2/2024-01-31/
LOCATION:Pine City Public Library\, 300 5th Sr SE\, Pine City\, MN\, 55063\, United States
CATEGORIES:Diabetes (Pine City),Support Groups
ATTACH;FMTTYPE=image/jpeg:https://www.weliahealth.org/wp-content/uploads/2018/12/Diabetes-SG-430x200.jpg
END:VEVENT
BEGIN:VEVENT
DTSTART;TZID=America/Chicago:20240131T091500
DTEND;TZID=America/Chicago:20240131T100500
DTSTAMP:20260419T105412
CREATED:20240108T135403Z
LAST-MODIFIED:20240108T135405Z
UID:10004562-1706692500-1706695500@www.weliahealth.org
SUMMARY:Silver & Fit
DESCRIPTION:Designed for 65+\, this class is for the active adult looking for a challenging free-standing workout.  Increase heart health\, muscle endurance\, strength\, mobility\, and balance.
URL:https://www.weliahealth.org/event/silver-fit/2024-01-31/
LOCATION:Welia Center\, 200 N 9th St\, Mora\, MN\, 55051-1147\, United States
CATEGORIES:Caravan
ATTACH;FMTTYPE=image/jpeg:https://www.weliahealth.org/wp-content/uploads/2021/04/Silver-fit-480x200-1.jpg
END:VEVENT
BEGIN:VEVENT
DTSTART;TZID=America/Chicago:20240131T081500
DTEND;TZID=America/Chicago:20240131T210500
DTSTAMP:20260419T105412
CREATED:20240108T134659Z
LAST-MODIFIED:20240108T134701Z
UID:10004345-1706688900-1706735100@www.weliahealth.org
SUMMARY:Heart Healthy Class
DESCRIPTION:50 minute cardio and strength training class.  This circuit class gets you active and energized with easy-to-follow low-impact moves combined with conditioning and balance\, plus a stretch for better mobility.
URL:https://www.weliahealth.org/event/heart-healthy-class/2024-01-31/
LOCATION:Welia Center\, 200 N 9th St\, Mora\, MN\, 55051-1147\, United States
CATEGORIES:Caravan
ATTACH;FMTTYPE=image/jpeg:https://www.weliahealth.org/wp-content/uploads/2022/05/blog-ortho-may-2022.jpg
END:VEVENT
BEGIN:VEVENT
DTSTART;TZID=America/Chicago:20240130T163000
DTEND;TZID=America/Chicago:20240130T170000
DTSTAMP:20260419T105412
CREATED:20240108T140641Z
LAST-MODIFIED:20240108T140643Z
UID:10005079-1706632200-1706634000@www.weliahealth.org
SUMMARY:Pilates Class
DESCRIPTION:Discover a unique fusion of Pilates and yoga.  Improve your mind-body connection while buliding stronger muscles.
URL:https://www.weliahealth.org/event/pilates-class/2024-01-30/
LOCATION:Welia Center\, 200 N 9th St\, Mora\, MN\, 55051-1147\, United States
CATEGORIES:Caravan
ATTACH;FMTTYPE=image/jpeg:https://www.weliahealth.org/wp-content/uploads/2021/04/Generic-class-480x200-1.jpg
END:VEVENT
BEGIN:VEVENT
DTSTART;TZID=America/Chicago:20240130T091500
DTEND;TZID=America/Chicago:20240130T100500
DTSTAMP:20260419T105412
CREATED:20240108T135403Z
LAST-MODIFIED:20240108T135405Z
UID:10004561-1706606100-1706609100@www.weliahealth.org
SUMMARY:Silver & Fit
DESCRIPTION:Designed for 65+\, this class is for the active adult looking for a challenging free-standing workout.  Increase heart health\, muscle endurance\, strength\, mobility\, and balance.
URL:https://www.weliahealth.org/event/silver-fit/2024-01-30/
LOCATION:Welia Center\, 200 N 9th St\, Mora\, MN\, 55051-1147\, United States
CATEGORIES:Caravan
ATTACH;FMTTYPE=image/jpeg:https://www.weliahealth.org/wp-content/uploads/2021/04/Silver-fit-480x200-1.jpg
END:VEVENT
BEGIN:VEVENT
DTSTART;TZID=America/Chicago:20240129T170000
DTEND;TZID=America/Chicago:20240129T173000
DTSTAMP:20260419T105412
CREATED:20240108T135940Z
LAST-MODIFIED:20240108T135942Z
UID:10004971-1706547600-1706549400@www.weliahealth.org
SUMMARY:Yoga Class
DESCRIPTION:Discover a unique fusion of yoga and Pilates. Improve your mind-body connection while building stronger muscles.
URL:https://www.weliahealth.org/event/yoga-class-2/2024-01-29/
LOCATION:Welia Center\, 200 N 9th St\, Mora\, MN\, 55051-1147\, United States
CATEGORIES:Caravan
ATTACH;FMTTYPE=image/png:https://www.weliahealth.org/wp-content/uploads/2021/12/yoga-class.png
END:VEVENT
BEGIN:VEVENT
DTSTART;TZID=America/Chicago:20240129T091500
DTEND;TZID=America/Chicago:20240129T100500
DTSTAMP:20260419T105412
CREATED:20240108T135403Z
LAST-MODIFIED:20240108T135405Z
UID:10004560-1706519700-1706522700@www.weliahealth.org
SUMMARY:Silver & Fit
DESCRIPTION:Designed for 65+\, this class is for the active adult looking for a challenging free-standing workout.  Increase heart health\, muscle endurance\, strength\, mobility\, and balance.
URL:https://www.weliahealth.org/event/silver-fit/2024-01-29/
LOCATION:Welia Center\, 200 N 9th St\, Mora\, MN\, 55051-1147\, United States
CATEGORIES:Caravan
ATTACH;FMTTYPE=image/jpeg:https://www.weliahealth.org/wp-content/uploads/2021/04/Silver-fit-480x200-1.jpg
END:VEVENT
BEGIN:VEVENT
DTSTART;TZID=America/Chicago:20240129T081500
DTEND;TZID=America/Chicago:20240129T210500
DTSTAMP:20260419T105412
CREATED:20240108T134659Z
LAST-MODIFIED:20240108T134701Z
UID:10004344-1706516100-1706562300@www.weliahealth.org
SUMMARY:Heart Healthy Class
DESCRIPTION:50 minute cardio and strength training class.  This circuit class gets you active and energized with easy-to-follow low-impact moves combined with conditioning and balance\, plus a stretch for better mobility.
URL:https://www.weliahealth.org/event/heart-healthy-class/2024-01-29/
LOCATION:Welia Center\, 200 N 9th St\, Mora\, MN\, 55051-1147\, United States
CATEGORIES:Caravan
ATTACH;FMTTYPE=image/jpeg:https://www.weliahealth.org/wp-content/uploads/2022/05/blog-ortho-may-2022.jpg
END:VEVENT
BEGIN:VEVENT
DTSTART;TZID=America/Chicago:20240125T163000
DTEND;TZID=America/Chicago:20240125T170000
DTSTAMP:20260419T105412
CREATED:20240108T140641Z
LAST-MODIFIED:20240108T140643Z
UID:10005078-1706200200-1706202000@www.weliahealth.org
SUMMARY:Pilates Class
DESCRIPTION:Discover a unique fusion of Pilates and yoga.  Improve your mind-body connection while buliding stronger muscles.
URL:https://www.weliahealth.org/event/pilates-class/2024-01-25/
LOCATION:Welia Center\, 200 N 9th St\, Mora\, MN\, 55051-1147\, United States
CATEGORIES:Caravan
ATTACH;FMTTYPE=image/jpeg:https://www.weliahealth.org/wp-content/uploads/2021/04/Generic-class-480x200-1.jpg
END:VEVENT
END:VCALENDAR