BEGIN:VCALENDAR
VERSION:2.0
PRODID:-//Welia Health - ECPv6.15.20//NONSGML v1.0//EN
CALSCALE:GREGORIAN
METHOD:PUBLISH
X-ORIGINAL-URL:https://www.weliahealth.org
X-WR-CALDESC:Events for Welia Health
REFRESH-INTERVAL;VALUE=DURATION:PT1H
X-Robots-Tag:noindex
X-PUBLISHED-TTL:PT1H
BEGIN:VTIMEZONE
TZID:America/Chicago
BEGIN:DAYLIGHT
TZOFFSETFROM:-0600
TZOFFSETTO:-0500
TZNAME:CDT
DTSTART:20220313T080000
END:DAYLIGHT
BEGIN:STANDARD
TZOFFSETFROM:-0500
TZOFFSETTO:-0600
TZNAME:CST
DTSTART:20221106T070000
END:STANDARD
BEGIN:DAYLIGHT
TZOFFSETFROM:-0600
TZOFFSETTO:-0500
TZNAME:CDT
DTSTART:20230312T080000
END:DAYLIGHT
BEGIN:STANDARD
TZOFFSETFROM:-0500
TZOFFSETTO:-0600
TZNAME:CST
DTSTART:20231105T070000
END:STANDARD
BEGIN:DAYLIGHT
TZOFFSETFROM:-0600
TZOFFSETTO:-0500
TZNAME:CDT
DTSTART:20240310T080000
END:DAYLIGHT
BEGIN:STANDARD
TZOFFSETFROM:-0500
TZOFFSETTO:-0600
TZNAME:CST
DTSTART:20241103T070000
END:STANDARD
END:VTIMEZONE
BEGIN:VEVENT
DTSTART;TZID=America/Chicago:20231107T170000
DTEND;TZID=America/Chicago:20231107T190000
DTSTAMP:20260419T203642
CREATED:20230317T161056Z
LAST-MODIFIED:20230317T162356Z
UID:10001659-1699376400-1699383600@www.weliahealth.org
SUMMARY:Prenatal Education Classes\, Mora
DESCRIPTION:Congratulations!\nPregnancy—what an exciting and emotional time! Welia Health’s prenatal classes have been designed to prepare you for pregnancy\, labor and caring for your newborn. Learn more about the topics to be covered during this four-part series. \nClasses are available in Mora. They begin on the first Tuesday of the month and meet weekly for four weeks from 5–7pm. \n2023 Prenatal Classes \n\nFebruary 7\, 14\, 21 and 28\nMay 2\, 9\, 16\, and 23 \nAugust 1\, 8\, 15 and 22\nNovember 7\, 14\, 21 and 28\n\nFor more information\, please get in touch with Welia Health at 320.225.3528. \nRegistration for this free series is required. \n[contact-form-7 id=”19337″ title=”Prenatal Class”]
URL:https://www.weliahealth.org/event/prenatal-education-classes-mora-4/2023-11-07/
LOCATION:MN
CATEGORIES:Classes,Prenatal
ATTACH;FMTTYPE=image/jpeg:https://www.weliahealth.org/wp-content/uploads/2018/12/Prenatal-Class-430x200.jpg
END:VEVENT
BEGIN:VEVENT
DTSTART;TZID=America/Chicago:20231109T160000
DTEND;TZID=America/Chicago:20231109T163000
DTSTAMP:20260419T203642
CREATED:20230912T204120Z
LAST-MODIFIED:20231018T193803Z
UID:10003596-1699545600-1699547400@www.weliahealth.org
SUMMARY:Open Studio
DESCRIPTION:Come check out the classroom at Welia Center! Come to stretch\, do your own workout\, or try a free Wellbeats class! \n\n\n\nOct Wellbeats Calendar 2023Download\n\n\n\nNov Wellbeats Calendar 2023Download\n\n\n\nDec Wellbeats Calendar 2023Download
URL:https://www.weliahealth.org/event/open-studio-11/2023-11-09/
LOCATION:Welia Center: Fitness & Community Room\, 200 N 9th St\, Mora\, MN\, 55051-1147\, United States
CATEGORIES:Caravan
ATTACH;FMTTYPE=image/jpeg:https://www.weliahealth.org/wp-content/uploads/2021/04/Generic-class-480x200-1.jpg
END:VEVENT
BEGIN:VEVENT
DTSTART;TZID=America/Chicago:20231113T091500
DTEND;TZID=America/Chicago:20231113T094500
DTSTAMP:20260419T203642
CREATED:20231011T023525Z
LAST-MODIFIED:20231018T193108Z
UID:10003560-1699866900-1699868700@www.weliahealth.org
SUMMARY:Wellbeats - Zumba Class
DESCRIPTION:Join a free Wellbeats fitness class at Welia Center!  \n\n\n\nOct Wellbeats Calendar 2023Download\n\n\n\nNov Wellbeats Calendar 2023Download\n\n\n\nDec Wellbeats Calendar 2023Download
URL:https://www.weliahealth.org/event/wellbeats-zumba-class-5/2023-11-13/
LOCATION:Welia Center: Fitness & Community Room\, 200 N 9th St\, Mora\, MN\, 55051-1147\, United States
CATEGORIES:Caravan
ATTACH;FMTTYPE=image/jpeg:https://www.weliahealth.org/wp-content/uploads/2023/05/Wellbeats-Zumba-430x200-1.jpg
END:VEVENT
BEGIN:VEVENT
DTSTART;TZID=America/Chicago:20231114T160000
DTEND;TZID=America/Chicago:20231114T163000
DTSTAMP:20260419T203642
CREATED:20230912T204120Z
LAST-MODIFIED:20231018T193803Z
UID:10003597-1699977600-1699979400@www.weliahealth.org
SUMMARY:Open Studio
DESCRIPTION:Come check out the classroom at Welia Center! Come to stretch\, do your own workout\, or try a free Wellbeats class! \n\n\n\nOct Wellbeats Calendar 2023Download\n\n\n\nNov Wellbeats Calendar 2023Download\n\n\n\nDec Wellbeats Calendar 2023Download
URL:https://www.weliahealth.org/event/open-studio-11/2023-11-14/
LOCATION:Welia Center: Fitness & Community Room\, 200 N 9th St\, Mora\, MN\, 55051-1147\, United States
CATEGORIES:Caravan
ATTACH;FMTTYPE=image/jpeg:https://www.weliahealth.org/wp-content/uploads/2021/04/Generic-class-480x200-1.jpg
END:VEVENT
BEGIN:VEVENT
DTSTART;TZID=America/Chicago:20231114T170000
DTEND;TZID=America/Chicago:20231114T190000
DTSTAMP:20260419T203642
CREATED:20230317T163042Z
LAST-MODIFIED:20230317T163043Z
UID:10001668-1699981200-1699988400@www.weliahealth.org
SUMMARY:Prenatal Education Classes\, Mora
DESCRIPTION:Congratulations!\nPregnancy—what an exciting and emotional time! Welia Health’s prenatal classes have been designed to prepare you for pregnancy\, labor and caring for your newborn. Learn more about the topics to be covered during this four-part series. \nClasses are available in Mora. They begin on the first Tuesday of the month and meet weekly for four weeks from 5–7pm. \n2023 Prenatal Classes \n\nFebruary 7\, 14\, 21 and 28\nMay 2\, 9\, 16\, and 23 \nAugust 1\, 8\, 15 and 22\nNovember 7\, 14\, 21 and 28\n\nFor more information\, please get in touch with Welia Health at 320.225.3528. \nRegistration for this free series is required. \n[contact-form-7 id=”19337″ title=”Prenatal Class”]
URL:https://www.weliahealth.org/event/prenatal-education-classes-mora-5/2023-11-14/
LOCATION:MN
CATEGORIES:Classes,Prenatal
ATTACH;FMTTYPE=image/jpeg:https://www.weliahealth.org/wp-content/uploads/2018/12/Prenatal-Class-430x200.jpg
END:VEVENT
BEGIN:VEVENT
DTSTART;TZID=America/Chicago:20231116T160000
DTEND;TZID=America/Chicago:20231116T163000
DTSTAMP:20260419T203642
CREATED:20230912T204120Z
LAST-MODIFIED:20231018T193803Z
UID:10003598-1700150400-1700152200@www.weliahealth.org
SUMMARY:Open Studio
DESCRIPTION:Come check out the classroom at Welia Center! Come to stretch\, do your own workout\, or try a free Wellbeats class! \n\n\n\nOct Wellbeats Calendar 2023Download\n\n\n\nNov Wellbeats Calendar 2023Download\n\n\n\nDec Wellbeats Calendar 2023Download
URL:https://www.weliahealth.org/event/open-studio-11/2023-11-16/
LOCATION:Welia Center: Fitness & Community Room\, 200 N 9th St\, Mora\, MN\, 55051-1147\, United States
CATEGORIES:Caravan
ATTACH;FMTTYPE=image/jpeg:https://www.weliahealth.org/wp-content/uploads/2021/04/Generic-class-480x200-1.jpg
END:VEVENT
BEGIN:VEVENT
DTSTART;TZID=America/Chicago:20231117T083000
DTEND;TZID=America/Chicago:20231117T140000
DTSTAMP:20260419T203642
CREATED:20231106T151153Z
LAST-MODIFIED:20231106T151155Z
UID:10000809-1700209800-1700229600@www.weliahealth.org
SUMMARY:CPR\, AED and First Aid Class
DESCRIPTION:CPR\, AED and first aid training presented by the American Heart Association\n\n\n\n\n\nDesigned for employee training for companies\, corporations\, businesses or other entities. \n\n\n\nLearn about: \n\n\n\nAdult/child/infant choking CPR with/without mask Use of an automated external defibrillation (AED) and may include Adult First Aid (general principles\, medical emergencies\, injury emergencies\, and environmental emergencies)\n\n\n\nCard received: Heartsaver CPR\, AED and first aid course completion card
URL:https://www.weliahealth.org/event/cpr-aed-and-first-aid-class/
LOCATION:Welia Health–Mora: Classroom\, 301 MN-65\, Mora\, MN\, 55051\, United States
CATEGORIES:First Aid CPR AED Course
ATTACH;FMTTYPE=image/jpeg:https://www.weliahealth.org/wp-content/uploads/2020/01/CPR-430x200.jpg
ORGANIZER;CN="Health and Wellness Coordinator":MAILTO:wellnesscenter@WeliaHealth.org
END:VEVENT
BEGIN:VEVENT
DTSTART;TZID=America/Chicago:20231120T091500
DTEND;TZID=America/Chicago:20231120T094500
DTSTAMP:20260419T203642
CREATED:20231011T023525Z
LAST-MODIFIED:20231018T193108Z
UID:10003561-1700471700-1700473500@www.weliahealth.org
SUMMARY:Wellbeats - Zumba Class
DESCRIPTION:Join a free Wellbeats fitness class at Welia Center!  \n\n\n\nOct Wellbeats Calendar 2023Download\n\n\n\nNov Wellbeats Calendar 2023Download\n\n\n\nDec Wellbeats Calendar 2023Download
URL:https://www.weliahealth.org/event/wellbeats-zumba-class-5/2023-11-20/
LOCATION:Welia Center: Fitness & Community Room\, 200 N 9th St\, Mora\, MN\, 55051-1147\, United States
CATEGORIES:Caravan
ATTACH;FMTTYPE=image/jpeg:https://www.weliahealth.org/wp-content/uploads/2023/05/Wellbeats-Zumba-430x200-1.jpg
END:VEVENT
BEGIN:VEVENT
DTSTART;TZID=America/Chicago:20231121T160000
DTEND;TZID=America/Chicago:20231121T163000
DTSTAMP:20260419T203642
CREATED:20230912T204120Z
LAST-MODIFIED:20231018T193803Z
UID:10003599-1700582400-1700584200@www.weliahealth.org
SUMMARY:Open Studio
DESCRIPTION:Come check out the classroom at Welia Center! Come to stretch\, do your own workout\, or try a free Wellbeats class! \n\n\n\nOct Wellbeats Calendar 2023Download\n\n\n\nNov Wellbeats Calendar 2023Download\n\n\n\nDec Wellbeats Calendar 2023Download
URL:https://www.weliahealth.org/event/open-studio-11/2023-11-21/
LOCATION:Welia Center: Fitness & Community Room\, 200 N 9th St\, Mora\, MN\, 55051-1147\, United States
CATEGORIES:Caravan
ATTACH;FMTTYPE=image/jpeg:https://www.weliahealth.org/wp-content/uploads/2021/04/Generic-class-480x200-1.jpg
END:VEVENT
BEGIN:VEVENT
DTSTART;TZID=America/Chicago:20231121T170000
DTEND;TZID=America/Chicago:20231121T190000
DTSTAMP:20260419T203642
CREATED:20230317T163600Z
LAST-MODIFIED:20230317T163602Z
UID:10001676-1700586000-1700593200@www.weliahealth.org
SUMMARY:Prenatal Education Classes\, Mora
DESCRIPTION:Congratulations!\nPregnancy—what an exciting and emotional time! Welia Health’s prenatal classes have been designed to prepare you for pregnancy\, labor and caring for your newborn. Learn more about the topics to be covered during this four-part series. \nClasses are available in Mora. They begin on the first Tuesday of the month and meet weekly for four weeks from 5–7pm. \n2023 Prenatal Classes \n\nFebruary 7\, 14\, 21 and 28\nMay 2\, 9\, 16\, and 23 \nAugust 1\, 8\, 15 and 22\nNovember 7\, 14\, 21 and 28\n\nFor more information\, please get in touch with Welia Health at 320.225.3528. \nRegistration for this free series is required. \n[contact-form-7 id=”19337″ title=”Prenatal Class”]
URL:https://www.weliahealth.org/event/prenatal-education-classes-mora-3/2023-11-21/
LOCATION:MN
CATEGORIES:Classes,Prenatal
ATTACH;FMTTYPE=image/jpeg:https://www.weliahealth.org/wp-content/uploads/2018/12/Prenatal-Class-430x200.jpg
END:VEVENT
BEGIN:VEVENT
DTSTART;TZID=America/Chicago:20231123T160000
DTEND;TZID=America/Chicago:20231123T163000
DTSTAMP:20260419T203642
CREATED:20230912T204120Z
LAST-MODIFIED:20231018T193803Z
UID:10003600-1700755200-1700757000@www.weliahealth.org
SUMMARY:Open Studio
DESCRIPTION:Come check out the classroom at Welia Center! Come to stretch\, do your own workout\, or try a free Wellbeats class! \n\n\n\nOct Wellbeats Calendar 2023Download\n\n\n\nNov Wellbeats Calendar 2023Download\n\n\n\nDec Wellbeats Calendar 2023Download
URL:https://www.weliahealth.org/event/open-studio-11/2023-11-23/
LOCATION:Welia Center: Fitness & Community Room\, 200 N 9th St\, Mora\, MN\, 55051-1147\, United States
CATEGORIES:Caravan
ATTACH;FMTTYPE=image/jpeg:https://www.weliahealth.org/wp-content/uploads/2021/04/Generic-class-480x200-1.jpg
END:VEVENT
BEGIN:VEVENT
DTSTART;TZID=America/Chicago:20231124T000000
DTEND;TZID=America/Chicago:20231124T235959
DTSTAMP:20260419T203642
CREATED:20230622T164830Z
LAST-MODIFIED:20230622T165042Z
UID:10002048-1700784000-1700870399@www.weliahealth.org
SUMMARY:State Park- Free Day
DESCRIPTION:Great opportunity to get out and explore any Minnesota State Park. Free admission to everyone and not vehicle permits needed!
URL:https://www.weliahealth.org/event/state-park-free-day-2/
LOCATION:MN
CATEGORIES:Community Events
END:VEVENT
BEGIN:VEVENT
DTSTART;TZID=America/Chicago:20231127T091500
DTEND;TZID=America/Chicago:20231127T094500
DTSTAMP:20260419T203642
CREATED:20231011T023525Z
LAST-MODIFIED:20231018T193108Z
UID:10003562-1701076500-1701078300@www.weliahealth.org
SUMMARY:Wellbeats - Zumba Class
DESCRIPTION:Join a free Wellbeats fitness class at Welia Center!  \n\n\n\nOct Wellbeats Calendar 2023Download\n\n\n\nNov Wellbeats Calendar 2023Download\n\n\n\nDec Wellbeats Calendar 2023Download
URL:https://www.weliahealth.org/event/wellbeats-zumba-class-5/2023-11-27/
LOCATION:Welia Center: Fitness & Community Room\, 200 N 9th St\, Mora\, MN\, 55051-1147\, United States
CATEGORIES:Caravan
ATTACH;FMTTYPE=image/jpeg:https://www.weliahealth.org/wp-content/uploads/2023/05/Wellbeats-Zumba-430x200-1.jpg
END:VEVENT
BEGIN:VEVENT
DTSTART;TZID=America/Chicago:20231128T140000
DTEND;TZID=America/Chicago:20231128T150000
DTSTAMP:20260419T203642
CREATED:20230921T160310Z
LAST-MODIFIED:20230921T160653Z
UID:10002752-1701180000-1701183600@www.weliahealth.org
SUMMARY:Heart to Heart support group
DESCRIPTION:Heart to Heart is a cardiac rehabilitation support group for those who have had a cardiac event or who have heart disease along with their families and friends.  Support group topics include: Diabetes\, Healthy Eating\, Exercise-staying active\, Meditation\, Pharmacy\, etc. Meetings will be held in the community fitness room at the Welia Center.
URL:https://www.weliahealth.org/event/heart-to-heart-support-group-3/2023-11-28/
LOCATION:Welia Center\, 200 N 9th St\, Mora\, MN\, 55051-1147\, United States
CATEGORIES:Heart Disease,Support Groups
ATTACH;FMTTYPE=image/jpeg:https://www.weliahealth.org/wp-content/uploads/2018/12/Heart-SG-430x200.jpg
END:VEVENT
BEGIN:VEVENT
DTSTART;TZID=America/Chicago:20231128T160000
DTEND;TZID=America/Chicago:20231128T163000
DTSTAMP:20260419T203643
CREATED:20230912T204120Z
LAST-MODIFIED:20231018T193803Z
UID:10003601-1701187200-1701189000@www.weliahealth.org
SUMMARY:Open Studio
DESCRIPTION:Come check out the classroom at Welia Center! Come to stretch\, do your own workout\, or try a free Wellbeats class! \n\n\n\nOct Wellbeats Calendar 2023Download\n\n\n\nNov Wellbeats Calendar 2023Download\n\n\n\nDec Wellbeats Calendar 2023Download
URL:https://www.weliahealth.org/event/open-studio-11/2023-11-28/
LOCATION:Welia Center: Fitness & Community Room\, 200 N 9th St\, Mora\, MN\, 55051-1147\, United States
CATEGORIES:Caravan
ATTACH;FMTTYPE=image/jpeg:https://www.weliahealth.org/wp-content/uploads/2021/04/Generic-class-480x200-1.jpg
END:VEVENT
BEGIN:VEVENT
DTSTART;TZID=America/Chicago:20231128T170000
DTEND;TZID=America/Chicago:20231128T190000
DTSTAMP:20260419T203643
CREATED:20230317T163648Z
LAST-MODIFIED:20230317T163650Z
UID:10001684-1701190800-1701198000@www.weliahealth.org
SUMMARY:Prenatal Education Classes\, Mora
DESCRIPTION:Congratulations!\nPregnancy—what an exciting and emotional time! Welia Health’s prenatal classes have been designed to prepare you for pregnancy\, labor and caring for your newborn. Learn more about the topics to be covered during this four-part series. \nClasses are available in Mora. They begin on the first Tuesday of the month and meet weekly for four weeks from 5–7pm. \n2023 Prenatal Classes \n\nFebruary 7\, 14\, 21 and 28\nMay 2\, 9\, 16\, and 23 \nAugust 1\, 8\, 15 and 22\nNovember 7\, 14\, 21 and 28\n\nFor more information\, please get in touch with Welia Health at 320.225.3528. \nRegistration for this free series is required. \n[contact-form-7 id=”19337″ title=”Prenatal Class”]
URL:https://www.weliahealth.org/event/prenatal-education-classes-mora-8/2023-11-28/
LOCATION:MN
CATEGORIES:Classes,Prenatal
ATTACH;FMTTYPE=image/jpeg:https://www.weliahealth.org/wp-content/uploads/2018/12/Prenatal-Class-430x200.jpg
END:VEVENT
BEGIN:VEVENT
DTSTART;TZID=America/Chicago:20231129T133000
DTEND;TZID=America/Chicago:20231129T143000
DTSTAMP:20260419T203643
CREATED:20231121T193453Z
LAST-MODIFIED:20231121T193455Z
UID:10002429-1701264600-1701268200@www.weliahealth.org
SUMMARY:Diabetes Support Group\, Pine City
DESCRIPTION:The Diabetes Support Group welcomes people with diabetes\, their families and friends.  The group meets the last Wednesday of every month. \n\n\n\nTo learn more\, call our diabetes educators at 320.679.1313.
URL:https://www.weliahealth.org/event/diabetes-support-group-pine-city-2/2023-11-29/
LOCATION:Pine City Public Library\, 300 5th Sr SE\, Pine City\, MN\, 55063\, United States
CATEGORIES:Diabetes (Pine City),Support Groups
ATTACH;FMTTYPE=image/jpeg:https://www.weliahealth.org/wp-content/uploads/2018/12/Diabetes-SG-430x200.jpg
END:VEVENT
BEGIN:VEVENT
DTSTART;TZID=America/Chicago:20231130T160000
DTEND;TZID=America/Chicago:20231130T163000
DTSTAMP:20260419T203643
CREATED:20230912T204120Z
LAST-MODIFIED:20231018T193803Z
UID:10003602-1701360000-1701361800@www.weliahealth.org
SUMMARY:Open Studio
DESCRIPTION:Come check out the classroom at Welia Center! Come to stretch\, do your own workout\, or try a free Wellbeats class! \n\n\n\nOct Wellbeats Calendar 2023Download\n\n\n\nNov Wellbeats Calendar 2023Download\n\n\n\nDec Wellbeats Calendar 2023Download
URL:https://www.weliahealth.org/event/open-studio-11/2023-11-30/
LOCATION:Welia Center: Fitness & Community Room\, 200 N 9th St\, Mora\, MN\, 55051-1147\, United States
CATEGORIES:Caravan
ATTACH;FMTTYPE=image/jpeg:https://www.weliahealth.org/wp-content/uploads/2021/04/Generic-class-480x200-1.jpg
END:VEVENT
BEGIN:VEVENT
DTSTART;TZID=America/Chicago:20231205T160000
DTEND;TZID=America/Chicago:20231205T163000
DTSTAMP:20260419T203643
CREATED:20230912T204120Z
LAST-MODIFIED:20231018T193803Z
UID:10003603-1701792000-1701793800@www.weliahealth.org
SUMMARY:Open Studio
DESCRIPTION:Come check out the classroom at Welia Center! Come to stretch\, do your own workout\, or try a free Wellbeats class! \n\n\n\nOct Wellbeats Calendar 2023Download\n\n\n\nNov Wellbeats Calendar 2023Download\n\n\n\nDec Wellbeats Calendar 2023Download
URL:https://www.weliahealth.org/event/open-studio-11/2023-12-05/
LOCATION:Welia Center: Fitness & Community Room\, 200 N 9th St\, Mora\, MN\, 55051-1147\, United States
CATEGORIES:Caravan
ATTACH;FMTTYPE=image/jpeg:https://www.weliahealth.org/wp-content/uploads/2021/04/Generic-class-480x200-1.jpg
END:VEVENT
BEGIN:VEVENT
DTSTART;TZID=America/Chicago:20231206T180000
DTEND;TZID=America/Chicago:20231206T200000
DTSTAMP:20260419T203643
CREATED:20230124T225432Z
LAST-MODIFIED:20231106T151116Z
UID:10000810-1701885600-1701892800@www.weliahealth.org
SUMMARY:CPR\, AED and First Aid Class
DESCRIPTION:CPR\, AED and first aid training presented by the American Heart Association\n\n\n\n\n\nDesigned for employee training for companies\, corporations\, businesses or other entities. \n\n\n\nLearn about: \n\n\n\nAdult/child/infant choking CPR with/without mask Use of an automated external defibrillation (AED) and may include Adult First Aid (general principles\, medical emergencies\, injury emergencies\, and environmental emergencies)\n\n\n\nCard received:  \n\n\n\nHeartsaver CPR\, AED and first aid course completion card  \n\n\n\n[contact-form-7 id=”31686″ title=”CPR Class”]
URL:https://www.weliahealth.org/event/cpr-aed-and-fa-classes/2023-12-06/
LOCATION:Welia Health–Mora: Classroom\, 301 MN-65\, Mora\, MN\, 55051\, United States
CATEGORIES:First Aid CPR AED Course
ATTACH;FMTTYPE=image/jpeg:https://www.weliahealth.org/wp-content/uploads/2020/01/CPR-430x200.jpg
ORGANIZER;CN="Health and Wellness Coordinator":MAILTO:wellnesscenter@WeliaHealth.org
END:VEVENT
BEGIN:VEVENT
DTSTART;TZID=America/Chicago:20231207T133000
DTEND;TZID=America/Chicago:20231207T143000
DTSTAMP:20260419T203643
CREATED:20230510T192030Z
LAST-MODIFIED:20230713T152202Z
UID:10001727-1701955800-1701959400@www.weliahealth.org
SUMMARY:Diabetes Support Group-Mora
DESCRIPTION:The Diabetes Support Group welcomes people with diabetes\, their families and friends. To learn more\, call our diabetes educators at 320.679.1313.   The group meets the first Thursday of every month.
URL:https://www.weliahealth.org/event/diabetes-support-group-mora/2023-12-07/
LOCATION:Welia Health–Mora: Conference Rooms\, 301 MN-65\, Mora\, MN\, 55051\, United States
CATEGORIES:Diabetes (Mora),Support Groups
ATTACH;FMTTYPE=image/jpeg:https://www.weliahealth.org/wp-content/uploads/2018/12/Diabetes-SG-430x200.jpg
END:VEVENT
BEGIN:VEVENT
DTSTART;TZID=America/Chicago:20231207T160000
DTEND;TZID=America/Chicago:20231207T163000
DTSTAMP:20260419T203643
CREATED:20230912T204120Z
LAST-MODIFIED:20231018T193803Z
UID:10003604-1701964800-1701966600@www.weliahealth.org
SUMMARY:Open Studio
DESCRIPTION:Come check out the classroom at Welia Center! Come to stretch\, do your own workout\, or try a free Wellbeats class! \n\n\n\nOct Wellbeats Calendar 2023Download\n\n\n\nNov Wellbeats Calendar 2023Download\n\n\n\nDec Wellbeats Calendar 2023Download
URL:https://www.weliahealth.org/event/open-studio-11/2023-12-07/
LOCATION:Welia Center: Fitness & Community Room\, 200 N 9th St\, Mora\, MN\, 55051-1147\, United States
CATEGORIES:Caravan
ATTACH;FMTTYPE=image/jpeg:https://www.weliahealth.org/wp-content/uploads/2021/04/Generic-class-480x200-1.jpg
END:VEVENT
BEGIN:VEVENT
DTSTART;TZID=America/Chicago:20231212T160000
DTEND;TZID=America/Chicago:20231212T163000
DTSTAMP:20260419T203643
CREATED:20230912T204120Z
LAST-MODIFIED:20231018T193803Z
UID:10003605-1702396800-1702398600@www.weliahealth.org
SUMMARY:Open Studio
DESCRIPTION:Come check out the classroom at Welia Center! Come to stretch\, do your own workout\, or try a free Wellbeats class! \n\n\n\nOct Wellbeats Calendar 2023Download\n\n\n\nNov Wellbeats Calendar 2023Download\n\n\n\nDec Wellbeats Calendar 2023Download
URL:https://www.weliahealth.org/event/open-studio-11/2023-12-12/
LOCATION:Welia Center: Fitness & Community Room\, 200 N 9th St\, Mora\, MN\, 55051-1147\, United States
CATEGORIES:Caravan
ATTACH;FMTTYPE=image/jpeg:https://www.weliahealth.org/wp-content/uploads/2021/04/Generic-class-480x200-1.jpg
END:VEVENT
BEGIN:VEVENT
DTSTART;TZID=America/Chicago:20231214T160000
DTEND;TZID=America/Chicago:20231214T163000
DTSTAMP:20260419T203643
CREATED:20230912T204120Z
LAST-MODIFIED:20231018T193803Z
UID:10003606-1702569600-1702571400@www.weliahealth.org
SUMMARY:Open Studio
DESCRIPTION:Come check out the classroom at Welia Center! Come to stretch\, do your own workout\, or try a free Wellbeats class! \n\n\n\nOct Wellbeats Calendar 2023Download\n\n\n\nNov Wellbeats Calendar 2023Download\n\n\n\nDec Wellbeats Calendar 2023Download
URL:https://www.weliahealth.org/event/open-studio-11/2023-12-14/
LOCATION:Welia Center: Fitness & Community Room\, 200 N 9th St\, Mora\, MN\, 55051-1147\, United States
CATEGORIES:Caravan
ATTACH;FMTTYPE=image/jpeg:https://www.weliahealth.org/wp-content/uploads/2021/04/Generic-class-480x200-1.jpg
END:VEVENT
BEGIN:VEVENT
DTSTART;TZID=America/Chicago:20231214T183000
DTEND;TZID=America/Chicago:20231214T183000
DTSTAMP:20260419T203643
CREATED:20231207T195341Z
LAST-MODIFIED:20231207T195343Z
UID:10003790-1702578600-1702578600@www.weliahealth.org
SUMMARY:"Tipping The Pain Scale" Showing at Paradise Theatre
DESCRIPTION:In the urgent fight to save lives\, this documentary depicts the current system failures of how we have dealt with addiction in communities.
URL:https://www.weliahealth.org/event/tipping-the-pain-scale-showing-at-paradise-theatre/
LOCATION:Paradise Theatre\, 237 S. Union St.\, Mora\, Minnesota\, 55051\, United States
END:VEVENT
BEGIN:VEVENT
DTSTART;TZID=America/Chicago:20231219T160000
DTEND;TZID=America/Chicago:20231219T163000
DTSTAMP:20260419T203643
CREATED:20230912T204120Z
LAST-MODIFIED:20231018T193803Z
UID:10003607-1703001600-1703003400@www.weliahealth.org
SUMMARY:Open Studio
DESCRIPTION:Come check out the classroom at Welia Center! Come to stretch\, do your own workout\, or try a free Wellbeats class! \n\n\n\nOct Wellbeats Calendar 2023Download\n\n\n\nNov Wellbeats Calendar 2023Download\n\n\n\nDec Wellbeats Calendar 2023Download
URL:https://www.weliahealth.org/event/open-studio-11/2023-12-19/
LOCATION:Welia Center: Fitness & Community Room\, 200 N 9th St\, Mora\, MN\, 55051-1147\, United States
CATEGORIES:Caravan
ATTACH;FMTTYPE=image/jpeg:https://www.weliahealth.org/wp-content/uploads/2021/04/Generic-class-480x200-1.jpg
END:VEVENT
BEGIN:VEVENT
DTSTART;TZID=America/Chicago:20231221T070000
DTEND;TZID=America/Chicago:20231221T073000
DTSTAMP:20260419T203643
CREATED:20231220T163633Z
LAST-MODIFIED:20231220T170749Z
UID:10003792-1703142000-1703143800@www.weliahealth.org
SUMMARY:Yoga Under the Lights
DESCRIPTION:A fun holiday-themed workout with fun snacks and prizes held in the Welia Center Community Fitness Room
URL:https://www.weliahealth.org/event/yoga-under-the-lights/
LOCATION:Welia Center: Fitness & Community Room\, 200 N 9th St\, Mora\, MN\, 55051-1147\, United States
END:VEVENT
BEGIN:VEVENT
DTSTART;TZID=America/Chicago:20231221T160000
DTEND;TZID=America/Chicago:20231221T163000
DTSTAMP:20260419T203643
CREATED:20230912T204120Z
LAST-MODIFIED:20231018T193803Z
UID:10003608-1703174400-1703176200@www.weliahealth.org
SUMMARY:Open Studio
DESCRIPTION:Come check out the classroom at Welia Center! Come to stretch\, do your own workout\, or try a free Wellbeats class! \n\n\n\nOct Wellbeats Calendar 2023Download\n\n\n\nNov Wellbeats Calendar 2023Download\n\n\n\nDec Wellbeats Calendar 2023Download
URL:https://www.weliahealth.org/event/open-studio-11/2023-12-21/
LOCATION:Welia Center: Fitness & Community Room\, 200 N 9th St\, Mora\, MN\, 55051-1147\, United States
CATEGORIES:Caravan
ATTACH;FMTTYPE=image/jpeg:https://www.weliahealth.org/wp-content/uploads/2021/04/Generic-class-480x200-1.jpg
END:VEVENT
BEGIN:VEVENT
DTSTART;TZID=America/Chicago:20231221T160000
DTEND;TZID=America/Chicago:20231221T163000
DTSTAMP:20260419T203643
CREATED:20231220T163956Z
LAST-MODIFIED:20231221T012112Z
UID:10003793-1703174400-1703176200@www.weliahealth.org
SUMMARY:Light Tour Spin Class
DESCRIPTION:A fun holiday themed workout with fun snacks and prizes held in the Community Fitness Room at the Welia Center.
URL:https://www.weliahealth.org/event/light-tour-spin-class/
LOCATION:Welia Center: Fitness & Community Room\, 200 N 9th St\, Mora\, MN\, 55051-1147\, United States
ATTACH;FMTTYPE=image/jpeg:https://www.weliahealth.org/wp-content/uploads/2021/04/spin-class-480x200-1.jpg
END:VEVENT
BEGIN:VEVENT
DTSTART;TZID=America/Chicago:20231222T063000
DTEND;TZID=America/Chicago:20231222T070000
DTSTAMP:20260419T203643
CREATED:20231220T164229Z
LAST-MODIFIED:20231221T012140Z
UID:10003794-1703226600-1703228400@www.weliahealth.org
SUMMARY:Spin Bike Light Tour
DESCRIPTION:A fun holiday themed workout with snacks and prizes held in the Community Fitness Room at the Welia Center.
URL:https://www.weliahealth.org/event/spin-bike-light-tour/
LOCATION:Welia Center: Fitness & Community Room\, 200 N 9th St\, Mora\, MN\, 55051-1147\, United States
ATTACH;FMTTYPE=image/jpeg:https://www.weliahealth.org/wp-content/uploads/2021/04/spin-class-480x200-1.jpg
END:VEVENT
END:VCALENDAR