BEGIN:VCALENDAR
VERSION:2.0
PRODID:-//Welia Health - ECPv6.15.20//NONSGML v1.0//EN
CALSCALE:GREGORIAN
METHOD:PUBLISH
X-WR-CALNAME:Welia Health
X-ORIGINAL-URL:https://www.weliahealth.org
X-WR-CALDESC:Events for Welia Health
REFRESH-INTERVAL;VALUE=DURATION:PT1H
X-Robots-Tag:noindex
X-PUBLISHED-TTL:PT1H
BEGIN:VTIMEZONE
TZID:America/Chicago
BEGIN:DAYLIGHT
TZOFFSETFROM:-0600
TZOFFSETTO:-0500
TZNAME:CDT
DTSTART:20220313T080000
END:DAYLIGHT
BEGIN:STANDARD
TZOFFSETFROM:-0500
TZOFFSETTO:-0600
TZNAME:CST
DTSTART:20221106T070000
END:STANDARD
BEGIN:DAYLIGHT
TZOFFSETFROM:-0600
TZOFFSETTO:-0500
TZNAME:CDT
DTSTART:20230312T080000
END:DAYLIGHT
BEGIN:STANDARD
TZOFFSETFROM:-0500
TZOFFSETTO:-0600
TZNAME:CST
DTSTART:20231105T070000
END:STANDARD
BEGIN:DAYLIGHT
TZOFFSETFROM:-0600
TZOFFSETTO:-0500
TZNAME:CDT
DTSTART:20240310T080000
END:DAYLIGHT
BEGIN:STANDARD
TZOFFSETFROM:-0500
TZOFFSETTO:-0600
TZNAME:CST
DTSTART:20241103T070000
END:STANDARD
END:VTIMEZONE
BEGIN:VEVENT
DTSTART;TZID=America/Chicago:20230621T094500
DTEND;TZID=America/Chicago:20230621T101500
DTSTAMP:20260421T204713
CREATED:20230530T172546Z
LAST-MODIFIED:20230530T172547Z
UID:10001968-1687340700-1687342500@www.weliahealth.org
SUMMARY:Open Studio
DESCRIPTION:Come check out the classroom at Welia Center! Come to stretch\, do your own workout\, or try a free Wellbeats class!
URL:https://www.weliahealth.org/event/open-studio-7/2023-06-21/
LOCATION:Welia Center: Fitness & Community Room\, 200 N 9th St\, Mora\, MN\, 55051-1147\, United States
CATEGORIES:Caravan
ATTACH;FMTTYPE=image/jpeg:https://www.weliahealth.org/wp-content/uploads/2021/04/Generic-class-480x200-1.jpg
END:VEVENT
BEGIN:VEVENT
DTSTART;TZID=America/Chicago:20230621T091500
DTEND;TZID=America/Chicago:20230621T100000
DTSTAMP:20260421T204713
CREATED:20230530T161901Z
LAST-MODIFIED:20230530T161903Z
UID:10001884-1687338900-1687341600@www.weliahealth.org
SUMMARY:Wellbeats - HIIT Class
DESCRIPTION:Join a free Wellbeats fitness class at Welia Center! \n\n\n\nTrain your body with a blend of HIIT (high intensity interval training)\, weight training\, and cardio. Fire up your metabolism in these quick-moving\, total-body workouts!
URL:https://www.weliahealth.org/event/wellbeats-hiit-class-10/2023-06-21/
LOCATION:Welia Center: Fitness & Community Room\, 200 N 9th St\, Mora\, MN\, 55051-1147\, United States
CATEGORIES:Caravan
ATTACH;FMTTYPE=image/jpeg:https://www.weliahealth.org/wp-content/uploads/2021/04/Generic-class-480x200-1.jpg
END:VEVENT
BEGIN:VEVENT
DTSTART;TZID=America/Chicago:20230621T083000
DTEND;TZID=America/Chicago:20230621T090500
DTSTAMP:20260421T204713
CREATED:20230530T170054Z
LAST-MODIFIED:20230530T170055Z
UID:10001928-1687336200-1687338300@www.weliahealth.org
SUMMARY:Wellbeats - Silver & Fit
DESCRIPTION:Join a free Wellbeats fitness class at Welia Center! \n\n\n\nThis class is for the active\, athletic older adult\, looking for a challenging free-standing workout. Increase heart health\, muscle endurance\, strength\, mobility and balance.
URL:https://www.weliahealth.org/event/wellbeats-silver-fit-11/2023-06-21/
LOCATION:Welia Center: Fitness & Community Room\, 200 N 9th St\, Mora\, MN\, 55051-1147\, United States
CATEGORIES:Caravan
ATTACH;FMTTYPE=image/jpeg:https://www.weliahealth.org/wp-content/uploads/2021/04/Silver-fit-480x200-1.jpg
END:VEVENT
BEGIN:VEVENT
DTSTART;TZID=America/Chicago:20230620T153000
DTEND;TZID=America/Chicago:20230620T155000
DTSTAMP:20260421T204713
CREATED:20230530T171318Z
LAST-MODIFIED:20230530T171320Z
UID:10001988-1687275000-1687276200@www.weliahealth.org
SUMMARY:Pilates Wellbeats Class
DESCRIPTION:Join a free Wellbeats fitness class at Welia Center! \n\n\n\nLow-impact on the joints and uses controlled movements\, with primary focus on the core to build strength\, flexibility and endurance in a full body workout. \n\n\n\nAugust Wellbeats CalendarDownload
URL:https://www.weliahealth.org/event/pilates-wellbeats-class-3/2023-06-20/
LOCATION:Welia Center\, 200 N 9th St\, Mora\, MN\, 55051-1147\, United States
CATEGORIES:Classes
ATTACH;FMTTYPE=image/jpeg:https://www.weliahealth.org/wp-content/uploads/2021/04/Generic-class-480x200-1.jpg
END:VEVENT
BEGIN:VEVENT
DTSTART;TZID=America/Chicago:20230620T091500
DTEND;TZID=America/Chicago:20230620T093500
DTSTAMP:20260421T204713
CREATED:20230530T170514Z
LAST-MODIFIED:20230530T170516Z
UID:10001939-1687252500-1687253700@www.weliahealth.org
SUMMARY:Wellbeats - Yoga Class
DESCRIPTION:Join us for a free Wellbeats fitness class at Welia Center! \n\n\n\nDiscover a unique fusion of yoga and Pilates. Improve your mind-body connection while building stronger\, leaner muscles. \n\n\n\nJuly Wellbeats CalendarDownload\n\n\n\nJuly Wellbeats Class DescriptionDownload
URL:https://www.weliahealth.org/event/wellbeats-yoga-class/2023-06-20/
LOCATION:Welia Center: Fitness & Community Room\, 200 N 9th St\, Mora\, MN\, 55051-1147\, United States
CATEGORIES:Caravan
ATTACH;FMTTYPE=image/png:https://www.weliahealth.org/wp-content/uploads/2021/12/yoga-class.png
END:VEVENT
BEGIN:VEVENT
DTSTART;TZID=America/Chicago:20230620T083000
DTEND;TZID=America/Chicago:20230620T090500
DTSTAMP:20260421T204713
CREATED:20230530T170054Z
LAST-MODIFIED:20230530T170055Z
UID:10001927-1687249800-1687251900@www.weliahealth.org
SUMMARY:Wellbeats - Silver & Fit
DESCRIPTION:Join a free Wellbeats fitness class at Welia Center! \n\n\n\nThis class is for the active\, athletic older adult\, looking for a challenging free-standing workout. Increase heart health\, muscle endurance\, strength\, mobility and balance.
URL:https://www.weliahealth.org/event/wellbeats-silver-fit-11/2023-06-20/
LOCATION:Welia Center: Fitness & Community Room\, 200 N 9th St\, Mora\, MN\, 55051-1147\, United States
CATEGORIES:Caravan
ATTACH;FMTTYPE=image/jpeg:https://www.weliahealth.org/wp-content/uploads/2021/04/Silver-fit-480x200-1.jpg
END:VEVENT
BEGIN:VEVENT
DTSTART;TZID=America/Chicago:20230619T170000
DTEND;TZID=America/Chicago:20230619T173000
DTSTAMP:20260421T204713
CREATED:20230530T164446Z
LAST-MODIFIED:20230530T164448Z
UID:10001906-1687194000-1687195800@www.weliahealth.org
SUMMARY:Wellbeats - Zumba Class
DESCRIPTION:Join a free Wellbeats fitness class at Welia Center!
URL:https://www.weliahealth.org/event/wellbeats-zumba-class-2/2023-06-19/
LOCATION:Welia Center: Fitness & Community Room\, 200 N 9th St\, Mora\, MN\, 55051-1147\, United States
CATEGORIES:Caravan
ATTACH;FMTTYPE=image/jpeg:https://www.weliahealth.org/wp-content/uploads/2023/05/Wellbeats-Zumba-430x200-1.jpg
END:VEVENT
BEGIN:VEVENT
DTSTART;TZID=America/Chicago:20230619T163000
DTEND;TZID=America/Chicago:20230619T170000
DTSTAMP:20260421T204713
CREATED:20230530T172546Z
LAST-MODIFIED:20230530T172547Z
UID:10001966-1687192200-1687194000@www.weliahealth.org
SUMMARY:Open Studio
DESCRIPTION:Come check out the classroom at Welia Center! Come to stretch\, do your own workout\, or try a free Wellbeats class!
URL:https://www.weliahealth.org/event/open-studio-7/2023-06-19/2/
LOCATION:Welia Center: Fitness & Community Room\, 200 N 9th St\, Mora\, MN\, 55051-1147\, United States
CATEGORIES:Caravan
ATTACH;FMTTYPE=image/jpeg:https://www.weliahealth.org/wp-content/uploads/2021/04/Generic-class-480x200-1.jpg
END:VEVENT
BEGIN:VEVENT
DTSTART;TZID=America/Chicago:20230619T160000
DTEND;TZID=America/Chicago:20230619T163000
DTSTAMP:20260421T204713
CREATED:20230530T165516Z
LAST-MODIFIED:20230530T173404Z
UID:10001916-1687190400-1687192200@www.weliahealth.org
SUMMARY:Wellbeats - Spin Class
DESCRIPTION:Join a free Wellbeats fitness class at Welia Center!  \n\n\n\nTry an indoor cycling cardio class that involves different combinations of sitting or standing\, leg speed (revolutions per minutes) and resistance. \n\n\n\nThere are six spin bikes available per class.
URL:https://www.weliahealth.org/event/wellbeats-spin-class-13/2023-06-19/
LOCATION:Welia Center: Fitness & Community Room\, 200 N 9th St\, Mora\, MN\, 55051-1147\, United States
CATEGORIES:Caravan
ATTACH;FMTTYPE=image/jpeg:https://www.weliahealth.org/wp-content/uploads/2021/04/spin-class-480x200-1.jpg
END:VEVENT
BEGIN:VEVENT
DTSTART;TZID=America/Chicago:20230619T094500
DTEND;TZID=America/Chicago:20230619T101500
DTSTAMP:20260421T204713
CREATED:20230530T172546Z
LAST-MODIFIED:20230530T172547Z
UID:10001965-1687167900-1687169700@www.weliahealth.org
SUMMARY:Open Studio
DESCRIPTION:Come check out the classroom at Welia Center! Come to stretch\, do your own workout\, or try a free Wellbeats class!
URL:https://www.weliahealth.org/event/open-studio-7/2023-06-19/1/
LOCATION:Welia Center: Fitness & Community Room\, 200 N 9th St\, Mora\, MN\, 55051-1147\, United States
CATEGORIES:Caravan
ATTACH;FMTTYPE=image/jpeg:https://www.weliahealth.org/wp-content/uploads/2021/04/Generic-class-480x200-1.jpg
END:VEVENT
BEGIN:VEVENT
DTSTART;TZID=America/Chicago:20230619T091500
DTEND;TZID=America/Chicago:20230619T100000
DTSTAMP:20260421T204713
CREATED:20230530T161901Z
LAST-MODIFIED:20230530T161903Z
UID:10001883-1687166100-1687168800@www.weliahealth.org
SUMMARY:Wellbeats - HIIT Class
DESCRIPTION:Join a free Wellbeats fitness class at Welia Center! \n\n\n\nTrain your body with a blend of HIIT (high intensity interval training)\, weight training\, and cardio. Fire up your metabolism in these quick-moving\, total-body workouts!
URL:https://www.weliahealth.org/event/wellbeats-hiit-class-10/2023-06-19/
LOCATION:Welia Center: Fitness & Community Room\, 200 N 9th St\, Mora\, MN\, 55051-1147\, United States
CATEGORIES:Caravan
ATTACH;FMTTYPE=image/jpeg:https://www.weliahealth.org/wp-content/uploads/2021/04/Generic-class-480x200-1.jpg
END:VEVENT
BEGIN:VEVENT
DTSTART;TZID=America/Chicago:20230619T083000
DTEND;TZID=America/Chicago:20230619T090500
DTSTAMP:20260421T204713
CREATED:20230530T170054Z
LAST-MODIFIED:20230530T170055Z
UID:10001926-1687163400-1687165500@www.weliahealth.org
SUMMARY:Wellbeats - Silver & Fit
DESCRIPTION:Join a free Wellbeats fitness class at Welia Center! \n\n\n\nThis class is for the active\, athletic older adult\, looking for a challenging free-standing workout. Increase heart health\, muscle endurance\, strength\, mobility and balance.
URL:https://www.weliahealth.org/event/wellbeats-silver-fit-11/2023-06-19/
LOCATION:Welia Center: Fitness & Community Room\, 200 N 9th St\, Mora\, MN\, 55051-1147\, United States
CATEGORIES:Caravan
ATTACH;FMTTYPE=image/jpeg:https://www.weliahealth.org/wp-content/uploads/2021/04/Silver-fit-480x200-1.jpg
END:VEVENT
BEGIN:VEVENT
DTSTART;TZID=America/Chicago:20230615T090000
DTEND;TZID=America/Chicago:20230615T143000
DTSTAMP:20260421T204713
CREATED:20230510T202537Z
LAST-MODIFIED:20230522T155329Z
UID:10001735-1686819600-1686839400@www.weliahealth.org
SUMMARY:Safe Sitter Class-East Central
DESCRIPTION:Safe Sitter® is designed to prepare students in grades 6-8 to be safe when they’re home alone\, watching younger siblings\, or babysitting. The Instructor-led class is filled with fun games and role-playing exercises. \n\n\n\nPlease contact the site coordinator below to sign up for a Safe Sitter class this June! Space is limited. The cost is $25. \n\n\n\nClasses designed for 11-14-year-oldsEach class is limited to 20 studentsThe curriculum includes infant/child CPRPlease pack a lunchGraduation ceremony to follow. Parents are asked to attend!\n\n\n\nDates: June 15 from 9am-2:30 pmSite coordinator: BrittanyRegister: ce@eastcentral.k12.mn.us or 320-245-6023
URL:https://www.weliahealth.org/event/safe-sitter-class-east-central/
ATTACH;FMTTYPE=image/jpeg:https://www.weliahealth.org/wp-content/uploads/2022/05/safe-sitter.jpeg
END:VEVENT
BEGIN:VEVENT
DTSTART;TZID=America/Chicago:20230614T094500
DTEND;TZID=America/Chicago:20230614T101500
DTSTAMP:20260421T204713
CREATED:20230530T172546Z
LAST-MODIFIED:20230530T172547Z
UID:10001964-1686735900-1686737700@www.weliahealth.org
SUMMARY:Open Studio
DESCRIPTION:Come check out the classroom at Welia Center! Come to stretch\, do your own workout\, or try a free Wellbeats class!
URL:https://www.weliahealth.org/event/open-studio-7/2023-06-14/
LOCATION:Welia Center: Fitness & Community Room\, 200 N 9th St\, Mora\, MN\, 55051-1147\, United States
CATEGORIES:Caravan
ATTACH;FMTTYPE=image/jpeg:https://www.weliahealth.org/wp-content/uploads/2021/04/Generic-class-480x200-1.jpg
END:VEVENT
BEGIN:VEVENT
DTSTART;TZID=America/Chicago:20230614T091500
DTEND;TZID=America/Chicago:20230614T100000
DTSTAMP:20260421T204713
CREATED:20230530T161901Z
LAST-MODIFIED:20230530T161903Z
UID:10001882-1686734100-1686736800@www.weliahealth.org
SUMMARY:Wellbeats - HIIT Class
DESCRIPTION:Join a free Wellbeats fitness class at Welia Center! \n\n\n\nTrain your body with a blend of HIIT (high intensity interval training)\, weight training\, and cardio. Fire up your metabolism in these quick-moving\, total-body workouts!
URL:https://www.weliahealth.org/event/wellbeats-hiit-class-10/2023-06-14/
LOCATION:Welia Center: Fitness & Community Room\, 200 N 9th St\, Mora\, MN\, 55051-1147\, United States
CATEGORIES:Caravan
ATTACH;FMTTYPE=image/jpeg:https://www.weliahealth.org/wp-content/uploads/2021/04/Generic-class-480x200-1.jpg
END:VEVENT
BEGIN:VEVENT
DTSTART;TZID=America/Chicago:20230614T083000
DTEND;TZID=America/Chicago:20230614T090500
DTSTAMP:20260421T204713
CREATED:20230530T170054Z
LAST-MODIFIED:20230530T170055Z
UID:10001925-1686731400-1686733500@www.weliahealth.org
SUMMARY:Wellbeats - Silver & Fit
DESCRIPTION:Join a free Wellbeats fitness class at Welia Center! \n\n\n\nThis class is for the active\, athletic older adult\, looking for a challenging free-standing workout. Increase heart health\, muscle endurance\, strength\, mobility and balance.
URL:https://www.weliahealth.org/event/wellbeats-silver-fit-11/2023-06-14/
LOCATION:Welia Center: Fitness & Community Room\, 200 N 9th St\, Mora\, MN\, 55051-1147\, United States
CATEGORIES:Caravan
ATTACH;FMTTYPE=image/jpeg:https://www.weliahealth.org/wp-content/uploads/2021/04/Silver-fit-480x200-1.jpg
END:VEVENT
BEGIN:VEVENT
DTSTART;TZID=America/Chicago:20230613T090000
DTEND;TZID=America/Chicago:20230613T143000
DTSTAMP:20260421T204713
CREATED:20230510T202325Z
LAST-MODIFIED:20230519T162834Z
UID:10001734-1686646800-1686666600@www.weliahealth.org
SUMMARY:Safe Sitter Class-Pine City
DESCRIPTION:Safe Sitter® is designed to prepare students in grades 6-8 to be safe when they’re home alone\, watching younger siblings\, or babysitting. The Instructor-led class is filled with fun games and role-playing exercises. \n\n\n\nPlease contact the site coordinator below to sign up for a Safe Sitter class this June! Space is limited. The cost is $25. \n\n\n\nClasses designed for 11-14-year-oldsEach class is limited to 20 studentsThe curriculum includes infant/child CPRPlease pack a lunchGraduation ceremony to follow. Parents are asked to attend!\n\n\n\nDate: June 13 from 9am-2:30 pmSite coordinator: TeresaRegister: tplasek@isd578.org or 320.679.4030
URL:https://www.weliahealth.org/event/safe-sitter-class-pine-city/
ATTACH;FMTTYPE=image/jpeg:https://www.weliahealth.org/wp-content/uploads/2022/10/community-safesitter-700x420-1.jpg
END:VEVENT
BEGIN:VEVENT
DTSTART;TZID=America/Chicago:20230612T170000
DTEND;TZID=America/Chicago:20230612T173000
DTSTAMP:20260421T204713
CREATED:20230530T164446Z
LAST-MODIFIED:20230530T164448Z
UID:10001905-1686589200-1686591000@www.weliahealth.org
SUMMARY:Wellbeats - Zumba Class
DESCRIPTION:Join a free Wellbeats fitness class at Welia Center!
URL:https://www.weliahealth.org/event/wellbeats-zumba-class-2/2023-06-12/
LOCATION:Welia Center: Fitness & Community Room\, 200 N 9th St\, Mora\, MN\, 55051-1147\, United States
CATEGORIES:Caravan
ATTACH;FMTTYPE=image/jpeg:https://www.weliahealth.org/wp-content/uploads/2023/05/Wellbeats-Zumba-430x200-1.jpg
END:VEVENT
BEGIN:VEVENT
DTSTART;TZID=America/Chicago:20230612T163000
DTEND;TZID=America/Chicago:20230612T170000
DTSTAMP:20260421T204713
CREATED:20230530T172546Z
LAST-MODIFIED:20230530T172547Z
UID:10001963-1686587400-1686589200@www.weliahealth.org
SUMMARY:Open Studio
DESCRIPTION:Come check out the classroom at Welia Center! Come to stretch\, do your own workout\, or try a free Wellbeats class!
URL:https://www.weliahealth.org/event/open-studio-7/2023-06-12/2/
LOCATION:Welia Center: Fitness & Community Room\, 200 N 9th St\, Mora\, MN\, 55051-1147\, United States
CATEGORIES:Caravan
ATTACH;FMTTYPE=image/jpeg:https://www.weliahealth.org/wp-content/uploads/2021/04/Generic-class-480x200-1.jpg
END:VEVENT
BEGIN:VEVENT
DTSTART;TZID=America/Chicago:20230612T160000
DTEND;TZID=America/Chicago:20230612T163000
DTSTAMP:20260421T204713
CREATED:20230530T165516Z
LAST-MODIFIED:20230530T173404Z
UID:10001914-1686585600-1686587400@www.weliahealth.org
SUMMARY:Wellbeats - Spin Class
DESCRIPTION:Join a free Wellbeats fitness class at Welia Center!  \n\n\n\nTry an indoor cycling cardio class that involves different combinations of sitting or standing\, leg speed (revolutions per minutes) and resistance. \n\n\n\nThere are six spin bikes available per class.
URL:https://www.weliahealth.org/event/wellbeats-spin-class-13/2023-06-12/
LOCATION:Welia Center: Fitness & Community Room\, 200 N 9th St\, Mora\, MN\, 55051-1147\, United States
CATEGORIES:Caravan
ATTACH;FMTTYPE=image/jpeg:https://www.weliahealth.org/wp-content/uploads/2021/04/spin-class-480x200-1.jpg
END:VEVENT
BEGIN:VEVENT
DTSTART;TZID=America/Chicago:20230612T094500
DTEND;TZID=America/Chicago:20230612T101500
DTSTAMP:20260421T204713
CREATED:20230530T172546Z
LAST-MODIFIED:20230530T172547Z
UID:10001962-1686563100-1686564900@www.weliahealth.org
SUMMARY:Open Studio
DESCRIPTION:Come check out the classroom at Welia Center! Come to stretch\, do your own workout\, or try a free Wellbeats class!
URL:https://www.weliahealth.org/event/open-studio-7/2023-06-12/1/
LOCATION:Welia Center: Fitness & Community Room\, 200 N 9th St\, Mora\, MN\, 55051-1147\, United States
CATEGORIES:Caravan
ATTACH;FMTTYPE=image/jpeg:https://www.weliahealth.org/wp-content/uploads/2021/04/Generic-class-480x200-1.jpg
END:VEVENT
BEGIN:VEVENT
DTSTART;TZID=America/Chicago:20230612T091500
DTEND;TZID=America/Chicago:20230612T100000
DTSTAMP:20260421T204713
CREATED:20230530T161901Z
LAST-MODIFIED:20230530T161903Z
UID:10001881-1686561300-1686564000@www.weliahealth.org
SUMMARY:Wellbeats - HIIT Class
DESCRIPTION:Join a free Wellbeats fitness class at Welia Center! \n\n\n\nTrain your body with a blend of HIIT (high intensity interval training)\, weight training\, and cardio. Fire up your metabolism in these quick-moving\, total-body workouts!
URL:https://www.weliahealth.org/event/wellbeats-hiit-class-10/2023-06-12/
LOCATION:Welia Center: Fitness & Community Room\, 200 N 9th St\, Mora\, MN\, 55051-1147\, United States
CATEGORIES:Caravan
ATTACH;FMTTYPE=image/jpeg:https://www.weliahealth.org/wp-content/uploads/2021/04/Generic-class-480x200-1.jpg
END:VEVENT
BEGIN:VEVENT
DTSTART;TZID=America/Chicago:20230612T083000
DTEND;TZID=America/Chicago:20230612T090500
DTSTAMP:20260421T204713
CREATED:20230530T170054Z
LAST-MODIFIED:20230530T170055Z
UID:10001924-1686558600-1686560700@www.weliahealth.org
SUMMARY:Wellbeats - Silver & Fit
DESCRIPTION:Join a free Wellbeats fitness class at Welia Center! \n\n\n\nThis class is for the active\, athletic older adult\, looking for a challenging free-standing workout. Increase heart health\, muscle endurance\, strength\, mobility and balance.
URL:https://www.weliahealth.org/event/wellbeats-silver-fit-11/2023-06-12/
LOCATION:Welia Center: Fitness & Community Room\, 200 N 9th St\, Mora\, MN\, 55051-1147\, United States
CATEGORIES:Caravan
ATTACH;FMTTYPE=image/jpeg:https://www.weliahealth.org/wp-content/uploads/2021/04/Silver-fit-480x200-1.jpg
END:VEVENT
BEGIN:VEVENT
DTSTART;TZID=America/Chicago:20230609T110000
DTEND;TZID=America/Chicago:20230609T130000
DTSTAMP:20260421T204713
CREATED:20230619T161030Z
LAST-MODIFIED:20230619T164158Z
UID:10002001-1686308400-1686315600@www.weliahealth.org
SUMMARY:Learn about the benefits of journaling at the Pine City Farmer's Market
DESCRIPTION:Visit us at the Pine City Farmers’ Market where we will have some valuable information about the benefits of journaling.  This week’s giveaway – a notebook\, some stickers and pens to get you started!
URL:https://www.weliahealth.org/event/learn-about-the-benefits-of-journaling-at-the-pine-city-farmers-market/
LOCATION:Pine City Fairgrounds\, 707 1st Ave NW\, Pine City\, MN\, 55063\, United States
CATEGORIES:Community Events,Farmer's Market
ATTACH;FMTTYPE=image/jpeg:https://www.weliahealth.org/wp-content/uploads/2023/06/Journaling_Event_430x200_v4.jpg
END:VEVENT
BEGIN:VEVENT
DTSTART;TZID=America/Chicago:20230609T091500
DTEND;TZID=America/Chicago:20230609T100000
DTSTAMP:20260421T204713
CREATED:20230530T161901Z
LAST-MODIFIED:20230530T161903Z
UID:10001880-1686302100-1686304800@www.weliahealth.org
SUMMARY:Wellbeats - HIIT Class
DESCRIPTION:Join a free Wellbeats fitness class at Welia Center! \n\n\n\nTrain your body with a blend of HIIT (high intensity interval training)\, weight training\, and cardio. Fire up your metabolism in these quick-moving\, total-body workouts!
URL:https://www.weliahealth.org/event/wellbeats-hiit-class-10/2023-06-09/
LOCATION:Welia Center: Fitness & Community Room\, 200 N 9th St\, Mora\, MN\, 55051-1147\, United States
CATEGORIES:Caravan
ATTACH;FMTTYPE=image/jpeg:https://www.weliahealth.org/wp-content/uploads/2021/04/Generic-class-480x200-1.jpg
END:VEVENT
BEGIN:VEVENT
DTSTART;TZID=America/Chicago:20230609T080000
DTEND;TZID=America/Chicago:20230609T083000
DTSTAMP:20260421T204713
CREATED:20230530T172546Z
LAST-MODIFIED:20230530T172547Z
UID:10001961-1686297600-1686299400@www.weliahealth.org
SUMMARY:Open Studio
DESCRIPTION:Come check out the classroom at Welia Center! Come to stretch\, do your own workout\, or try a free Wellbeats class!
URL:https://www.weliahealth.org/event/open-studio-7/2023-06-09/
LOCATION:Welia Center: Fitness & Community Room\, 200 N 9th St\, Mora\, MN\, 55051-1147\, United States
CATEGORIES:Caravan
ATTACH;FMTTYPE=image/jpeg:https://www.weliahealth.org/wp-content/uploads/2021/04/Generic-class-480x200-1.jpg
END:VEVENT
BEGIN:VEVENT
DTSTART;TZID=America/Chicago:20230609T071500
DTEND;TZID=America/Chicago:20230609T194500
DTSTAMP:20260421T204713
CREATED:20230530T165516Z
LAST-MODIFIED:20230530T173404Z
UID:10001913-1686294900-1686339900@www.weliahealth.org
SUMMARY:Wellbeats - Spin Class
DESCRIPTION:Join a free Wellbeats fitness class at Welia Center!  \n\n\n\nTry an indoor cycling cardio class that involves different combinations of sitting or standing\, leg speed (revolutions per minutes) and resistance. \n\n\n\nThere are six spin bikes available per class.
URL:https://www.weliahealth.org/event/wellbeats-spin-class-13/2023-06-09/
LOCATION:Welia Center: Fitness & Community Room\, 200 N 9th St\, Mora\, MN\, 55051-1147\, United States
CATEGORIES:Caravan
ATTACH;FMTTYPE=image/jpeg:https://www.weliahealth.org/wp-content/uploads/2021/04/spin-class-480x200-1.jpg
END:VEVENT
BEGIN:VEVENT
DTSTART;TZID=America/Chicago:20230607T180000
DTEND;TZID=America/Chicago:20230607T200000
DTSTAMP:20260421T204713
CREATED:20230124T225432Z
LAST-MODIFIED:20231106T151116Z
UID:10000804-1686160800-1686168000@www.weliahealth.org
SUMMARY:CPR\, AED and First Aid Class
DESCRIPTION:CPR\, AED and first aid training presented by the American Heart Association\n\n\n\n\n\nDesigned for employee training for companies\, corporations\, businesses or other entities. \n\n\n\nLearn about: \n\n\n\nAdult/child/infant choking CPR with/without mask Use of an automated external defibrillation (AED) and may include Adult First Aid (general principles\, medical emergencies\, injury emergencies\, and environmental emergencies)\n\n\n\nCard received:  \n\n\n\nHeartsaver CPR\, AED and first aid course completion card  \n\n\n\n[contact-form-7 id=”31686″ title=”CPR Class”]
URL:https://www.weliahealth.org/event/cpr-aed-and-fa-classes/2023-06-07/
LOCATION:Welia Health–Mora: Classroom\, 301 MN-65\, Mora\, MN\, 55051\, United States
CATEGORIES:First Aid CPR AED Course
ATTACH;FMTTYPE=image/jpeg:https://www.weliahealth.org/wp-content/uploads/2020/01/CPR-430x200.jpg
ORGANIZER;CN="Health and Wellness Coordinator":MAILTO:wellnesscenter@WeliaHealth.org
END:VEVENT
BEGIN:VEVENT
DTSTART;TZID=America/Chicago:20230607T161500
DTEND;TZID=America/Chicago:20230607T164500
DTSTAMP:20260421T204713
CREATED:20230530T164446Z
LAST-MODIFIED:20230530T164448Z
UID:10001904-1686154500-1686156300@www.weliahealth.org
SUMMARY:Wellbeats - Zumba Class
DESCRIPTION:Join a free Wellbeats fitness class at Welia Center!
URL:https://www.weliahealth.org/event/wellbeats-zumba-class-2/2023-06-07/
LOCATION:Welia Center: Fitness & Community Room\, 200 N 9th St\, Mora\, MN\, 55051-1147\, United States
CATEGORIES:Caravan
ATTACH;FMTTYPE=image/jpeg:https://www.weliahealth.org/wp-content/uploads/2023/05/Wellbeats-Zumba-430x200-1.jpg
END:VEVENT
BEGIN:VEVENT
DTSTART;TZID=America/Chicago:20230607T094500
DTEND;TZID=America/Chicago:20230607T101500
DTSTAMP:20260421T204713
CREATED:20230530T172546Z
LAST-MODIFIED:20230530T172547Z
UID:10001960-1686131100-1686132900@www.weliahealth.org
SUMMARY:Open Studio
DESCRIPTION:Come check out the classroom at Welia Center! Come to stretch\, do your own workout\, or try a free Wellbeats class!
URL:https://www.weliahealth.org/event/open-studio-7/2023-06-07/
LOCATION:Welia Center: Fitness & Community Room\, 200 N 9th St\, Mora\, MN\, 55051-1147\, United States
CATEGORIES:Caravan
ATTACH;FMTTYPE=image/jpeg:https://www.weliahealth.org/wp-content/uploads/2021/04/Generic-class-480x200-1.jpg
END:VEVENT
END:VCALENDAR