BEGIN:VCALENDAR
VERSION:2.0
PRODID:-//Welia Health - ECPv6.15.20//NONSGML v1.0//EN
CALSCALE:GREGORIAN
METHOD:PUBLISH
X-ORIGINAL-URL:https://www.weliahealth.org
X-WR-CALDESC:Events for Welia Health
REFRESH-INTERVAL;VALUE=DURATION:PT1H
X-Robots-Tag:noindex
X-PUBLISHED-TTL:PT1H
BEGIN:VTIMEZONE
TZID:America/Chicago
BEGIN:DAYLIGHT
TZOFFSETFROM:-0600
TZOFFSETTO:-0500
TZNAME:CDT
DTSTART:20250309T080000
END:DAYLIGHT
BEGIN:STANDARD
TZOFFSETFROM:-0500
TZOFFSETTO:-0600
TZNAME:CST
DTSTART:20251102T070000
END:STANDARD
BEGIN:DAYLIGHT
TZOFFSETFROM:-0600
TZOFFSETTO:-0500
TZNAME:CDT
DTSTART:20260308T080000
END:DAYLIGHT
BEGIN:STANDARD
TZOFFSETFROM:-0500
TZOFFSETTO:-0600
TZNAME:CST
DTSTART:20261101T070000
END:STANDARD
BEGIN:DAYLIGHT
TZOFFSETFROM:-0600
TZOFFSETTO:-0500
TZNAME:CDT
DTSTART:20270314T080000
END:DAYLIGHT
BEGIN:STANDARD
TZOFFSETFROM:-0500
TZOFFSETTO:-0600
TZNAME:CST
DTSTART:20271107T070000
END:STANDARD
END:VTIMEZONE
BEGIN:VEVENT
DTSTART;TZID=America/Chicago:20261201T130000
DTEND;TZID=America/Chicago:20261201T140000
DTSTAMP:20260419T104929
CREATED:20260109T204114Z
LAST-MODIFIED:20260310T133039Z
UID:10015239-1796130000-1796133600@www.weliahealth.org
SUMMARY:Lung Disease Support Group
DESCRIPTION:Living with a lung condition can feel challenging—but you don’t have to manage it alone. The Lung Disease Support Group offers a welcoming space for individuals living with conditions such as COPD\, asthma\, pulmonary hypertension\, or pulmonary fibrosis. Led by experienced pulmonary rehabilitation specialists\, the group provides education\, encouragement\, and practical strategies to help you navigate daily life. \nParticipants are invited to share experiences\, ask questions\, and connect with others who truly understand. \n\nAs a service to our community\, Welia Health support groups are free and open to all. \n\n\n\nHave questions or want to learn more?Call Welia Health Rehabilitation Services at 320.225.3646. \n\n\n\nThe Lung Disease Support Group meets on the first Tuesday of every other month from 1:00–2:00 PM at Welia Health’s Mora campus.
URL:https://www.weliahealth.org/event/2026-lung-disease-support-group-2/2026-12-01/
LOCATION:Welia Health–Mora: Conference Room 4\, 301 MN-65\, Mora\, MN\, 55051\, United States
CATEGORIES:Lung Disease,Support Groups
ATTACH;FMTTYPE=image/jpeg:https://www.weliahealth.org/wp-content/uploads/2018/12/Lung-SG-430x200.jpg
END:VEVENT
BEGIN:VEVENT
DTSTART;TZID=America/Chicago:20261203T133000
DTEND;TZID=America/Chicago:20261203T143000
DTSTAMP:20260419T104929
CREATED:20260109T192807Z
LAST-MODIFIED:20260310T133039Z
UID:10015164-1796304600-1796308200@www.weliahealth.org
SUMMARY:Diabetes Support Group – Mora
DESCRIPTION:Living with diabetes can feel overwhelming — but you don’t have to manage it alone. Welia Health’s Diabetes Support Group offers a supportive\, welcoming space for individuals with diabetes\, as well as family members and friends\, to connect\, learn\, and share experiences. \n\n\n \nLed by knowledgeable healthcare professionals\, group discussions focus on practical\, real-life topics to help you feel more confident and supported in your day-to-day diabetes care. \n\n\n \nWhether you’re newly diagnosed or have been managing diabetes for years\, you’re welcome here. \nThis group meets in Mora and Pine City. \n\nAs a service to our community\, Welia Health support groups are free and open to all. \n\n\n\nQuestions or interested in learning more? Our diabetes educators are happy to help. Call 320.679.1313.
URL:https://www.weliahealth.org/event/2026-diabetes-support-group-mora/2026-12-03/
LOCATION:Welia Health–Mora: Conference Room 2\, 301 MN-65\, Mora\, MN\, 55051\, United States
CATEGORIES:Diabetes (Mora),Support Groups
ATTACH;FMTTYPE=image/jpeg:https://www.weliahealth.org/wp-content/uploads/2018/12/Diabetes-SG-430x200.jpg
END:VEVENT
BEGIN:VEVENT
DTSTART;TZID=America/Chicago:20261216T130000
DTEND;TZID=America/Chicago:20261216T140000
DTSTAMP:20260419T104929
CREATED:20260109T183101Z
LAST-MODIFIED:20260310T133039Z
UID:10015153-1797426000-1797429600@www.weliahealth.org
SUMMARY:Caregivers Support Group
DESCRIPTION:Caring for a loved one with a chronic illness can be both meaningful and overwhelming. Welia Health’s Caregivers Support Group offers a welcoming\, confidential space for caregivers of individuals living with dementia\, Alzheimer’s disease\, cancer\, heart disease\, or other chronic health conditions. \nParticipants can share experiences\, learn practical coping strategies\, and connect with others who understand the challenges of caregiving. \nAs a service to our community\, Welia Health support groups are free of charge\, and all caregivers are welcome. \nQuestions or interested in learning more? Call one of the Caregivers Support Groups hosts. \n\nRachel Adams\, LSW\, Welia Health — 320.225.3576\nAngie Detert\, Caregiver Consultant\, Family Pathways — 320.364.3526\n\nThe Caregiver’s Support Group meets on the third Wednesday of each month from 1:00–2:00 PM at Welia Health’s Mora campus.
URL:https://www.weliahealth.org/event/2026-caregivers-support-group/2026-12-16/
LOCATION:Welia Health–Mora: Conference Room 2\, 301 MN-65\, Mora\, MN\, 55051\, United States
CATEGORIES:Caregivers,Support Groups
ATTACH;FMTTYPE=image/jpeg:https://www.weliahealth.org/wp-content/uploads/2018/12/CaregiversSG-430x200.jpg
END:VEVENT
BEGIN:VEVENT
DTSTART;TZID=America/Chicago:20261217T140000
DTEND;TZID=America/Chicago:20261217T153000
DTSTAMP:20260419T104929
CREATED:20260109T202357Z
LAST-MODIFIED:20260310T133040Z
UID:10015245-1797516000-1797521400@www.weliahealth.org
SUMMARY:Low Vision Support Group
DESCRIPTION:Adjusting to vision loss can feel overwhelming—but you don’t have to navigate it alone. The Low Vision Support Group offers a welcoming\, supportive environment for individuals experiencing vision loss\, as well as their family members and caregivers. This group provides a space to connect with others who understand\, share experiences and coping strategies\, and learn about helpful resources and tools that support independence in daily life. \nWelia Health is proud to support this group\, which is sponsored and led by State Services for the Blind\, part of the Minnesota Department of Employment and Economic Development. \nThe Low Vision Support Group is free and open to all. \nHave questions\, need more information\, or wondering about weather-related cancellations?\nCall Stacy Shamblott\, CTRS\, Aging Eyes Program Coordinator\, at 651.249.5118. \nThe Low Vision Support Group meets on the fourth Thursday of each month from 2:00–3:30 PM at the Mora United Methodist Church.\nPlease note: In November and December\, meetings will be held on the third Thursday to avoid holiday conflicts.
URL:https://www.weliahealth.org/event/2026-low-vision-support-group/2026-12-17/
LOCATION:Mora United Methodist Church\, 500 Clark Street\, Mora\, 55051\, United States
CATEGORIES:Low Vision,Support Groups
ATTACH;FMTTYPE=image/png:https://www.weliahealth.org/wp-content/uploads/2025/07/Low-Vision-SG-430x200-1-e1767990462589.png
END:VEVENT
BEGIN:VEVENT
DTSTART;TZID=America/Chicago:20261222T140000
DTEND;TZID=America/Chicago:20261222T150000
DTSTAMP:20260419T104929
CREATED:20260109T200527Z
LAST-MODIFIED:20260310T133039Z
UID:10015221-1797948000-1797951600@www.weliahealth.org
SUMMARY:Heart Disease Support Group
DESCRIPTION:Recover and move forward with confidence after a cardiac event or heart disease diagnosis. The Heart to Heart Support Group is a supportive group led by experienced cardiac rehabilitation professionals that offers education\, encouragement\, and connection with others on a similar journey. Topics include heart-healthy lifestyle habits\, stress management\, and current treatment options. \nAs a service to our community\, Welia Health support groups are free and open to all. \nHave questions or want to learn more?\nCall Welia Health Cardiac Rehabilitation at 320.225.3364. \nThe Heart to Heart Support Group meets on the fourth Tuesday of each month\, September–May\, from 2:00–3:00 PM at Welia Center’s Fitness & Community Room.
URL:https://www.weliahealth.org/event/2026-heart-disease-support-group/2026-12-22/
LOCATION:Welia Center: Fitness & Community Room\, 200 N 9th St\, Mora\, MN\, 55051-1147\, United States
CATEGORIES:Heart Disease,Support Groups
ATTACH;FMTTYPE=image/jpeg:https://www.weliahealth.org/wp-content/uploads/2018/12/Heart-SG-430x200.jpg
END:VEVENT
BEGIN:VEVENT
DTSTART;TZID=America/Chicago:20261230T133000
DTEND;TZID=America/Chicago:20261230T143000
DTSTAMP:20260419T104929
CREATED:20260109T193732Z
LAST-MODIFIED:20260310T133039Z
UID:10015210-1798637400-1798641000@www.weliahealth.org
SUMMARY:Diabetes Support Group – Pine City
DESCRIPTION:Living with diabetes can feel overwhelming — but you don’t have to manage it alone. Welia Health’s Diabetes Support Group offers a supportive\, welcoming space for individuals with diabetes\, as well as family members and friends\, to connect\, learn\, and share experiences. \n\n\n \nLed by knowledgeable healthcare professionals\, group discussions focus on practical\, real-life topics to help you feel more confident and supported in your day-to-day diabetes care. \n\n\n \nWhether you’re newly diagnosed or have been managing diabetes for years\, you’re welcome here. \nThis group meets in Mora and Pine City. \n \nAs a service to our community\, Welia Health support groups are free and open to all. \n\n\n \nQuestions or interested in learning more? Our diabetes educators are happy to help. Call 320.679.1313.
URL:https://www.weliahealth.org/event/2026-diabetes-support-group-pine-city/2026-12-30/
LOCATION:Timber Pines Assisted Living\, 650 Northridge Dr NW\, Pine City\, MN\, 55063\, United States
CATEGORIES:Diabetes (Pine City),Support Groups
ATTACH;FMTTYPE=image/jpeg:https://www.weliahealth.org/wp-content/uploads/2018/12/Diabetes-SG-430x200.jpg
END:VEVENT
END:VCALENDAR