BEGIN:VCALENDAR
VERSION:2.0
PRODID:-//Welia Health - ECPv6.15.20//NONSGML v1.0//EN
CALSCALE:GREGORIAN
METHOD:PUBLISH
X-ORIGINAL-URL:https://www.weliahealth.org
X-WR-CALDESC:Events for Welia Health
REFRESH-INTERVAL;VALUE=DURATION:PT1H
X-Robots-Tag:noindex
X-PUBLISHED-TTL:PT1H
BEGIN:VTIMEZONE
TZID:America/Chicago
BEGIN:DAYLIGHT
TZOFFSETFROM:-0600
TZOFFSETTO:-0500
TZNAME:CDT
DTSTART:20250309T080000
END:DAYLIGHT
BEGIN:STANDARD
TZOFFSETFROM:-0500
TZOFFSETTO:-0600
TZNAME:CST
DTSTART:20251102T070000
END:STANDARD
BEGIN:DAYLIGHT
TZOFFSETFROM:-0600
TZOFFSETTO:-0500
TZNAME:CDT
DTSTART:20260308T080000
END:DAYLIGHT
BEGIN:STANDARD
TZOFFSETFROM:-0500
TZOFFSETTO:-0600
TZNAME:CST
DTSTART:20261101T070000
END:STANDARD
BEGIN:DAYLIGHT
TZOFFSETFROM:-0600
TZOFFSETTO:-0500
TZNAME:CDT
DTSTART:20270314T080000
END:DAYLIGHT
BEGIN:STANDARD
TZOFFSETFROM:-0500
TZOFFSETTO:-0600
TZNAME:CST
DTSTART:20271107T070000
END:STANDARD
END:VTIMEZONE
BEGIN:VEVENT
DTSTART;TZID=America/Chicago:20260604T133000
DTEND;TZID=America/Chicago:20260604T143000
DTSTAMP:20260421T032437
CREATED:20260109T192807Z
LAST-MODIFIED:20260310T133039Z
UID:10015158-1780579800-1780583400@www.weliahealth.org
SUMMARY:Diabetes Support Group – Mora
DESCRIPTION:Living with diabetes can feel overwhelming — but you don’t have to manage it alone. Welia Health’s Diabetes Support Group offers a supportive\, welcoming space for individuals with diabetes\, as well as family members and friends\, to connect\, learn\, and share experiences. \n\n\n \nLed by knowledgeable healthcare professionals\, group discussions focus on practical\, real-life topics to help you feel more confident and supported in your day-to-day diabetes care. \n\n\n \nWhether you’re newly diagnosed or have been managing diabetes for years\, you’re welcome here. \nThis group meets in Mora and Pine City. \n\nAs a service to our community\, Welia Health support groups are free and open to all. \n\n\n\nQuestions or interested in learning more? Our diabetes educators are happy to help. Call 320.679.1313.
URL:https://www.weliahealth.org/event/2026-diabetes-support-group-mora/2026-06-04/
LOCATION:Welia Health–Mora: Conference Room 2\, 301 MN-65\, Mora\, MN\, 55051\, United States
CATEGORIES:Diabetes (Mora),Support Groups
ATTACH;FMTTYPE=image/jpeg:https://www.weliahealth.org/wp-content/uploads/2018/12/Diabetes-SG-430x200.jpg
END:VEVENT
BEGIN:VEVENT
DTSTART;TZID=America/Chicago:20260610T090000
DTEND;TZID=America/Chicago:20260610T143000
DTSTAMP:20260421T032437
CREATED:20260407T160249Z
LAST-MODIFIED:20260407T160249Z
UID:10015404-1781082000-1781101800@www.weliahealth.org
SUMMARY:2026 Safe Sitter Class - Pine City
DESCRIPTION:Safe Sitter® is designed to prepare students in grades 6-8 to be safe when they’re home alone\, watching younger siblings\, or babysitting. The Instructor-led class is filled with fun games and role-playing exercises. \n\n\n\nPlease contact the site coordinator below to sign up for a Safe Sitter class this June! Space is limited. The cost is $35. \n\n\n\n\nClasses designed for 11-14-year-olds\n\n\n\nEach class is limited to 20 students\n\n\n\nThe curriculum includes infant/child CPR\n\n\n\nPlease pack a lunch\n\n\n\nGraduation ceremony to follow. Parents are asked to attend!\n\n\n\nBe sure to sign the Image Release for Welia Health linked in the Sign-up Genius  — Image release – Welia Health\n\n\n\n\n\nSite coordinator: Teresa Plasek\, Administrative Asst/Community Ed/ECFE\n\n\n\nRegister:  https://isd578.ce.eleyo.com/courses/category/65/youth-enrichment or 320-629-4030
URL:https://www.weliahealth.org/event/2026-safe-sitter-class-pine-city/
LOCATION:Pine City Elementary School – Media Center\, 700 6th Ave SW\, Pine City\, Minnesota\, 55063\, United States
CATEGORIES:Classes,Safe Sitter
ATTACH;FMTTYPE=image/jpeg:https://www.weliahealth.org/wp-content/uploads/2022/05/safe-sitter.jpeg
END:VEVENT
BEGIN:VEVENT
DTSTART;TZID=America/Chicago:20260615T090000
DTEND;TZID=America/Chicago:20260615T143000
DTSTAMP:20260421T032437
CREATED:20260407T160629Z
LAST-MODIFIED:20260407T160629Z
UID:10015406-1781514000-1781533800@www.weliahealth.org
SUMMARY:2026 Safe Sitter Class - East Central
DESCRIPTION:Safe Sitter® is designed to prepare students in grades 6-8 to be safe when they’re home alone\, watching younger siblings\, or babysitting. The Instructor-led class is filled with fun games and role-playing exercises. \n\n\n\nPlease contact the site coordinator below to sign up for a Safe Sitter class this June! Space is limited. The cost is $32. \n\n\n\n\nClasses designed for 11-14-year-olds\n\n\n\nEach class is limited to 20 students\n\n\n\nThe curriculum includes infant/child CPR\n\n\n\nPlease pack a lunch\n\n\n\nGraduation ceremony to follow. Parents are asked to attend!\n\n\n\nBe sure to sign the Image Release for Welia Health linked in the Sign-up Genius  — Image release – Welia Health\n\n\n\n\n\nSite coordinator: Brittany Volk\, Community Education Coordinator\n\n\n\nRegister: 320-245-6023
URL:https://www.weliahealth.org/event/2026-safe-sitter-class-east-central/
LOCATION:East Central Schools – Board Room 203\, 61085 State Hwy 23\, Finlayson\, Minnesota\, 55735\, United States
CATEGORIES:Classes,Safe Sitter
ATTACH;FMTTYPE=image/jpeg:https://www.weliahealth.org/wp-content/uploads/2022/05/safe-sitter.jpeg
END:VEVENT
BEGIN:VEVENT
DTSTART;TZID=America/Chicago:20260616T090000
DTEND;TZID=America/Chicago:20260616T143000
DTSTAMP:20260421T032437
CREATED:20260407T165528Z
LAST-MODIFIED:20260407T165528Z
UID:10015410-1781600400-1781620200@www.weliahealth.org
SUMMARY:2026 Safe Sitter-Hinckley
DESCRIPTION:Safe Sitter Class – Hinckley \n\n\n\nJune 16\, 2026 @ 9:00 am – 2:30 pm\n\n\n\nSafe Sitter® is designed to prepare students in grades 6-8 to be safe when they’re home alone\, watching younger siblings\, or babysitting. The Instructor-led class is filled with fun games and role-playing exercises. \n\n\n\nPlease contact the site coordinator below to sign up for a Safe Sitter class this June! Space is limited. The cost is $30. \n\n\n\n\nClasses designed for 11-14-year-olds\n\n\n\nEach class is limited to 20 students\n\n\n\nThe curriculum includes infant/child CPR\n\n\n\nPlease pack a lunch\n\n\n\nGraduation ceremony to follow. Parents are asked to attend!\n\n\n\nBe sure to sign the Image Release for Welia Health linked in the Sign-up Genius  — Image release – Welia Health\n\n\n\n\nRegister: commed@isd2165.org \n\n\n\nSite coordinator: Pam Riggle\, Community Education Coordinator \n\n\n\n\n\n\n\n\n\n\n\n\n\n\n\n 
URL:https://www.weliahealth.org/event/2026-safe-sitter-hinckley/
LOCATION:Hinckley-Finlayson Fitness Center\, 201 Main Street E\, Hinckley\, MN\, 55037\, United States
CATEGORIES:Safe Sitter
ATTACH;FMTTYPE=image/jpeg:https://www.weliahealth.org/wp-content/uploads/2022/05/safe-sitter.jpeg
END:VEVENT
BEGIN:VEVENT
DTSTART;TZID=America/Chicago:20260617T130000
DTEND;TZID=America/Chicago:20260617T140000
DTSTAMP:20260421T032437
CREATED:20260109T183101Z
LAST-MODIFIED:20260310T133039Z
UID:10015147-1781701200-1781704800@www.weliahealth.org
SUMMARY:Caregivers Support Group
DESCRIPTION:Caring for a loved one with a chronic illness can be both meaningful and overwhelming. Welia Health’s Caregivers Support Group offers a welcoming\, confidential space for caregivers of individuals living with dementia\, Alzheimer’s disease\, cancer\, heart disease\, or other chronic health conditions. \nParticipants can share experiences\, learn practical coping strategies\, and connect with others who understand the challenges of caregiving. \nAs a service to our community\, Welia Health support groups are free of charge\, and all caregivers are welcome. \nQuestions or interested in learning more? Call one of the Caregivers Support Groups hosts. \n\nRachel Adams\, LSW\, Welia Health — 320.225.3576\nAngie Detert\, Caregiver Consultant\, Family Pathways — 320.364.3526\n\nThe Caregiver’s Support Group meets on the third Wednesday of each month from 1:00–2:00 PM at Welia Health’s Mora campus.
URL:https://www.weliahealth.org/event/2026-caregivers-support-group/2026-06-17/
LOCATION:Welia Health–Mora: Conference Room 2\, 301 MN-65\, Mora\, MN\, 55051\, United States
CATEGORIES:Caregivers,Support Groups
ATTACH;FMTTYPE=image/jpeg:https://www.weliahealth.org/wp-content/uploads/2018/12/CaregiversSG-430x200.jpg
END:VEVENT
BEGIN:VEVENT
DTSTART;TZID=America/Chicago:20260624T133000
DTEND;TZID=America/Chicago:20260624T143000
DTSTAMP:20260421T032437
CREATED:20260109T193732Z
LAST-MODIFIED:20260310T133039Z
UID:10015204-1782307800-1782311400@www.weliahealth.org
SUMMARY:Diabetes Support Group – Pine City
DESCRIPTION:Living with diabetes can feel overwhelming — but you don’t have to manage it alone. Welia Health’s Diabetes Support Group offers a supportive\, welcoming space for individuals with diabetes\, as well as family members and friends\, to connect\, learn\, and share experiences. \n\n\n \nLed by knowledgeable healthcare professionals\, group discussions focus on practical\, real-life topics to help you feel more confident and supported in your day-to-day diabetes care. \n\n\n \nWhether you’re newly diagnosed or have been managing diabetes for years\, you’re welcome here. \nThis group meets in Mora and Pine City. \n \nAs a service to our community\, Welia Health support groups are free and open to all. \n\n\n \nQuestions or interested in learning more? Our diabetes educators are happy to help. Call 320.679.1313.
URL:https://www.weliahealth.org/event/2026-diabetes-support-group-pine-city/2026-06-24/
LOCATION:Timber Pines Assisted Living\, 650 Northridge Dr NW\, Pine City\, MN\, 55063\, United States
CATEGORIES:Diabetes (Pine City),Support Groups
ATTACH;FMTTYPE=image/jpeg:https://www.weliahealth.org/wp-content/uploads/2018/12/Diabetes-SG-430x200.jpg
END:VEVENT
BEGIN:VEVENT
DTSTART;TZID=America/Chicago:20260625T140000
DTEND;TZID=America/Chicago:20260625T153000
DTSTAMP:20260421T032437
CREATED:20260109T202357Z
LAST-MODIFIED:20260310T133040Z
UID:10015227-1782396000-1782401400@www.weliahealth.org
SUMMARY:Low Vision Support Group
DESCRIPTION:Adjusting to vision loss can feel overwhelming—but you don’t have to navigate it alone. The Low Vision Support Group offers a welcoming\, supportive environment for individuals experiencing vision loss\, as well as their family members and caregivers. This group provides a space to connect with others who understand\, share experiences and coping strategies\, and learn about helpful resources and tools that support independence in daily life. \nWelia Health is proud to support this group\, which is sponsored and led by State Services for the Blind\, part of the Minnesota Department of Employment and Economic Development. \nThe Low Vision Support Group is free and open to all. \nHave questions\, need more information\, or wondering about weather-related cancellations?\nCall Stacy Shamblott\, CTRS\, Aging Eyes Program Coordinator\, at 651.249.5118. \nThe Low Vision Support Group meets on the fourth Thursday of each month from 2:00–3:30 PM at the Mora United Methodist Church.\nPlease note: In November and December\, meetings will be held on the third Thursday to avoid holiday conflicts.
URL:https://www.weliahealth.org/event/2026-low-vision-support-group/2026-06-25/
LOCATION:Mora United Methodist Church\, 500 Clark Street\, Mora\, 55051\, United States
CATEGORIES:Low Vision,Support Groups
ATTACH;FMTTYPE=image/png:https://www.weliahealth.org/wp-content/uploads/2025/07/Low-Vision-SG-430x200-1-e1767990462589.png
END:VEVENT
END:VCALENDAR