BEGIN:VCALENDAR
VERSION:2.0
PRODID:-//Welia Health - ECPv6.15.20//NONSGML v1.0//EN
CALSCALE:GREGORIAN
METHOD:PUBLISH
X-WR-CALNAME:Welia Health
X-ORIGINAL-URL:https://www.weliahealth.org
X-WR-CALDESC:Events for Welia Health
REFRESH-INTERVAL;VALUE=DURATION:PT1H
X-Robots-Tag:noindex
X-PUBLISHED-TTL:PT1H
BEGIN:VTIMEZONE
TZID:America/Chicago
BEGIN:DAYLIGHT
TZOFFSETFROM:-0600
TZOFFSETTO:-0500
TZNAME:CDT
DTSTART:20220313T080000
END:DAYLIGHT
BEGIN:STANDARD
TZOFFSETFROM:-0500
TZOFFSETTO:-0600
TZNAME:CST
DTSTART:20221106T070000
END:STANDARD
BEGIN:DAYLIGHT
TZOFFSETFROM:-0600
TZOFFSETTO:-0500
TZNAME:CDT
DTSTART:20230312T080000
END:DAYLIGHT
BEGIN:STANDARD
TZOFFSETFROM:-0500
TZOFFSETTO:-0600
TZNAME:CST
DTSTART:20231105T070000
END:STANDARD
BEGIN:DAYLIGHT
TZOFFSETFROM:-0600
TZOFFSETTO:-0500
TZNAME:CDT
DTSTART:20240310T080000
END:DAYLIGHT
BEGIN:STANDARD
TZOFFSETFROM:-0500
TZOFFSETTO:-0600
TZNAME:CST
DTSTART:20241103T070000
END:STANDARD
END:VTIMEZONE
BEGIN:VEVENT
DTSTART;TZID=America/Chicago:20230522T170000
DTEND;TZID=America/Chicago:20230522T173000
DTSTAMP:20260421T065515
CREATED:20230512T212846Z
LAST-MODIFIED:20230513T010709Z
UID:10001752-1684774800-1684776600@www.weliahealth.org
SUMMARY:Wellbeats Class\, Yoga
DESCRIPTION:Join us for a free Wellbeats fitness class at Welia Center! \n\n\n\nDiscover a unique fusion of yoga and Pilates. Improve your mind-body connection while building stronger\, leaner muscles.
URL:https://www.weliahealth.org/event/wellbeats-class-yoga-5/2023-05-22/
LOCATION:Welia Center\, 200 N 9th St\, Mora\, MN\, 55051-1147\, United States
CATEGORIES:Caravan,Classes
ATTACH;FMTTYPE=image/png:https://www.weliahealth.org/wp-content/uploads/2021/12/yoga-class.png
END:VEVENT
BEGIN:VEVENT
DTSTART;TZID=America/Chicago:20230523T083000
DTEND;TZID=America/Chicago:20230523T090500
DTSTAMP:20260421T065515
CREATED:20230512T213619Z
LAST-MODIFIED:20230512T213621Z
UID:10001766-1684830600-1684832700@www.weliahealth.org
SUMMARY:Wellbeats - Silver & Fit
DESCRIPTION:Join a free Wellbeats fitness class at Welia Center! \n\n\n\nThis class is for the active\, athletic older adult\, looking for a challenging free-standing workout. Increase heart health\, muscle endurance\, strength\, mobility and balance. \n\n\n\nJanuary Wellbeats CalendarDownload\n\n\n\nJanuary Wellbeats Class DescriptionsDownload
URL:https://www.weliahealth.org/event/wellbeats-silver-fit/2023-05-23/
LOCATION:Welia Center: Fitness & Community Room\, 200 N 9th St\, Mora\, MN\, 55051-1147\, United States
CATEGORIES:Caravan
ATTACH;FMTTYPE=image/jpeg:https://www.weliahealth.org/wp-content/uploads/2021/04/Silver-fit-480x200-1.jpg
END:VEVENT
BEGIN:VEVENT
DTSTART;TZID=America/Chicago:20230523T091500
DTEND;TZID=America/Chicago:20230523T094500
DTSTAMP:20260421T065515
CREATED:20230512T212846Z
LAST-MODIFIED:20230513T010709Z
UID:10001824-1684833300-1684835100@www.weliahealth.org
SUMMARY:Wellbeats Class\, Yoga
DESCRIPTION:Join us for a free Wellbeats fitness class at Welia Center! \n\n\n\nDiscover a unique fusion of yoga and Pilates. Improve your mind-body connection while building stronger\, leaner muscles.
URL:https://www.weliahealth.org/event/wellbeats-class-yoga-5/2023-05-23/
LOCATION:Welia Center\, 200 N 9th St\, Mora\, MN\, 55051-1147\, United States
CATEGORIES:Caravan,Classes
ATTACH;FMTTYPE=image/png:https://www.weliahealth.org/wp-content/uploads/2021/12/yoga-class.png
END:VEVENT
BEGIN:VEVENT
DTSTART;TZID=America/Chicago:20230523T140000
DTEND;TZID=America/Chicago:20230523T150000
DTSTAMP:20260421T065515
CREATED:20230315T165728Z
LAST-MODIFIED:20230316T205812Z
UID:10001655-1684850400-1684854000@www.weliahealth.org
SUMMARY:Heart to Heart support group
DESCRIPTION:Heart to Heart is a cardiac rehabilitation support group for those who have had a cardiac event or who have heart disease along with their families and friends
URL:https://www.weliahealth.org/event/heart-to-heart-support-group/2023-05-23/
LOCATION:Welia Health–Mora: Conference Rooms\, 301 MN-65\, Mora\, MN\, 55051\, United States
CATEGORIES:Heart Disease
ATTACH;FMTTYPE=image/jpeg:https://www.weliahealth.org/wp-content/uploads/2018/12/Heart-SG-430x200.jpg
END:VEVENT
BEGIN:VEVENT
DTSTART;TZID=America/Chicago:20230523T153000
DTEND;TZID=America/Chicago:20230523T160000
DTSTAMP:20260421T065515
CREATED:20230513T003720Z
LAST-MODIFIED:20230513T005327Z
UID:10001816-1684855800-1684857600@www.weliahealth.org
SUMMARY:Wellbeats - HIIT Class
DESCRIPTION:Join a free Wellbeats fitness class at Welia Center! \n\n\n\nTrain your body with a blend of HIIT (high intensity interval training)\, weight training\, and cardio. Fire up your metabolism in these quick-moving\, total-body workouts!
URL:https://www.weliahealth.org/event/wellbeats-hiit-class-9/2023-05-23/
LOCATION:Welia Center: Fitness & Community Room\, 200 N 9th St\, Mora\, MN\, 55051-1147\, United States
CATEGORIES:Caravan
ATTACH;FMTTYPE=image/jpeg:https://www.weliahealth.org/wp-content/uploads/2021/04/Generic-class-480x200-1.jpg
END:VEVENT
BEGIN:VEVENT
DTSTART;TZID=America/Chicago:20230523T160000
DTEND;TZID=America/Chicago:20230523T163000
DTSTAMP:20260421T065515
CREATED:20230512T215144Z
LAST-MODIFIED:20230513T011116Z
UID:10001787-1684857600-1684859400@www.weliahealth.org
SUMMARY:Wellbeats - Class Choice
DESCRIPTION:Join a free Wellbeats fitness class at Welia Center! \n\n\n\nChoose a class from one of the channels! Anything from yoga\, Zumba\, sculpting\, step and more!
URL:https://www.weliahealth.org/event/wellbeats-class-choice/2023-05-23/
LOCATION:Welia Center: Fitness & Community Room\, 200 N 9th St\, Mora\, MN\, 55051-1147\, United States
CATEGORIES:Caravan
ATTACH;FMTTYPE=image/jpeg:https://www.weliahealth.org/wp-content/uploads/2021/04/Generic-class-480x200-1.jpg
END:VEVENT
BEGIN:VEVENT
DTSTART;TZID=America/Chicago:20230523T170000
DTEND;TZID=America/Chicago:20230523T190000
DTSTAMP:20260421T065515
CREATED:20230317T163648Z
LAST-MODIFIED:20230317T163650Z
UID:10001682-1684861200-1684868400@www.weliahealth.org
SUMMARY:Prenatal Education Classes\, Mora
DESCRIPTION:Congratulations!\nPregnancy—what an exciting and emotional time! Welia Health’s prenatal classes have been designed to prepare you for pregnancy\, labor and caring for your newborn. Learn more about the topics to be covered during this four-part series. \nClasses are available in Mora. They begin on the first Tuesday of the month and meet weekly for four weeks from 5–7pm. \n2023 Prenatal Classes \n\nFebruary 7\, 14\, 21 and 28\nMay 2\, 9\, 16\, and 23 \nAugust 1\, 8\, 15 and 22\nNovember 7\, 14\, 21 and 28\n\nFor more information\, please get in touch with Welia Health at 320.225.3528. \nRegistration for this free series is required. \n[contact-form-7 id=”19337″ title=”Prenatal Class”]
URL:https://www.weliahealth.org/event/prenatal-education-classes-mora-8/2023-05-23/
LOCATION:MN
CATEGORIES:Classes,Prenatal
ATTACH;FMTTYPE=image/jpeg:https://www.weliahealth.org/wp-content/uploads/2018/12/Prenatal-Class-430x200.jpg
END:VEVENT
BEGIN:VEVENT
DTSTART;TZID=America/Chicago:20230524T083000
DTEND;TZID=America/Chicago:20230524T090500
DTSTAMP:20260421T065515
CREATED:20230512T213619Z
LAST-MODIFIED:20230512T213621Z
UID:10001767-1684917000-1684919100@www.weliahealth.org
SUMMARY:Wellbeats - Silver & Fit
DESCRIPTION:Join a free Wellbeats fitness class at Welia Center! \n\n\n\nThis class is for the active\, athletic older adult\, looking for a challenging free-standing workout. Increase heart health\, muscle endurance\, strength\, mobility and balance. \n\n\n\nJanuary Wellbeats CalendarDownload\n\n\n\nJanuary Wellbeats Class DescriptionsDownload
URL:https://www.weliahealth.org/event/wellbeats-silver-fit/2023-05-24/
LOCATION:Welia Center: Fitness & Community Room\, 200 N 9th St\, Mora\, MN\, 55051-1147\, United States
CATEGORIES:Caravan
ATTACH;FMTTYPE=image/jpeg:https://www.weliahealth.org/wp-content/uploads/2021/04/Silver-fit-480x200-1.jpg
END:VEVENT
BEGIN:VEVENT
DTSTART;TZID=America/Chicago:20230524T091500
DTEND;TZID=America/Chicago:20230524T093500
DTSTAMP:20260421T065515
CREATED:20230513T002105Z
LAST-MODIFIED:20230522T170603Z
UID:10001808-1684919700-1684920900@www.weliahealth.org
SUMMARY:Wellbeats - Zumba Class
DESCRIPTION:Join a free Wellbeats fitness class at Welia Center!
URL:https://www.weliahealth.org/event/wellbeats-zumba-class/2023-05-24/
LOCATION:Welia Center: Fitness & Community Room\, 200 N 9th St\, Mora\, MN\, 55051-1147\, United States
CATEGORIES:Caravan
ATTACH;FMTTYPE=image/jpeg:https://www.weliahealth.org/wp-content/uploads/2023/05/Wellbeats-Zumba-430x200-1.jpg
END:VEVENT
BEGIN:VEVENT
DTSTART;TZID=America/Chicago:20230524T094500
DTEND;TZID=America/Chicago:20230524T101500
DTSTAMP:20260421T065515
CREATED:20230512T215144Z
LAST-MODIFIED:20230513T011116Z
UID:10001788-1684921500-1684923300@www.weliahealth.org
SUMMARY:Wellbeats - Class Choice
DESCRIPTION:Join a free Wellbeats fitness class at Welia Center! \n\n\n\nChoose a class from one of the channels! Anything from yoga\, Zumba\, sculpting\, step and more!
URL:https://www.weliahealth.org/event/wellbeats-class-choice/2023-05-24/1/
LOCATION:Welia Center: Fitness & Community Room\, 200 N 9th St\, Mora\, MN\, 55051-1147\, United States
CATEGORIES:Caravan
ATTACH;FMTTYPE=image/jpeg:https://www.weliahealth.org/wp-content/uploads/2021/04/Generic-class-480x200-1.jpg
END:VEVENT
BEGIN:VEVENT
DTSTART;TZID=America/Chicago:20230524T161500
DTEND;TZID=America/Chicago:20230524T164500
DTSTAMP:20260421T065515
CREATED:20230512T215144Z
LAST-MODIFIED:20230513T011116Z
UID:10001789-1684944900-1684946700@www.weliahealth.org
SUMMARY:Wellbeats - Class Choice
DESCRIPTION:Join a free Wellbeats fitness class at Welia Center! \n\n\n\nChoose a class from one of the channels! Anything from yoga\, Zumba\, sculpting\, step and more!
URL:https://www.weliahealth.org/event/wellbeats-class-choice/2023-05-24/2/
LOCATION:Welia Center: Fitness & Community Room\, 200 N 9th St\, Mora\, MN\, 55051-1147\, United States
CATEGORIES:Caravan
ATTACH;FMTTYPE=image/jpeg:https://www.weliahealth.org/wp-content/uploads/2021/04/Generic-class-480x200-1.jpg
END:VEVENT
BEGIN:VEVENT
DTSTART;TZID=America/Chicago:20230525T083000
DTEND;TZID=America/Chicago:20230525T090500
DTSTAMP:20260421T065515
CREATED:20230512T213619Z
LAST-MODIFIED:20230512T213621Z
UID:10001768-1685003400-1685005500@www.weliahealth.org
SUMMARY:Wellbeats - Silver & Fit
DESCRIPTION:Join a free Wellbeats fitness class at Welia Center! \n\n\n\nThis class is for the active\, athletic older adult\, looking for a challenging free-standing workout. Increase heart health\, muscle endurance\, strength\, mobility and balance. \n\n\n\nJanuary Wellbeats CalendarDownload\n\n\n\nJanuary Wellbeats Class DescriptionsDownload
URL:https://www.weliahealth.org/event/wellbeats-silver-fit/2023-05-25/
LOCATION:Welia Center: Fitness & Community Room\, 200 N 9th St\, Mora\, MN\, 55051-1147\, United States
CATEGORIES:Caravan
ATTACH;FMTTYPE=image/jpeg:https://www.weliahealth.org/wp-content/uploads/2021/04/Silver-fit-480x200-1.jpg
END:VEVENT
BEGIN:VEVENT
DTSTART;TZID=America/Chicago:20230525T091500
DTEND;TZID=America/Chicago:20230525T094500
DTSTAMP:20260421T065515
CREATED:20230512T212846Z
LAST-MODIFIED:20230513T010709Z
UID:10001825-1685006100-1685007900@www.weliahealth.org
SUMMARY:Wellbeats Class\, Yoga
DESCRIPTION:Join us for a free Wellbeats fitness class at Welia Center! \n\n\n\nDiscover a unique fusion of yoga and Pilates. Improve your mind-body connection while building stronger\, leaner muscles.
URL:https://www.weliahealth.org/event/wellbeats-class-yoga-5/2023-05-25/
LOCATION:Welia Center\, 200 N 9th St\, Mora\, MN\, 55051-1147\, United States
CATEGORIES:Caravan,Classes
ATTACH;FMTTYPE=image/png:https://www.weliahealth.org/wp-content/uploads/2021/12/yoga-class.png
END:VEVENT
BEGIN:VEVENT
DTSTART;TZID=America/Chicago:20230525T153000
DTEND;TZID=America/Chicago:20230525T160000
DTSTAMP:20260421T065515
CREATED:20230513T003720Z
LAST-MODIFIED:20230513T005327Z
UID:10001820-1685028600-1685030400@www.weliahealth.org
SUMMARY:Wellbeats - HIIT Class
DESCRIPTION:Join a free Wellbeats fitness class at Welia Center! \n\n\n\nTrain your body with a blend of HIIT (high intensity interval training)\, weight training\, and cardio. Fire up your metabolism in these quick-moving\, total-body workouts!
URL:https://www.weliahealth.org/event/wellbeats-hiit-class-9/2023-05-25/
LOCATION:Welia Center: Fitness & Community Room\, 200 N 9th St\, Mora\, MN\, 55051-1147\, United States
CATEGORIES:Caravan
ATTACH;FMTTYPE=image/jpeg:https://www.weliahealth.org/wp-content/uploads/2021/04/Generic-class-480x200-1.jpg
END:VEVENT
BEGIN:VEVENT
DTSTART;TZID=America/Chicago:20230525T160000
DTEND;TZID=America/Chicago:20230525T163000
DTSTAMP:20260421T065515
CREATED:20230512T215144Z
LAST-MODIFIED:20230513T011116Z
UID:10001790-1685030400-1685032200@www.weliahealth.org
SUMMARY:Wellbeats - Class Choice
DESCRIPTION:Join a free Wellbeats fitness class at Welia Center! \n\n\n\nChoose a class from one of the channels! Anything from yoga\, Zumba\, sculpting\, step and more!
URL:https://www.weliahealth.org/event/wellbeats-class-choice/2023-05-25/
LOCATION:Welia Center: Fitness & Community Room\, 200 N 9th St\, Mora\, MN\, 55051-1147\, United States
CATEGORIES:Caravan
ATTACH;FMTTYPE=image/jpeg:https://www.weliahealth.org/wp-content/uploads/2021/04/Generic-class-480x200-1.jpg
END:VEVENT
BEGIN:VEVENT
DTSTART;TZID=America/Chicago:20230526T071500
DTEND;TZID=America/Chicago:20230526T073500
DTSTAMP:20260421T065515
CREATED:20230513T002105Z
LAST-MODIFIED:20230522T170603Z
UID:10001809-1685085300-1685086500@www.weliahealth.org
SUMMARY:Wellbeats - Zumba Class
DESCRIPTION:Join a free Wellbeats fitness class at Welia Center!
URL:https://www.weliahealth.org/event/wellbeats-zumba-class/2023-05-26/
LOCATION:Welia Center: Fitness & Community Room\, 200 N 9th St\, Mora\, MN\, 55051-1147\, United States
CATEGORIES:Caravan
ATTACH;FMTTYPE=image/jpeg:https://www.weliahealth.org/wp-content/uploads/2023/05/Wellbeats-Zumba-430x200-1.jpg
END:VEVENT
BEGIN:VEVENT
DTSTART;TZID=America/Chicago:20230526T090000
DTEND;TZID=America/Chicago:20230526T093000
DTSTAMP:20260421T065515
CREATED:20230512T215144Z
LAST-MODIFIED:20230513T011116Z
UID:10001791-1685091600-1685093400@www.weliahealth.org
SUMMARY:Wellbeats - Class Choice
DESCRIPTION:Join a free Wellbeats fitness class at Welia Center! \n\n\n\nChoose a class from one of the channels! Anything from yoga\, Zumba\, sculpting\, step and more!
URL:https://www.weliahealth.org/event/wellbeats-class-choice/2023-05-26/
LOCATION:Welia Center: Fitness & Community Room\, 200 N 9th St\, Mora\, MN\, 55051-1147\, United States
CATEGORIES:Caravan
ATTACH;FMTTYPE=image/jpeg:https://www.weliahealth.org/wp-content/uploads/2021/04/Generic-class-480x200-1.jpg
END:VEVENT
BEGIN:VEVENT
DTSTART;TZID=America/Chicago:20230530T083000
DTEND;TZID=America/Chicago:20230530T090500
DTSTAMP:20260421T065515
CREATED:20230512T213619Z
LAST-MODIFIED:20230512T213621Z
UID:10001769-1685435400-1685437500@www.weliahealth.org
SUMMARY:Wellbeats - Silver & Fit
DESCRIPTION:Join a free Wellbeats fitness class at Welia Center! \n\n\n\nThis class is for the active\, athletic older adult\, looking for a challenging free-standing workout. Increase heart health\, muscle endurance\, strength\, mobility and balance. \n\n\n\nJanuary Wellbeats CalendarDownload\n\n\n\nJanuary Wellbeats Class DescriptionsDownload
URL:https://www.weliahealth.org/event/wellbeats-silver-fit/2023-05-30/
LOCATION:Welia Center: Fitness & Community Room\, 200 N 9th St\, Mora\, MN\, 55051-1147\, United States
CATEGORIES:Caravan
ATTACH;FMTTYPE=image/jpeg:https://www.weliahealth.org/wp-content/uploads/2021/04/Silver-fit-480x200-1.jpg
END:VEVENT
BEGIN:VEVENT
DTSTART;TZID=America/Chicago:20230530T091500
DTEND;TZID=America/Chicago:20230530T093500
DTSTAMP:20260421T065515
CREATED:20230512T212846Z
LAST-MODIFIED:20230513T010709Z
UID:10001753-1685438100-1685439300@www.weliahealth.org
SUMMARY:Wellbeats Class\, Yoga
DESCRIPTION:Join us for a free Wellbeats fitness class at Welia Center! \n\n\n\nDiscover a unique fusion of yoga and Pilates. Improve your mind-body connection while building stronger\, leaner muscles.
URL:https://www.weliahealth.org/event/wellbeats-class-yoga-5/2023-05-30/
LOCATION:Welia Center\, 200 N 9th St\, Mora\, MN\, 55051-1147\, United States
CATEGORIES:Caravan,Classes
ATTACH;FMTTYPE=image/png:https://www.weliahealth.org/wp-content/uploads/2021/12/yoga-class.png
END:VEVENT
BEGIN:VEVENT
DTSTART;TZID=America/Chicago:20230530T153000
DTEND;TZID=America/Chicago:20230530T160000
DTSTAMP:20260421T065515
CREATED:20230513T003720Z
LAST-MODIFIED:20230513T005327Z
UID:10001817-1685460600-1685462400@www.weliahealth.org
SUMMARY:Wellbeats - HIIT Class
DESCRIPTION:Join a free Wellbeats fitness class at Welia Center! \n\n\n\nTrain your body with a blend of HIIT (high intensity interval training)\, weight training\, and cardio. Fire up your metabolism in these quick-moving\, total-body workouts!
URL:https://www.weliahealth.org/event/wellbeats-hiit-class-9/2023-05-30/
LOCATION:Welia Center: Fitness & Community Room\, 200 N 9th St\, Mora\, MN\, 55051-1147\, United States
CATEGORIES:Caravan
ATTACH;FMTTYPE=image/jpeg:https://www.weliahealth.org/wp-content/uploads/2021/04/Generic-class-480x200-1.jpg
END:VEVENT
BEGIN:VEVENT
DTSTART;TZID=America/Chicago:20230530T160000
DTEND;TZID=America/Chicago:20230530T163000
DTSTAMP:20260421T065515
CREATED:20230512T215144Z
LAST-MODIFIED:20230513T011116Z
UID:10001792-1685462400-1685464200@www.weliahealth.org
SUMMARY:Wellbeats - Class Choice
DESCRIPTION:Join a free Wellbeats fitness class at Welia Center! \n\n\n\nChoose a class from one of the channels! Anything from yoga\, Zumba\, sculpting\, step and more!
URL:https://www.weliahealth.org/event/wellbeats-class-choice/2023-05-30/
LOCATION:Welia Center: Fitness & Community Room\, 200 N 9th St\, Mora\, MN\, 55051-1147\, United States
CATEGORIES:Caravan
ATTACH;FMTTYPE=image/jpeg:https://www.weliahealth.org/wp-content/uploads/2021/04/Generic-class-480x200-1.jpg
END:VEVENT
BEGIN:VEVENT
DTSTART;TZID=America/Chicago:20230531T083000
DTEND;TZID=America/Chicago:20230531T090500
DTSTAMP:20260421T065515
CREATED:20230512T213619Z
LAST-MODIFIED:20230512T213621Z
UID:10001770-1685521800-1685523900@www.weliahealth.org
SUMMARY:Wellbeats - Silver & Fit
DESCRIPTION:Join a free Wellbeats fitness class at Welia Center! \n\n\n\nThis class is for the active\, athletic older adult\, looking for a challenging free-standing workout. Increase heart health\, muscle endurance\, strength\, mobility and balance. \n\n\n\nJanuary Wellbeats CalendarDownload\n\n\n\nJanuary Wellbeats Class DescriptionsDownload
URL:https://www.weliahealth.org/event/wellbeats-silver-fit/2023-05-31/
LOCATION:Welia Center: Fitness & Community Room\, 200 N 9th St\, Mora\, MN\, 55051-1147\, United States
CATEGORIES:Caravan
ATTACH;FMTTYPE=image/jpeg:https://www.weliahealth.org/wp-content/uploads/2021/04/Silver-fit-480x200-1.jpg
END:VEVENT
BEGIN:VEVENT
DTSTART;TZID=America/Chicago:20230531T091500
DTEND;TZID=America/Chicago:20230531T093500
DTSTAMP:20260421T065515
CREATED:20230513T002105Z
LAST-MODIFIED:20230522T170603Z
UID:10001810-1685524500-1685525700@www.weliahealth.org
SUMMARY:Wellbeats - Zumba Class
DESCRIPTION:Join a free Wellbeats fitness class at Welia Center!
URL:https://www.weliahealth.org/event/wellbeats-zumba-class/2023-05-31/
LOCATION:Welia Center: Fitness & Community Room\, 200 N 9th St\, Mora\, MN\, 55051-1147\, United States
CATEGORIES:Caravan
ATTACH;FMTTYPE=image/jpeg:https://www.weliahealth.org/wp-content/uploads/2023/05/Wellbeats-Zumba-430x200-1.jpg
END:VEVENT
BEGIN:VEVENT
DTSTART;TZID=America/Chicago:20230531T094500
DTEND;TZID=America/Chicago:20230531T101500
DTSTAMP:20260421T065515
CREATED:20230512T215144Z
LAST-MODIFIED:20230513T011116Z
UID:10001826-1685526300-1685528100@www.weliahealth.org
SUMMARY:Wellbeats - Class Choice
DESCRIPTION:Join a free Wellbeats fitness class at Welia Center! \n\n\n\nChoose a class from one of the channels! Anything from yoga\, Zumba\, sculpting\, step and more!
URL:https://www.weliahealth.org/event/wellbeats-class-choice/2023-05-31/1/
LOCATION:Welia Center: Fitness & Community Room\, 200 N 9th St\, Mora\, MN\, 55051-1147\, United States
CATEGORIES:Caravan
ATTACH;FMTTYPE=image/jpeg:https://www.weliahealth.org/wp-content/uploads/2021/04/Generic-class-480x200-1.jpg
END:VEVENT
BEGIN:VEVENT
DTSTART;TZID=America/Chicago:20230531T133000
DTEND;TZID=America/Chicago:20230531T143000
DTSTAMP:20260421T065515
CREATED:20230522T154104Z
LAST-MODIFIED:20230712T214038Z
UID:10001843-1685539800-1685543400@www.weliahealth.org
SUMMARY:Diabetes Support Group\, Pine City
DESCRIPTION:The Diabetes Support Group welcomes people with diabetes\, their families and friends.  The group meets the last Wednesday of every month at the Pine City Clinic. \n\n\n\nTo learn more\, call our diabetes educators at 320.679.1313.
URL:https://www.weliahealth.org/event/diabetes-support-group-pine-city-3/2023-05-31/
LOCATION:Pine City Public Library\, 300 5th Sr SE\, Pine City\, MN\, 55063\, United States
CATEGORIES:Diabetes (Pine City)
ATTACH;FMTTYPE=image/jpeg:https://www.weliahealth.org/wp-content/uploads/2018/12/Diabetes-SG-430x200.jpg
END:VEVENT
BEGIN:VEVENT
DTSTART;TZID=America/Chicago:20230531T161500
DTEND;TZID=America/Chicago:20230531T163500
DTSTAMP:20260421T065515
CREATED:20230512T215144Z
LAST-MODIFIED:20230513T011116Z
UID:10001793-1685549700-1685550900@www.weliahealth.org
SUMMARY:Wellbeats - Class Choice
DESCRIPTION:Join a free Wellbeats fitness class at Welia Center! \n\n\n\nChoose a class from one of the channels! Anything from yoga\, Zumba\, sculpting\, step and more!
URL:https://www.weliahealth.org/event/wellbeats-class-choice/2023-05-31/2/
LOCATION:Welia Center: Fitness & Community Room\, 200 N 9th St\, Mora\, MN\, 55051-1147\, United States
CATEGORIES:Caravan
ATTACH;FMTTYPE=image/jpeg:https://www.weliahealth.org/wp-content/uploads/2021/04/Generic-class-480x200-1.jpg
END:VEVENT
BEGIN:VEVENT
DTSTART;TZID=America/Chicago:20230601T133000
DTEND;TZID=America/Chicago:20230601T143000
DTSTAMP:20260421T065515
CREATED:20230510T192030Z
LAST-MODIFIED:20230713T152202Z
UID:10001707-1685626200-1685629800@www.weliahealth.org
SUMMARY:Diabetes Support Group-Mora
DESCRIPTION:The Diabetes Support Group welcomes people with diabetes\, their families and friends. To learn more\, call our diabetes educators at 320.679.1313.   The group meets the first Thursday of every month.
URL:https://www.weliahealth.org/event/diabetes-support-group-mora/2023-06-01/
LOCATION:Welia Health–Mora: Conference Rooms\, 301 MN-65\, Mora\, MN\, 55051\, United States
CATEGORIES:Diabetes (Mora),Support Groups
ATTACH;FMTTYPE=image/jpeg:https://www.weliahealth.org/wp-content/uploads/2018/12/Diabetes-SG-430x200.jpg
END:VEVENT
BEGIN:VEVENT
DTSTART;TZID=America/Chicago:20230602T071500
DTEND;TZID=America/Chicago:20230602T074500
DTSTAMP:20260421T065515
CREATED:20230530T165516Z
LAST-MODIFIED:20230530T173404Z
UID:10001987-1685690100-1685691900@www.weliahealth.org
SUMMARY:Wellbeats - Spin Class
DESCRIPTION:Join a free Wellbeats fitness class at Welia Center!  \n\n\n\nTry an indoor cycling cardio class that involves different combinations of sitting or standing\, leg speed (revolutions per minutes) and resistance. \n\n\n\nThere are six spin bikes available per class.
URL:https://www.weliahealth.org/event/wellbeats-spin-class-13/2023-06-02/
LOCATION:Welia Center: Fitness & Community Room\, 200 N 9th St\, Mora\, MN\, 55051-1147\, United States
CATEGORIES:Caravan
ATTACH;FMTTYPE=image/jpeg:https://www.weliahealth.org/wp-content/uploads/2021/04/spin-class-480x200-1.jpg
END:VEVENT
BEGIN:VEVENT
DTSTART;TZID=America/Chicago:20230602T080000
DTEND;TZID=America/Chicago:20230602T083000
DTSTAMP:20260421T065515
CREATED:20230530T172546Z
LAST-MODIFIED:20230530T172547Z
UID:10001957-1685692800-1685694600@www.weliahealth.org
SUMMARY:Open Studio
DESCRIPTION:Come check out the classroom at Welia Center! Come to stretch\, do your own workout\, or try a free Wellbeats class!
URL:https://www.weliahealth.org/event/open-studio-7/2023-06-02/
LOCATION:Welia Center: Fitness & Community Room\, 200 N 9th St\, Mora\, MN\, 55051-1147\, United States
CATEGORIES:Caravan
ATTACH;FMTTYPE=image/jpeg:https://www.weliahealth.org/wp-content/uploads/2021/04/Generic-class-480x200-1.jpg
END:VEVENT
BEGIN:VEVENT
DTSTART;TZID=America/Chicago:20230605T083000
DTEND;TZID=America/Chicago:20230605T090500
DTSTAMP:20260421T065515
CREATED:20230530T170054Z
LAST-MODIFIED:20230530T170055Z
UID:10001922-1685953800-1685955900@www.weliahealth.org
SUMMARY:Wellbeats - Silver & Fit
DESCRIPTION:Join a free Wellbeats fitness class at Welia Center! \n\n\n\nThis class is for the active\, athletic older adult\, looking for a challenging free-standing workout. Increase heart health\, muscle endurance\, strength\, mobility and balance.
URL:https://www.weliahealth.org/event/wellbeats-silver-fit-11/2023-06-05/
LOCATION:Welia Center: Fitness & Community Room\, 200 N 9th St\, Mora\, MN\, 55051-1147\, United States
CATEGORIES:Caravan
ATTACH;FMTTYPE=image/jpeg:https://www.weliahealth.org/wp-content/uploads/2021/04/Silver-fit-480x200-1.jpg
END:VEVENT
END:VCALENDAR