BEGIN:VCALENDAR
VERSION:2.0
PRODID:-//Welia Health - ECPv6.15.20//NONSGML v1.0//EN
CALSCALE:GREGORIAN
METHOD:PUBLISH
X-WR-CALNAME:Welia Health
X-ORIGINAL-URL:https://www.weliahealth.org
X-WR-CALDESC:Events for Welia Health
REFRESH-INTERVAL;VALUE=DURATION:PT1H
X-Robots-Tag:noindex
X-PUBLISHED-TTL:PT1H
BEGIN:VTIMEZONE
TZID:America/Chicago
BEGIN:DAYLIGHT
TZOFFSETFROM:-0600
TZOFFSETTO:-0500
TZNAME:CDT
DTSTART:20220313T080000
END:DAYLIGHT
BEGIN:STANDARD
TZOFFSETFROM:-0500
TZOFFSETTO:-0600
TZNAME:CST
DTSTART:20221106T070000
END:STANDARD
BEGIN:DAYLIGHT
TZOFFSETFROM:-0600
TZOFFSETTO:-0500
TZNAME:CDT
DTSTART:20230312T080000
END:DAYLIGHT
BEGIN:STANDARD
TZOFFSETFROM:-0500
TZOFFSETTO:-0600
TZNAME:CST
DTSTART:20231105T070000
END:STANDARD
BEGIN:DAYLIGHT
TZOFFSETFROM:-0600
TZOFFSETTO:-0500
TZNAME:CDT
DTSTART:20240310T080000
END:DAYLIGHT
BEGIN:STANDARD
TZOFFSETFROM:-0500
TZOFFSETTO:-0600
TZNAME:CST
DTSTART:20241103T070000
END:STANDARD
END:VTIMEZONE
BEGIN:VEVENT
DTSTART;TZID=America/Chicago:20230502T170000
DTEND;TZID=America/Chicago:20230502T190000
DTSTAMP:20260421T053340
CREATED:20230317T161056Z
LAST-MODIFIED:20230317T162356Z
UID:10001657-1683046800-1683054000@www.weliahealth.org
SUMMARY:Prenatal Education Classes\, Mora
DESCRIPTION:Congratulations!\nPregnancy—what an exciting and emotional time! Welia Health’s prenatal classes have been designed to prepare you for pregnancy\, labor and caring for your newborn. Learn more about the topics to be covered during this four-part series. \nClasses are available in Mora. They begin on the first Tuesday of the month and meet weekly for four weeks from 5–7pm. \n2023 Prenatal Classes \n\nFebruary 7\, 14\, 21 and 28\nMay 2\, 9\, 16\, and 23 \nAugust 1\, 8\, 15 and 22\nNovember 7\, 14\, 21 and 28\n\nFor more information\, please get in touch with Welia Health at 320.225.3528. \nRegistration for this free series is required. \n[contact-form-7 id=”19337″ title=”Prenatal Class”]
URL:https://www.weliahealth.org/event/prenatal-education-classes-mora-4/2023-05-02/
LOCATION:MN
CATEGORIES:Classes,Prenatal
ATTACH;FMTTYPE=image/jpeg:https://www.weliahealth.org/wp-content/uploads/2018/12/Prenatal-Class-430x200.jpg
END:VEVENT
BEGIN:VEVENT
DTSTART;TZID=America/Chicago:20230509T170000
DTEND;TZID=America/Chicago:20230509T190000
DTSTAMP:20260421T053340
CREATED:20230317T163042Z
LAST-MODIFIED:20230317T163043Z
UID:10001666-1683651600-1683658800@www.weliahealth.org
SUMMARY:Prenatal Education Classes\, Mora
DESCRIPTION:Congratulations!\nPregnancy—what an exciting and emotional time! Welia Health’s prenatal classes have been designed to prepare you for pregnancy\, labor and caring for your newborn. Learn more about the topics to be covered during this four-part series. \nClasses are available in Mora. They begin on the first Tuesday of the month and meet weekly for four weeks from 5–7pm. \n2023 Prenatal Classes \n\nFebruary 7\, 14\, 21 and 28\nMay 2\, 9\, 16\, and 23 \nAugust 1\, 8\, 15 and 22\nNovember 7\, 14\, 21 and 28\n\nFor more information\, please get in touch with Welia Health at 320.225.3528. \nRegistration for this free series is required. \n[contact-form-7 id=”19337″ title=”Prenatal Class”]
URL:https://www.weliahealth.org/event/prenatal-education-classes-mora-5/2023-05-09/
LOCATION:MN
CATEGORIES:Classes,Prenatal
ATTACH;FMTTYPE=image/jpeg:https://www.weliahealth.org/wp-content/uploads/2018/12/Prenatal-Class-430x200.jpg
END:VEVENT
BEGIN:VEVENT
DTSTART;TZID=America/Chicago:20230512T083000
DTEND;TZID=America/Chicago:20230512T130000
DTSTAMP:20260421T053340
CREATED:20230124T225432Z
LAST-MODIFIED:20231106T151116Z
UID:10000803-1683880200-1683896400@www.weliahealth.org
SUMMARY:CPR\, AED and First Aid Class
DESCRIPTION:CPR\, AED and first aid training presented by the American Heart Association\n\n\n\n\n\nDesigned for employee training for companies\, corporations\, businesses or other entities. \n\n\n\nLearn about: \n\n\n\nAdult/child/infant choking CPR with/without mask Use of an automated external defibrillation (AED) and may include Adult First Aid (general principles\, medical emergencies\, injury emergencies\, and environmental emergencies)\n\n\n\nCard received:  \n\n\n\nHeartsaver CPR\, AED and first aid course completion card  \n\n\n\n[contact-form-7 id=”31686″ title=”CPR Class”]
URL:https://www.weliahealth.org/event/cpr-aed-and-fa-classes/2023-05-12/
LOCATION:Welia Health–Mora: Classroom\, 301 MN-65\, Mora\, MN\, 55051\, United States
CATEGORIES:First Aid CPR AED Course
ATTACH;FMTTYPE=image/jpeg:https://www.weliahealth.org/wp-content/uploads/2020/01/CPR-430x200.jpg
ORGANIZER;CN="Health and Wellness Coordinator":MAILTO:wellnesscenter@WeliaHealth.org
END:VEVENT
BEGIN:VEVENT
DTSTART;TZID=America/Chicago:20230515T083000
DTEND;TZID=America/Chicago:20230515T090500
DTSTAMP:20260421T053340
CREATED:20230512T214315Z
LAST-MODIFIED:20230512T214437Z
UID:10001773-1684139400-1684141500@www.weliahealth.org
SUMMARY:Wellbeats - Silver & Fit
DESCRIPTION:Join a free Wellbeats fitness class at Welia Center! \n\n\n\nThis class is for the active\, athletic older adult\, looking for a challenging free-standing workout. Increase heart health\, muscle endurance\, strength\, mobility and balance.
URL:https://www.weliahealth.org/event/wellbeats-silver-fit-3/2023-05-15/
LOCATION:Welia Center: Fitness & Community Room\, 200 N 9th St\, Mora\, MN\, 55051-1147\, United States
CATEGORIES:Caravan
ATTACH;FMTTYPE=image/jpeg:https://www.weliahealth.org/wp-content/uploads/2021/04/Silver-fit-480x200-1.jpg
END:VEVENT
BEGIN:VEVENT
DTSTART;TZID=America/Chicago:20230515T091500
DTEND;TZID=America/Chicago:20230515T093500
DTSTAMP:20260421T053340
CREATED:20230513T002105Z
LAST-MODIFIED:20230522T170603Z
UID:10001804-1684142100-1684143300@www.weliahealth.org
SUMMARY:Wellbeats - Zumba Class
DESCRIPTION:Join a free Wellbeats fitness class at Welia Center!
URL:https://www.weliahealth.org/event/wellbeats-zumba-class/2023-05-15/
LOCATION:Welia Center: Fitness & Community Room\, 200 N 9th St\, Mora\, MN\, 55051-1147\, United States
CATEGORIES:Caravan
ATTACH;FMTTYPE=image/jpeg:https://www.weliahealth.org/wp-content/uploads/2023/05/Wellbeats-Zumba-430x200-1.jpg
END:VEVENT
BEGIN:VEVENT
DTSTART;TZID=America/Chicago:20230515T094500
DTEND;TZID=America/Chicago:20230515T101500
DTSTAMP:20260421T053340
CREATED:20230512T215144Z
LAST-MODIFIED:20230513T011116Z
UID:10001780-1684143900-1684145700@www.weliahealth.org
SUMMARY:Wellbeats - Class Choice
DESCRIPTION:Join a free Wellbeats fitness class at Welia Center! \n\n\n\nChoose a class from one of the channels! Anything from yoga\, Zumba\, sculpting\, step and more!
URL:https://www.weliahealth.org/event/wellbeats-class-choice/2023-05-15/1/
LOCATION:Welia Center: Fitness & Community Room\, 200 N 9th St\, Mora\, MN\, 55051-1147\, United States
CATEGORIES:Caravan
ATTACH;FMTTYPE=image/jpeg:https://www.weliahealth.org/wp-content/uploads/2021/04/Generic-class-480x200-1.jpg
END:VEVENT
BEGIN:VEVENT
DTSTART;TZID=America/Chicago:20230515T160000
DTEND;TZID=America/Chicago:20230515T163000
DTSTAMP:20260421T053340
CREATED:20230512T235613Z
LAST-MODIFIED:20230512T235615Z
UID:10001799-1684166400-1684168200@www.weliahealth.org
SUMMARY:Wellbeats - Spin Class
DESCRIPTION:Join a free Wellbeats fitness class at Welia Center!  \n\n\n\nTry an indoor cycling cardio class that involves different combinations of sitting or standing\, leg speed (revolutions per minutes) and resistance. \n\n\n\nThere are six spin bikes available per class.
URL:https://www.weliahealth.org/event/wellbeats-spin-class/2023-05-15/
LOCATION:Welia Center: Fitness & Community Room\, 200 N 9th St\, Mora\, MN\, 55051-1147\, United States
CATEGORIES:Caravan
ATTACH;FMTTYPE=image/jpeg:https://www.weliahealth.org/wp-content/uploads/2021/04/spin-class-480x200-1.jpg
END:VEVENT
BEGIN:VEVENT
DTSTART;TZID=America/Chicago:20230515T163000
DTEND;TZID=America/Chicago:20230515T170000
DTSTAMP:20260421T053340
CREATED:20230512T215144Z
LAST-MODIFIED:20230513T011116Z
UID:10001794-1684168200-1684170000@www.weliahealth.org
SUMMARY:Wellbeats - Class Choice
DESCRIPTION:Join a free Wellbeats fitness class at Welia Center! \n\n\n\nChoose a class from one of the channels! Anything from yoga\, Zumba\, sculpting\, step and more!
URL:https://www.weliahealth.org/event/wellbeats-class-choice/2023-05-15/2/
LOCATION:Welia Center: Fitness & Community Room\, 200 N 9th St\, Mora\, MN\, 55051-1147\, United States
CATEGORIES:Caravan
ATTACH;FMTTYPE=image/jpeg:https://www.weliahealth.org/wp-content/uploads/2021/04/Generic-class-480x200-1.jpg
END:VEVENT
BEGIN:VEVENT
DTSTART;TZID=America/Chicago:20230515T170000
DTEND;TZID=America/Chicago:20230515T173000
DTSTAMP:20260421T053340
CREATED:20230512T212846Z
LAST-MODIFIED:20230513T010709Z
UID:10001749-1684170000-1684171800@www.weliahealth.org
SUMMARY:Wellbeats Class\, Yoga
DESCRIPTION:Join us for a free Wellbeats fitness class at Welia Center! \n\n\n\nDiscover a unique fusion of yoga and Pilates. Improve your mind-body connection while building stronger\, leaner muscles.
URL:https://www.weliahealth.org/event/wellbeats-class-yoga-5/2023-05-15/
LOCATION:Welia Center\, 200 N 9th St\, Mora\, MN\, 55051-1147\, United States
CATEGORIES:Caravan,Classes
ATTACH;FMTTYPE=image/png:https://www.weliahealth.org/wp-content/uploads/2021/12/yoga-class.png
END:VEVENT
BEGIN:VEVENT
DTSTART;TZID=America/Chicago:20230516T083000
DTEND;TZID=America/Chicago:20230516T090500
DTSTAMP:20260421T053340
CREATED:20230512T213830Z
LAST-MODIFIED:20230512T213832Z
UID:10001763-1684225800-1684227900@www.weliahealth.org
SUMMARY:Wellbeats - Silver & Fit
DESCRIPTION:Join a free Wellbeats fitness class at Welia Center! \n\n\n\nThis class is for the active\, athletic older adult\, looking for a challenging free-standing workout. Increase heart health\, muscle endurance\, strength\, mobility and balance.
URL:https://www.weliahealth.org/event/wellbeats-silver-fit-2/
LOCATION:Welia Center: Fitness & Community Room\, 200 N 9th St\, Mora\, MN\, 55051-1147\, United States
CATEGORIES:Caravan
ATTACH;FMTTYPE=image/jpeg:https://www.weliahealth.org/wp-content/uploads/2021/04/Silver-fit-480x200-1.jpg
END:VEVENT
BEGIN:VEVENT
DTSTART;TZID=America/Chicago:20230516T091500
DTEND;TZID=America/Chicago:20230516T094500
DTSTAMP:20260421T053340
CREATED:20230512T212846Z
LAST-MODIFIED:20230513T010709Z
UID:10001823-1684228500-1684230300@www.weliahealth.org
SUMMARY:Wellbeats Class\, Yoga
DESCRIPTION:Join us for a free Wellbeats fitness class at Welia Center! \n\n\n\nDiscover a unique fusion of yoga and Pilates. Improve your mind-body connection while building stronger\, leaner muscles.
URL:https://www.weliahealth.org/event/wellbeats-class-yoga-5/2023-05-16/
LOCATION:Welia Center\, 200 N 9th St\, Mora\, MN\, 55051-1147\, United States
CATEGORIES:Caravan,Classes
ATTACH;FMTTYPE=image/png:https://www.weliahealth.org/wp-content/uploads/2021/12/yoga-class.png
END:VEVENT
BEGIN:VEVENT
DTSTART;TZID=America/Chicago:20230516T153000
DTEND;TZID=America/Chicago:20230516T160000
DTSTAMP:20260421T053340
CREATED:20230513T003720Z
LAST-MODIFIED:20230513T005327Z
UID:10001814-1684251000-1684252800@www.weliahealth.org
SUMMARY:Wellbeats - HIIT Class
DESCRIPTION:Join a free Wellbeats fitness class at Welia Center! \n\n\n\nTrain your body with a blend of HIIT (high intensity interval training)\, weight training\, and cardio. Fire up your metabolism in these quick-moving\, total-body workouts!
URL:https://www.weliahealth.org/event/wellbeats-hiit-class-9/2023-05-16/
LOCATION:Welia Center: Fitness & Community Room\, 200 N 9th St\, Mora\, MN\, 55051-1147\, United States
CATEGORIES:Caravan
ATTACH;FMTTYPE=image/jpeg:https://www.weliahealth.org/wp-content/uploads/2021/04/Generic-class-480x200-1.jpg
END:VEVENT
BEGIN:VEVENT
DTSTART;TZID=America/Chicago:20230516T160000
DTEND;TZID=America/Chicago:20230516T163000
DTSTAMP:20260421T053340
CREATED:20230512T215144Z
LAST-MODIFIED:20230513T011116Z
UID:10001781-1684252800-1684254600@www.weliahealth.org
SUMMARY:Wellbeats - Class Choice
DESCRIPTION:Join a free Wellbeats fitness class at Welia Center! \n\n\n\nChoose a class from one of the channels! Anything from yoga\, Zumba\, sculpting\, step and more!
URL:https://www.weliahealth.org/event/wellbeats-class-choice/2023-05-16/
LOCATION:Welia Center: Fitness & Community Room\, 200 N 9th St\, Mora\, MN\, 55051-1147\, United States
CATEGORIES:Caravan
ATTACH;FMTTYPE=image/jpeg:https://www.weliahealth.org/wp-content/uploads/2021/04/Generic-class-480x200-1.jpg
END:VEVENT
BEGIN:VEVENT
DTSTART;TZID=America/Chicago:20230516T170000
DTEND;TZID=America/Chicago:20230516T190000
DTSTAMP:20260421T053340
CREATED:20230317T163600Z
LAST-MODIFIED:20230317T163602Z
UID:10001674-1684256400-1684263600@www.weliahealth.org
SUMMARY:Prenatal Education Classes\, Mora
DESCRIPTION:Congratulations!\nPregnancy—what an exciting and emotional time! Welia Health’s prenatal classes have been designed to prepare you for pregnancy\, labor and caring for your newborn. Learn more about the topics to be covered during this four-part series. \nClasses are available in Mora. They begin on the first Tuesday of the month and meet weekly for four weeks from 5–7pm. \n2023 Prenatal Classes \n\nFebruary 7\, 14\, 21 and 28\nMay 2\, 9\, 16\, and 23 \nAugust 1\, 8\, 15 and 22\nNovember 7\, 14\, 21 and 28\n\nFor more information\, please get in touch with Welia Health at 320.225.3528. \nRegistration for this free series is required. \n[contact-form-7 id=”19337″ title=”Prenatal Class”]
URL:https://www.weliahealth.org/event/prenatal-education-classes-mora-3/2023-05-16/
LOCATION:MN
CATEGORIES:Classes,Prenatal
ATTACH;FMTTYPE=image/jpeg:https://www.weliahealth.org/wp-content/uploads/2018/12/Prenatal-Class-430x200.jpg
END:VEVENT
BEGIN:VEVENT
DTSTART;TZID=America/Chicago:20230517T083000
DTEND;TZID=America/Chicago:20230517T090500
DTSTAMP:20260421T053340
CREATED:20230512T213619Z
LAST-MODIFIED:20230512T213621Z
UID:10001764-1684312200-1684314300@www.weliahealth.org
SUMMARY:Wellbeats - Silver & Fit
DESCRIPTION:Join a free Wellbeats fitness class at Welia Center! \n\n\n\nThis class is for the active\, athletic older adult\, looking for a challenging free-standing workout. Increase heart health\, muscle endurance\, strength\, mobility and balance. \n\n\n\nJanuary Wellbeats CalendarDownload\n\n\n\nJanuary Wellbeats Class DescriptionsDownload
URL:https://www.weliahealth.org/event/wellbeats-silver-fit/2023-05-17/
LOCATION:Welia Center: Fitness & Community Room\, 200 N 9th St\, Mora\, MN\, 55051-1147\, United States
CATEGORIES:Caravan
ATTACH;FMTTYPE=image/jpeg:https://www.weliahealth.org/wp-content/uploads/2021/04/Silver-fit-480x200-1.jpg
END:VEVENT
BEGIN:VEVENT
DTSTART;TZID=America/Chicago:20230517T091500
DTEND;TZID=America/Chicago:20230517T093500
DTSTAMP:20260421T053340
CREATED:20230513T002105Z
LAST-MODIFIED:20230522T170603Z
UID:10001805-1684314900-1684316100@www.weliahealth.org
SUMMARY:Wellbeats - Zumba Class
DESCRIPTION:Join a free Wellbeats fitness class at Welia Center!
URL:https://www.weliahealth.org/event/wellbeats-zumba-class/2023-05-17/
LOCATION:Welia Center: Fitness & Community Room\, 200 N 9th St\, Mora\, MN\, 55051-1147\, United States
CATEGORIES:Caravan
ATTACH;FMTTYPE=image/jpeg:https://www.weliahealth.org/wp-content/uploads/2023/05/Wellbeats-Zumba-430x200-1.jpg
END:VEVENT
BEGIN:VEVENT
DTSTART;TZID=America/Chicago:20230517T094500
DTEND;TZID=America/Chicago:20230517T101500
DTSTAMP:20260421T053340
CREATED:20230512T215144Z
LAST-MODIFIED:20230513T011116Z
UID:10001782-1684316700-1684318500@www.weliahealth.org
SUMMARY:Wellbeats - Class Choice
DESCRIPTION:Join a free Wellbeats fitness class at Welia Center! \n\n\n\nChoose a class from one of the channels! Anything from yoga\, Zumba\, sculpting\, step and more!
URL:https://www.weliahealth.org/event/wellbeats-class-choice/2023-05-17/1/
LOCATION:Welia Center: Fitness & Community Room\, 200 N 9th St\, Mora\, MN\, 55051-1147\, United States
CATEGORIES:Caravan
ATTACH;FMTTYPE=image/jpeg:https://www.weliahealth.org/wp-content/uploads/2021/04/Generic-class-480x200-1.jpg
END:VEVENT
BEGIN:VEVENT
DTSTART;TZID=America/Chicago:20230517T161500
DTEND;TZID=America/Chicago:20230517T164500
DTSTAMP:20260421T053340
CREATED:20230512T215144Z
LAST-MODIFIED:20230513T011116Z
UID:10001783-1684340100-1684341900@www.weliahealth.org
SUMMARY:Wellbeats - Class Choice
DESCRIPTION:Join a free Wellbeats fitness class at Welia Center! \n\n\n\nChoose a class from one of the channels! Anything from yoga\, Zumba\, sculpting\, step and more!
URL:https://www.weliahealth.org/event/wellbeats-class-choice/2023-05-17/2/
LOCATION:Welia Center: Fitness & Community Room\, 200 N 9th St\, Mora\, MN\, 55051-1147\, United States
CATEGORIES:Caravan
ATTACH;FMTTYPE=image/jpeg:https://www.weliahealth.org/wp-content/uploads/2021/04/Generic-class-480x200-1.jpg
END:VEVENT
BEGIN:VEVENT
DTSTART;TZID=America/Chicago:20230518T083000
DTEND;TZID=America/Chicago:20230518T090500
DTSTAMP:20260421T053340
CREATED:20230512T213619Z
LAST-MODIFIED:20230512T213621Z
UID:10001765-1684398600-1684400700@www.weliahealth.org
SUMMARY:Wellbeats - Silver & Fit
DESCRIPTION:Join a free Wellbeats fitness class at Welia Center! \n\n\n\nThis class is for the active\, athletic older adult\, looking for a challenging free-standing workout. Increase heart health\, muscle endurance\, strength\, mobility and balance. \n\n\n\nJanuary Wellbeats CalendarDownload\n\n\n\nJanuary Wellbeats Class DescriptionsDownload
URL:https://www.weliahealth.org/event/wellbeats-silver-fit/2023-05-18/
LOCATION:Welia Center: Fitness & Community Room\, 200 N 9th St\, Mora\, MN\, 55051-1147\, United States
CATEGORIES:Caravan
ATTACH;FMTTYPE=image/jpeg:https://www.weliahealth.org/wp-content/uploads/2021/04/Silver-fit-480x200-1.jpg
END:VEVENT
BEGIN:VEVENT
DTSTART;TZID=America/Chicago:20230518T091500
DTEND;TZID=America/Chicago:20230518T093500
DTSTAMP:20260421T053340
CREATED:20230512T212846Z
LAST-MODIFIED:20230513T010709Z
UID:10001751-1684401300-1684402500@www.weliahealth.org
SUMMARY:Wellbeats Class\, Yoga
DESCRIPTION:Join us for a free Wellbeats fitness class at Welia Center! \n\n\n\nDiscover a unique fusion of yoga and Pilates. Improve your mind-body connection while building stronger\, leaner muscles.
URL:https://www.weliahealth.org/event/wellbeats-class-yoga-5/2023-05-18/1/
LOCATION:Welia Center\, 200 N 9th St\, Mora\, MN\, 55051-1147\, United States
CATEGORIES:Caravan,Classes
ATTACH;FMTTYPE=image/png:https://www.weliahealth.org/wp-content/uploads/2021/12/yoga-class.png
END:VEVENT
BEGIN:VEVENT
DTSTART;TZID=America/Chicago:20230518T153000
DTEND;TZID=America/Chicago:20230518T160000
DTSTAMP:20260421T053340
CREATED:20230513T003720Z
LAST-MODIFIED:20230513T005327Z
UID:10001821-1684423800-1684425600@www.weliahealth.org
SUMMARY:Wellbeats - HIIT Class
DESCRIPTION:Join a free Wellbeats fitness class at Welia Center! \n\n\n\nTrain your body with a blend of HIIT (high intensity interval training)\, weight training\, and cardio. Fire up your metabolism in these quick-moving\, total-body workouts!
URL:https://www.weliahealth.org/event/wellbeats-hiit-class-9/2023-05-18/
LOCATION:Welia Center: Fitness & Community Room\, 200 N 9th St\, Mora\, MN\, 55051-1147\, United States
CATEGORIES:Caravan
ATTACH;FMTTYPE=image/jpeg:https://www.weliahealth.org/wp-content/uploads/2021/04/Generic-class-480x200-1.jpg
END:VEVENT
BEGIN:VEVENT
DTSTART;TZID=America/Chicago:20230518T160000
DTEND;TZID=America/Chicago:20230518T163000
DTSTAMP:20260421T053340
CREATED:20230512T215144Z
LAST-MODIFIED:20230513T011116Z
UID:10001784-1684425600-1684427400@www.weliahealth.org
SUMMARY:Wellbeats - Class Choice
DESCRIPTION:Join a free Wellbeats fitness class at Welia Center! \n\n\n\nChoose a class from one of the channels! Anything from yoga\, Zumba\, sculpting\, step and more!
URL:https://www.weliahealth.org/event/wellbeats-class-choice/2023-05-18/
LOCATION:Welia Center: Fitness & Community Room\, 200 N 9th St\, Mora\, MN\, 55051-1147\, United States
CATEGORIES:Caravan
ATTACH;FMTTYPE=image/jpeg:https://www.weliahealth.org/wp-content/uploads/2021/04/Generic-class-480x200-1.jpg
END:VEVENT
BEGIN:VEVENT
DTSTART;TZID=America/Chicago:20230518T180000
DTEND;TZID=America/Chicago:20230518T183000
DTSTAMP:20260421T053340
CREATED:20230512T212846Z
LAST-MODIFIED:20230513T010709Z
UID:10001818-1684432800-1684434600@www.weliahealth.org
SUMMARY:Wellbeats Class\, Yoga
DESCRIPTION:Join us for a free Wellbeats fitness class at Welia Center! \n\n\n\nDiscover a unique fusion of yoga and Pilates. Improve your mind-body connection while building stronger\, leaner muscles.
URL:https://www.weliahealth.org/event/wellbeats-class-yoga-5/2023-05-18/2/
LOCATION:Welia Center\, 200 N 9th St\, Mora\, MN\, 55051-1147\, United States
CATEGORIES:Caravan,Classes
ATTACH;FMTTYPE=image/png:https://www.weliahealth.org/wp-content/uploads/2021/12/yoga-class.png
END:VEVENT
BEGIN:VEVENT
DTSTART;TZID=America/Chicago:20230519T071500
DTEND;TZID=America/Chicago:20230519T093500
DTSTAMP:20260421T053340
CREATED:20230513T002105Z
LAST-MODIFIED:20230522T170603Z
UID:10001806-1684480500-1684488900@www.weliahealth.org
SUMMARY:Wellbeats - Zumba Class
DESCRIPTION:Join a free Wellbeats fitness class at Welia Center!
URL:https://www.weliahealth.org/event/wellbeats-zumba-class/2023-05-19/
LOCATION:Welia Center: Fitness & Community Room\, 200 N 9th St\, Mora\, MN\, 55051-1147\, United States
CATEGORIES:Caravan
ATTACH;FMTTYPE=image/jpeg:https://www.weliahealth.org/wp-content/uploads/2023/05/Wellbeats-Zumba-430x200-1.jpg
END:VEVENT
BEGIN:VEVENT
DTSTART;TZID=America/Chicago:20230519T090000
DTEND;TZID=America/Chicago:20230519T093000
DTSTAMP:20260421T053340
CREATED:20230512T215144Z
LAST-MODIFIED:20230513T011116Z
UID:10001785-1684486800-1684488600@www.weliahealth.org
SUMMARY:Wellbeats - Class Choice
DESCRIPTION:Join a free Wellbeats fitness class at Welia Center! \n\n\n\nChoose a class from one of the channels! Anything from yoga\, Zumba\, sculpting\, step and more!
URL:https://www.weliahealth.org/event/wellbeats-class-choice/2023-05-19/
LOCATION:Welia Center: Fitness & Community Room\, 200 N 9th St\, Mora\, MN\, 55051-1147\, United States
CATEGORIES:Caravan
ATTACH;FMTTYPE=image/jpeg:https://www.weliahealth.org/wp-content/uploads/2021/04/Generic-class-480x200-1.jpg
END:VEVENT
BEGIN:VEVENT
DTSTART;TZID=America/Chicago:20230522T083000
DTEND;TZID=America/Chicago:20230522T090500
DTSTAMP:20260421T053340
CREATED:20230512T214315Z
LAST-MODIFIED:20230512T214437Z
UID:10001774-1684744200-1684746300@www.weliahealth.org
SUMMARY:Wellbeats - Silver & Fit
DESCRIPTION:Join a free Wellbeats fitness class at Welia Center! \n\n\n\nThis class is for the active\, athletic older adult\, looking for a challenging free-standing workout. Increase heart health\, muscle endurance\, strength\, mobility and balance.
URL:https://www.weliahealth.org/event/wellbeats-silver-fit-3/2023-05-22/
LOCATION:Welia Center: Fitness & Community Room\, 200 N 9th St\, Mora\, MN\, 55051-1147\, United States
CATEGORIES:Caravan
ATTACH;FMTTYPE=image/jpeg:https://www.weliahealth.org/wp-content/uploads/2021/04/Silver-fit-480x200-1.jpg
END:VEVENT
BEGIN:VEVENT
DTSTART;TZID=America/Chicago:20230522T091500
DTEND;TZID=America/Chicago:20230522T093500
DTSTAMP:20260421T053340
CREATED:20230513T002105Z
LAST-MODIFIED:20230522T170603Z
UID:10001807-1684746900-1684748100@www.weliahealth.org
SUMMARY:Wellbeats - Zumba Class
DESCRIPTION:Join a free Wellbeats fitness class at Welia Center!
URL:https://www.weliahealth.org/event/wellbeats-zumba-class/2023-05-22/
LOCATION:Welia Center: Fitness & Community Room\, 200 N 9th St\, Mora\, MN\, 55051-1147\, United States
CATEGORIES:Caravan
ATTACH;FMTTYPE=image/jpeg:https://www.weliahealth.org/wp-content/uploads/2023/05/Wellbeats-Zumba-430x200-1.jpg
END:VEVENT
BEGIN:VEVENT
DTSTART;TZID=America/Chicago:20230522T094500
DTEND;TZID=America/Chicago:20230522T101500
DTSTAMP:20260421T053340
CREATED:20230512T215144Z
LAST-MODIFIED:20230513T011116Z
UID:10001786-1684748700-1684750500@www.weliahealth.org
SUMMARY:Wellbeats - Class Choice
DESCRIPTION:Join a free Wellbeats fitness class at Welia Center! \n\n\n\nChoose a class from one of the channels! Anything from yoga\, Zumba\, sculpting\, step and more!
URL:https://www.weliahealth.org/event/wellbeats-class-choice/2023-05-22/1/
LOCATION:Welia Center: Fitness & Community Room\, 200 N 9th St\, Mora\, MN\, 55051-1147\, United States
CATEGORIES:Caravan
ATTACH;FMTTYPE=image/jpeg:https://www.weliahealth.org/wp-content/uploads/2021/04/Generic-class-480x200-1.jpg
END:VEVENT
BEGIN:VEVENT
DTSTART;TZID=America/Chicago:20230522T160000
DTEND;TZID=America/Chicago:20230522T163000
DTSTAMP:20260421T053340
CREATED:20230512T235613Z
LAST-MODIFIED:20230512T235615Z
UID:10001800-1684771200-1684773000@www.weliahealth.org
SUMMARY:Wellbeats - Spin Class
DESCRIPTION:Join a free Wellbeats fitness class at Welia Center!  \n\n\n\nTry an indoor cycling cardio class that involves different combinations of sitting or standing\, leg speed (revolutions per minutes) and resistance. \n\n\n\nThere are six spin bikes available per class.
URL:https://www.weliahealth.org/event/wellbeats-spin-class/2023-05-22/
LOCATION:Welia Center: Fitness & Community Room\, 200 N 9th St\, Mora\, MN\, 55051-1147\, United States
CATEGORIES:Caravan
ATTACH;FMTTYPE=image/jpeg:https://www.weliahealth.org/wp-content/uploads/2021/04/spin-class-480x200-1.jpg
END:VEVENT
BEGIN:VEVENT
DTSTART;TZID=America/Chicago:20230522T163000
DTEND;TZID=America/Chicago:20230522T170000
DTSTAMP:20260421T053340
CREATED:20230512T215144Z
LAST-MODIFIED:20230513T011116Z
UID:10001795-1684773000-1684774800@www.weliahealth.org
SUMMARY:Wellbeats - Class Choice
DESCRIPTION:Join a free Wellbeats fitness class at Welia Center! \n\n\n\nChoose a class from one of the channels! Anything from yoga\, Zumba\, sculpting\, step and more!
URL:https://www.weliahealth.org/event/wellbeats-class-choice/2023-05-22/2/
LOCATION:Welia Center: Fitness & Community Room\, 200 N 9th St\, Mora\, MN\, 55051-1147\, United States
CATEGORIES:Caravan
ATTACH;FMTTYPE=image/jpeg:https://www.weliahealth.org/wp-content/uploads/2021/04/Generic-class-480x200-1.jpg
END:VEVENT
END:VCALENDAR