BEGIN:VCALENDAR
VERSION:2.0
PRODID:-//Welia Health - ECPv6.15.20//NONSGML v1.0//EN
CALSCALE:GREGORIAN
METHOD:PUBLISH
X-WR-CALNAME:Welia Health
X-ORIGINAL-URL:https://www.weliahealth.org
X-WR-CALDESC:Events for Welia Health
REFRESH-INTERVAL;VALUE=DURATION:PT1H
X-Robots-Tag:noindex
X-PUBLISHED-TTL:PT1H
BEGIN:VTIMEZONE
TZID:America/Chicago
BEGIN:DAYLIGHT
TZOFFSETFROM:-0600
TZOFFSETTO:-0500
TZNAME:CDT
DTSTART:20220313T080000
END:DAYLIGHT
BEGIN:STANDARD
TZOFFSETFROM:-0500
TZOFFSETTO:-0600
TZNAME:CST
DTSTART:20221106T070000
END:STANDARD
BEGIN:DAYLIGHT
TZOFFSETFROM:-0600
TZOFFSETTO:-0500
TZNAME:CDT
DTSTART:20230312T080000
END:DAYLIGHT
BEGIN:STANDARD
TZOFFSETFROM:-0500
TZOFFSETTO:-0600
TZNAME:CST
DTSTART:20231105T070000
END:STANDARD
BEGIN:DAYLIGHT
TZOFFSETFROM:-0600
TZOFFSETTO:-0500
TZNAME:CDT
DTSTART:20240310T080000
END:DAYLIGHT
BEGIN:STANDARD
TZOFFSETFROM:-0500
TZOFFSETTO:-0600
TZNAME:CST
DTSTART:20241103T070000
END:STANDARD
END:VTIMEZONE
BEGIN:VEVENT
DTSTART;TZID=America/Chicago:20230829T083000
DTEND;TZID=America/Chicago:20230829T090000
DTSTAMP:20260420T011731
CREATED:20230626T175521Z
LAST-MODIFIED:20230626T175523Z
UID:10002264-1693297800-1693299600@www.weliahealth.org
SUMMARY:Wellbeats - Yoga Class
DESCRIPTION:Join us for a free Wellbeats fitness class at Welia Center! \n\n\n\nDiscover a unique fusion of yoga and Pilates. Improve your mind-body connection while building stronger\, leaner muscles. \n\n\n\nJuly Wellbeats CalendarDownload\n\n\n\nJuly Wellbeats Class DescriptionDownload
URL:https://www.weliahealth.org/event/wellbeats-yoga-class-10/2023-08-29/
LOCATION:Welia Center: Fitness & Community Room\, 200 N 9th St\, Mora\, MN\, 55051-1147\, United States
CATEGORIES:Caravan
ATTACH;FMTTYPE=image/png:https://www.weliahealth.org/wp-content/uploads/2021/12/yoga-class.png
END:VEVENT
BEGIN:VEVENT
DTSTART;TZID=America/Chicago:20230829T091500
DTEND;TZID=America/Chicago:20230829T094500
DTSTAMP:20260420T011731
CREATED:20230626T180111Z
LAST-MODIFIED:20230626T180243Z
UID:10002288-1693300500-1693302300@www.weliahealth.org
SUMMARY:Wellbeats - Zumba Class
DESCRIPTION:Join a free Wellbeats fitness class at Welia Center!
URL:https://www.weliahealth.org/event/wellbeats-zumba-class-3/2023-08-29/
LOCATION:Welia Center: Fitness & Community Room\, 200 N 9th St\, Mora\, MN\, 55051-1147\, United States
CATEGORIES:Caravan
ATTACH;FMTTYPE=image/jpeg:https://www.weliahealth.org/wp-content/uploads/2023/05/Wellbeats-Zumba-430x200-1.jpg
END:VEVENT
BEGIN:VEVENT
DTSTART;TZID=America/Chicago:20230829T153000
DTEND;TZID=America/Chicago:20230829T155000
DTSTAMP:20260420T011731
CREATED:20230626T183322Z
LAST-MODIFIED:20230626T183323Z
UID:10002343-1693323000-1693324200@www.weliahealth.org
SUMMARY:Pilates Wellbeats Class
DESCRIPTION:Join a free Wellbeats fitness class at Welia Center! \n\n\n\nLow-impact on the joints and uses controlled movements\, with primary focus on the core to build strength\, flexibility and endurance in a full body workout. \n\n\n\nAugust Wellbeats CalendarDownload
URL:https://www.weliahealth.org/event/pilates-wellbeats-class-4/2023-08-29/
LOCATION:Welia Center\, 200 N 9th St\, Mora\, MN\, 55051-1147\, United States
CATEGORIES:Classes
ATTACH;FMTTYPE=image/jpeg:https://www.weliahealth.org/wp-content/uploads/2021/04/Generic-class-480x200-1.jpg
END:VEVENT
BEGIN:VEVENT
DTSTART;TZID=America/Chicago:20230829T160000
DTEND;TZID=America/Chicago:20230829T163000
DTSTAMP:20260420T011731
CREATED:20230626T181551Z
LAST-MODIFIED:20230626T183835Z
UID:10002360-1693324800-1693326600@www.weliahealth.org
SUMMARY:Open Studio
DESCRIPTION:Come check out the classroom at Welia Center! Come to stretch\, do your own workout\, or try a free Wellbeats class!
URL:https://www.weliahealth.org/event/open-studio-10/2023-08-29/
LOCATION:Welia Center: Fitness & Community Room\, 200 N 9th St\, Mora\, MN\, 55051-1147\, United States
CATEGORIES:Caravan
ATTACH;FMTTYPE=image/jpeg:https://www.weliahealth.org/wp-content/uploads/2021/04/Generic-class-480x200-1.jpg
END:VEVENT
BEGIN:VEVENT
DTSTART;TZID=America/Chicago:20230830T083000
DTEND;TZID=America/Chicago:20230830T090500
DTSTAMP:20260420T011731
CREATED:20230626T145228Z
LAST-MODIFIED:20230626T145231Z
UID:10002078-1693384200-1693386300@www.weliahealth.org
SUMMARY:Wellbeats - Silver & Fit
DESCRIPTION:Join a free Wellbeats fitness class at Welia Center! \n\n\n\nThis class is for the active\, athletic older adult\, looking for a challenging free-standing workout. Increase heart health\, muscle endurance\, strength\, mobility and balance.
URL:https://www.weliahealth.org/event/wellbeats-silver-fit-13/2023-08-30/
LOCATION:Welia Center: Fitness & Community Room\, 200 N 9th St\, Mora\, MN\, 55051-1147\, United States
CATEGORIES:Caravan
ATTACH;FMTTYPE=image/jpeg:https://www.weliahealth.org/wp-content/uploads/2021/04/Silver-fit-480x200-1.jpg
END:VEVENT
BEGIN:VEVENT
DTSTART;TZID=America/Chicago:20230830T091500
DTEND;TZID=America/Chicago:20230830T100000
DTSTAMP:20260420T011731
CREATED:20230626T145935Z
LAST-MODIFIED:20230626T145937Z
UID:10002103-1693386900-1693389600@www.weliahealth.org
SUMMARY:Wellbeats - HIIT Class
DESCRIPTION:Join a free Wellbeats fitness class at Welia Center! \n\n\n\nTrain your body with a blend of HIIT (high intensity interval training)\, weight training\, and cardio. Fire up your metabolism in these quick-moving\, total-body workouts!
URL:https://www.weliahealth.org/event/wellbeats-hiit-class-11/2023-08-30/
LOCATION:Welia Center: Fitness & Community Room\, 200 N 9th St\, Mora\, MN\, 55051-1147\, United States
CATEGORIES:Caravan
ATTACH;FMTTYPE=image/jpeg:https://www.weliahealth.org/wp-content/uploads/2021/04/Generic-class-480x200-1.jpg
END:VEVENT
BEGIN:VEVENT
DTSTART;TZID=America/Chicago:20230830T094500
DTEND;TZID=America/Chicago:20230830T101500
DTSTAMP:20260420T011731
CREATED:20230626T151128Z
LAST-MODIFIED:20231018T212419Z
UID:10002140-1693388700-1693390500@www.weliahealth.org
SUMMARY:Open Studio
DESCRIPTION:Come check out the classroom at Welia Center! Come to stretch\, do your own workout\, or try a free Wellbeats class!
URL:https://www.weliahealth.org/event/open-studio-8/2023-08-30/
LOCATION:Welia Center: Fitness & Community Room\, 200 N 9th St\, Mora\, MN\, 55051-1147\, United States
CATEGORIES:Caravan
ATTACH;FMTTYPE=image/jpeg:https://www.weliahealth.org/wp-content/uploads/2021/04/Generic-class-480x200-1.jpg
END:VEVENT
BEGIN:VEVENT
DTSTART;TZID=America/Chicago:20230830T160000
DTEND;TZID=America/Chicago:20230830T163000
DTSTAMP:20260420T011731
CREATED:20230626T154444Z
LAST-MODIFIED:20230626T154446Z
UID:10002167-1693411200-1693413000@www.weliahealth.org
SUMMARY:Wellbeats - Spin Class
DESCRIPTION:Join a free Wellbeats fitness class at Welia Center!  \n\n\n\nTry an indoor cycling cardio class that involves different combinations of sitting or standing\, leg speed (revolutions per minutes) and resistance. \n\n\n\nThere are six spin bikes available per class.
URL:https://www.weliahealth.org/event/wellbeats-spin-class-14/2023-08-30/
LOCATION:Welia Center: Fitness & Community Room\, 200 N 9th St\, Mora\, MN\, 55051-1147\, United States
CATEGORIES:Caravan
ATTACH;FMTTYPE=image/jpeg:https://www.weliahealth.org/wp-content/uploads/2021/04/spin-class-480x200-1.jpg
END:VEVENT
BEGIN:VEVENT
DTSTART;TZID=America/Chicago:20230830T170000
DTEND;TZID=America/Chicago:20230830T173000
DTSTAMP:20260420T011731
CREATED:20230626T155113Z
LAST-MODIFIED:20230626T155115Z
UID:10002205-1693414800-1693416600@www.weliahealth.org
SUMMARY:Open Studio
DESCRIPTION:Come check out the classroom at Welia Center! Come to stretch\, do your own workout\, or try a free Wellbeats class!
URL:https://www.weliahealth.org/event/open-studio-9/2023-08-30/
LOCATION:Welia Center: Fitness & Community Room\, 200 N 9th St\, Mora\, MN\, 55051-1147\, United States
CATEGORIES:Caravan
ATTACH;FMTTYPE=image/jpeg:https://www.weliahealth.org/wp-content/uploads/2021/04/Generic-class-480x200-1.jpg
END:VEVENT
BEGIN:VEVENT
DTSTART;TZID=America/Chicago:20230830T180000
DTEND;TZID=America/Chicago:20230830T183500
DTSTAMP:20260420T011731
CREATED:20230626T155626Z
LAST-MODIFIED:20230626T155629Z
UID:10002226-1693418400-1693420500@www.weliahealth.org
SUMMARY:Wellbeats - Yoga Class
DESCRIPTION:Join us for a free Wellbeats fitness class at Welia Center! \n\n\n\nDiscover a unique fusion of yoga and Pilates. Improve your mind-body connection while building stronger\, leaner muscles. \n\n\n\nJuly Wellbeats CalendarDownload\n\n\n\nJuly Wellbeats Class DescriptionDownload
URL:https://www.weliahealth.org/event/wellbeats-yoga-class-9/2023-08-30/
LOCATION:Welia Center: Fitness & Community Room\, 200 N 9th St\, Mora\, MN\, 55051-1147\, United States
CATEGORIES:Caravan
ATTACH;FMTTYPE=image/png:https://www.weliahealth.org/wp-content/uploads/2021/12/yoga-class.png
END:VEVENT
BEGIN:VEVENT
DTSTART;TZID=America/Chicago:20230831T083000
DTEND;TZID=America/Chicago:20230831T090000
DTSTAMP:20260420T011731
CREATED:20230626T175521Z
LAST-MODIFIED:20230626T175523Z
UID:10002265-1693470600-1693472400@www.weliahealth.org
SUMMARY:Wellbeats - Yoga Class
DESCRIPTION:Join us for a free Wellbeats fitness class at Welia Center! \n\n\n\nDiscover a unique fusion of yoga and Pilates. Improve your mind-body connection while building stronger\, leaner muscles. \n\n\n\nJuly Wellbeats CalendarDownload\n\n\n\nJuly Wellbeats Class DescriptionDownload
URL:https://www.weliahealth.org/event/wellbeats-yoga-class-10/2023-08-31/
LOCATION:Welia Center: Fitness & Community Room\, 200 N 9th St\, Mora\, MN\, 55051-1147\, United States
CATEGORIES:Caravan
ATTACH;FMTTYPE=image/png:https://www.weliahealth.org/wp-content/uploads/2021/12/yoga-class.png
END:VEVENT
BEGIN:VEVENT
DTSTART;TZID=America/Chicago:20230831T091500
DTEND;TZID=America/Chicago:20230831T094500
DTSTAMP:20260420T011731
CREATED:20230626T180111Z
LAST-MODIFIED:20230626T180243Z
UID:10002289-1693473300-1693475100@www.weliahealth.org
SUMMARY:Wellbeats - Zumba Class
DESCRIPTION:Join a free Wellbeats fitness class at Welia Center!
URL:https://www.weliahealth.org/event/wellbeats-zumba-class-3/2023-08-31/
LOCATION:Welia Center: Fitness & Community Room\, 200 N 9th St\, Mora\, MN\, 55051-1147\, United States
CATEGORIES:Caravan
ATTACH;FMTTYPE=image/jpeg:https://www.weliahealth.org/wp-content/uploads/2023/05/Wellbeats-Zumba-430x200-1.jpg
END:VEVENT
BEGIN:VEVENT
DTSTART;TZID=America/Chicago:20230831T153000
DTEND;TZID=America/Chicago:20230831T155000
DTSTAMP:20260420T011731
CREATED:20230626T183322Z
LAST-MODIFIED:20230626T183323Z
UID:10002344-1693495800-1693497000@www.weliahealth.org
SUMMARY:Pilates Wellbeats Class
DESCRIPTION:Join a free Wellbeats fitness class at Welia Center! \n\n\n\nLow-impact on the joints and uses controlled movements\, with primary focus on the core to build strength\, flexibility and endurance in a full body workout. \n\n\n\nAugust Wellbeats CalendarDownload
URL:https://www.weliahealth.org/event/pilates-wellbeats-class-4/2023-08-31/
LOCATION:Welia Center\, 200 N 9th St\, Mora\, MN\, 55051-1147\, United States
CATEGORIES:Classes
ATTACH;FMTTYPE=image/jpeg:https://www.weliahealth.org/wp-content/uploads/2021/04/Generic-class-480x200-1.jpg
END:VEVENT
BEGIN:VEVENT
DTSTART;TZID=America/Chicago:20230831T160000
DTEND;TZID=America/Chicago:20230831T163000
DTSTAMP:20260420T011731
CREATED:20230626T181551Z
LAST-MODIFIED:20230626T183835Z
UID:10002361-1693497600-1693499400@www.weliahealth.org
SUMMARY:Open Studio
DESCRIPTION:Come check out the classroom at Welia Center! Come to stretch\, do your own workout\, or try a free Wellbeats class!
URL:https://www.weliahealth.org/event/open-studio-10/2023-08-31/
LOCATION:Welia Center: Fitness & Community Room\, 200 N 9th St\, Mora\, MN\, 55051-1147\, United States
CATEGORIES:Caravan
ATTACH;FMTTYPE=image/jpeg:https://www.weliahealth.org/wp-content/uploads/2021/04/Generic-class-480x200-1.jpg
END:VEVENT
BEGIN:VEVENT
DTSTART;TZID=America/Chicago:20230901T073000
DTEND;TZID=America/Chicago:20230901T080000
DTSTAMP:20260420T011731
CREATED:20230627T142630Z
LAST-MODIFIED:20230627T143450Z
UID:10002380-1693553400-1693555200@www.weliahealth.org
SUMMARY:Wellbeats - Spin Class
DESCRIPTION:Join a free Wellbeats fitness class at Welia Center!  \n\n\n\nTry an indoor cycling cardio class that involves different combinations of sitting or standing\, leg speed (revolutions per minutes) and resistance. \n\n\n\nThere are six spin bikes available per class.
URL:https://www.weliahealth.org/event/wellbeats-spin-class-16/
LOCATION:Welia Center: Fitness & Community Room\, 200 N 9th St\, Mora\, MN\, 55051-1147\, United States
CATEGORIES:Caravan
ATTACH;FMTTYPE=image/jpeg:https://www.weliahealth.org/wp-content/uploads/2021/04/spin-class-480x200-1.jpg
END:VEVENT
BEGIN:VEVENT
DTSTART;TZID=America/Chicago:20230904T091500
DTEND;TZID=America/Chicago:20230904T094500
DTSTAMP:20260420T011731
CREATED:20230912T162522Z
LAST-MODIFIED:20231011T023650Z
UID:10002581-1693818900-1693820700@www.weliahealth.org
SUMMARY:Wellbeats - Zumba Class
DESCRIPTION:Join a free Wellbeats fitness class at Welia Center!  \n\n\n\nOct Wellbeats Calendar 2023Download\n\n\n\nNov Wellbeats Calendar 2023Download\n\n\n\nDec Wellbeats Calendar 2023Download
URL:https://www.weliahealth.org/event/wellbeats-zumba-class-4/2023-09-04/
LOCATION:Welia Center: Fitness & Community Room\, 200 N 9th St\, Mora\, MN\, 55051-1147\, United States
CATEGORIES:Caravan
ATTACH;FMTTYPE=image/jpeg:https://www.weliahealth.org/wp-content/uploads/2023/05/Wellbeats-Zumba-430x200-1.jpg
END:VEVENT
BEGIN:VEVENT
DTSTART;TZID=America/Chicago:20230905T160000
DTEND;TZID=America/Chicago:20230905T163000
DTSTAMP:20260420T011731
CREATED:20230912T204120Z
LAST-MODIFIED:20231018T193803Z
UID:10002666-1693929600-1693931400@www.weliahealth.org
SUMMARY:Open Studio
DESCRIPTION:Come check out the classroom at Welia Center! Come to stretch\, do your own workout\, or try a free Wellbeats class! \n\n\n\nOct Wellbeats Calendar 2023Download\n\n\n\nNov Wellbeats Calendar 2023Download\n\n\n\nDec Wellbeats Calendar 2023Download
URL:https://www.weliahealth.org/event/open-studio-11/2023-09-05/
LOCATION:Welia Center: Fitness & Community Room\, 200 N 9th St\, Mora\, MN\, 55051-1147\, United States
CATEGORIES:Caravan
ATTACH;FMTTYPE=image/jpeg:https://www.weliahealth.org/wp-content/uploads/2021/04/Generic-class-480x200-1.jpg
END:VEVENT
BEGIN:VEVENT
DTSTART;TZID=America/Chicago:20230906T091500
DTEND;TZID=America/Chicago:20230906T094500
DTSTAMP:20260420T011731
CREATED:20230912T162522Z
LAST-MODIFIED:20231011T023650Z
UID:10002582-1693991700-1693993500@www.weliahealth.org
SUMMARY:Wellbeats - Zumba Class
DESCRIPTION:Join a free Wellbeats fitness class at Welia Center!  \n\n\n\nOct Wellbeats Calendar 2023Download\n\n\n\nNov Wellbeats Calendar 2023Download\n\n\n\nDec Wellbeats Calendar 2023Download
URL:https://www.weliahealth.org/event/wellbeats-zumba-class-4/2023-09-06/
LOCATION:Welia Center: Fitness & Community Room\, 200 N 9th St\, Mora\, MN\, 55051-1147\, United States
CATEGORIES:Caravan
ATTACH;FMTTYPE=image/jpeg:https://www.weliahealth.org/wp-content/uploads/2023/05/Wellbeats-Zumba-430x200-1.jpg
END:VEVENT
BEGIN:VEVENT
DTSTART;TZID=America/Chicago:20230907T133000
DTEND;TZID=America/Chicago:20230907T143000
DTSTAMP:20260420T011731
CREATED:20230510T192030Z
LAST-MODIFIED:20230713T152202Z
UID:10001710-1694093400-1694097000@www.weliahealth.org
SUMMARY:Diabetes Support Group-Mora
DESCRIPTION:The Diabetes Support Group welcomes people with diabetes\, their families and friends. To learn more\, call our diabetes educators at 320.679.1313.   The group meets the first Thursday of every month.
URL:https://www.weliahealth.org/event/diabetes-support-group-mora/2023-09-07/
LOCATION:Welia Health–Mora: Conference Rooms\, 301 MN-65\, Mora\, MN\, 55051\, United States
CATEGORIES:Diabetes (Mora),Support Groups
ATTACH;FMTTYPE=image/jpeg:https://www.weliahealth.org/wp-content/uploads/2018/12/Diabetes-SG-430x200.jpg
END:VEVENT
BEGIN:VEVENT
DTSTART;TZID=America/Chicago:20230907T153000
DTEND;TZID=America/Chicago:20230907T155000
DTSTAMP:20260420T011731
CREATED:20230912T163725Z
LAST-MODIFIED:20231011T024421Z
UID:10002629-1694100600-1694101800@www.weliahealth.org
SUMMARY:Pilates Wellbeats Class
DESCRIPTION:Join a free Wellbeats fitness class at Welia Center! \n\n\n\nLow-impact on the joints and uses controlled movements\, with primary focus on the core to build strength\, flexibility and endurance in a full body workout. \n\n\n\nOct Wellbeats Calendar 2023Download\n\n\n\nNov Wellbeats Calendar 2023Download\n\n\n\nDec Wellbeats Calendar 2023Download
URL:https://www.weliahealth.org/event/pilates-wellbeats-class-5/2023-09-07/
LOCATION:Welia Center\, 200 N 9th St\, Mora\, MN\, 55051-1147\, United States
CATEGORIES:Classes
ATTACH;FMTTYPE=image/jpeg:https://www.weliahealth.org/wp-content/uploads/2021/04/Generic-class-480x200-1.jpg
END:VEVENT
BEGIN:VEVENT
DTSTART;TZID=America/Chicago:20230907T153000
DTEND;TZID=America/Chicago:20230907T155000
DTSTAMP:20260420T011731
CREATED:20231011T023954Z
LAST-MODIFIED:20231011T024010Z
UID:10002783-1694100600-1694101800@www.weliahealth.org
SUMMARY:Pilates Wellbeats Class
DESCRIPTION:Join a free Wellbeats fitness class at Welia Center! \n\n\n\nLow-impact on the joints and uses controlled movements\, with primary focus on the core to build strength\, flexibility and endurance in a full body workout. \n\n\n\nOct Wellbeats Calendar 2023Download\n\n\n\nNov Wellbeats Calendar 2023Download\n\n\n\nDec Wellbeats Calendar 2023Download
URL:https://www.weliahealth.org/event/pilates-wellbeats-class-6/2023-09-07/
LOCATION:Welia Center\, 200 N 9th St\, Mora\, MN\, 55051-1147\, United States
CATEGORIES:Classes
ATTACH;FMTTYPE=image/jpeg:https://www.weliahealth.org/wp-content/uploads/2021/04/Generic-class-480x200-1.jpg
END:VEVENT
BEGIN:VEVENT
DTSTART;TZID=America/Chicago:20230907T153000
DTEND;TZID=America/Chicago:20230907T155000
DTSTAMP:20260420T011731
CREATED:20231018T181254Z
LAST-MODIFIED:20231018T181325Z
UID:10002849-1694100600-1694101800@www.weliahealth.org
SUMMARY:Wellbeats – Pilates
DESCRIPTION:Join a free Wellbeats fitness class at Welia Center! \n\n\n\nLow-impact on the joints and uses controlled movements\, with primary focus on the core to build strength\, flexibility and endurance in a full body workout. \n\n\n\nNov Wellbeats Calendar 2023Download\n\n\n\nDec Wellbeats Calendar 2023Download
URL:https://www.weliahealth.org/event/pilates-wellbeats-class-7/2023-09-07/
LOCATION:Welia Center\, 200 N 9th St\, Mora\, MN\, 55051-1147\, United States
CATEGORIES:Classes
ATTACH;FMTTYPE=image/jpeg:https://www.weliahealth.org/wp-content/uploads/2021/04/Generic-class-480x200-1.jpg
END:VEVENT
BEGIN:VEVENT
DTSTART;TZID=America/Chicago:20230907T160000
DTEND;TZID=America/Chicago:20230907T163000
DTSTAMP:20260420T011731
CREATED:20230912T204120Z
LAST-MODIFIED:20231018T193803Z
UID:10002667-1694102400-1694104200@www.weliahealth.org
SUMMARY:Open Studio
DESCRIPTION:Come check out the classroom at Welia Center! Come to stretch\, do your own workout\, or try a free Wellbeats class! \n\n\n\nOct Wellbeats Calendar 2023Download\n\n\n\nNov Wellbeats Calendar 2023Download\n\n\n\nDec Wellbeats Calendar 2023Download
URL:https://www.weliahealth.org/event/open-studio-11/2023-09-07/
LOCATION:Welia Center: Fitness & Community Room\, 200 N 9th St\, Mora\, MN\, 55051-1147\, United States
CATEGORIES:Caravan
ATTACH;FMTTYPE=image/jpeg:https://www.weliahealth.org/wp-content/uploads/2021/04/Generic-class-480x200-1.jpg
END:VEVENT
BEGIN:VEVENT
DTSTART;TZID=America/Chicago:20230909T000000
DTEND;TZID=America/Chicago:20230909T235959
DTSTAMP:20260420T011731
CREATED:20230622T164738Z
LAST-MODIFIED:20230622T165127Z
UID:10002047-1694217600-1694303999@www.weliahealth.org
SUMMARY:State Park- Free Day
DESCRIPTION:Great opportunity to get out and explore any Minnesota State Park. Free admission to everyone and not vehicle permits needed!
URL:https://www.weliahealth.org/event/state-park-free-day/
CATEGORIES:Community Events
END:VEVENT
BEGIN:VEVENT
DTSTART;TZID=America/Chicago:20230911T074600
DTEND;TZID=America/Chicago:20230911T074700
DTSTAMP:20260420T011731
CREATED:20230907T181139Z
LAST-MODIFIED:20230918T212522Z
UID:10002437-1694418360-1694418420@www.weliahealth.org
SUMMARY:Remembering 9/11
DESCRIPTION:Join us in observing a moment of silence at 7:46am on Monday\, September 11th. \n\n\n\nThe time signifies when the first plane hit the Twin Towers\, honoring the memory of those first responders and Americans who lost their lives.  \n\n\n\nTwenty-two years later\, we gather in a renewed spirit of unity\, resilience\, and strength.  \n\n\n\nWe invite all community members\, the Kanabec County Sheriff’s Office\, Mora and Ogilvie Fire Departments to meet in the front parking lot off Hwy 65. \n\n\n\nWe remember.
URL:https://www.weliahealth.org/event/remembering-9-11/
CATEGORIES:Community Events
ATTACH;FMTTYPE=image/png:https://www.weliahealth.org/wp-content/uploads/2023/09/430x200-event-patriot-day-911.png
END:VEVENT
BEGIN:VEVENT
DTSTART;TZID=America/Chicago:20230911T091500
DTEND;TZID=America/Chicago:20230911T094500
DTSTAMP:20260420T011731
CREATED:20230912T162522Z
LAST-MODIFIED:20231011T023650Z
UID:10002583-1694423700-1694425500@www.weliahealth.org
SUMMARY:Wellbeats - Zumba Class
DESCRIPTION:Join a free Wellbeats fitness class at Welia Center!  \n\n\n\nOct Wellbeats Calendar 2023Download\n\n\n\nNov Wellbeats Calendar 2023Download\n\n\n\nDec Wellbeats Calendar 2023Download
URL:https://www.weliahealth.org/event/wellbeats-zumba-class-4/2023-09-11/
LOCATION:Welia Center: Fitness & Community Room\, 200 N 9th St\, Mora\, MN\, 55051-1147\, United States
CATEGORIES:Caravan
ATTACH;FMTTYPE=image/jpeg:https://www.weliahealth.org/wp-content/uploads/2023/05/Wellbeats-Zumba-430x200-1.jpg
END:VEVENT
BEGIN:VEVENT
DTSTART;TZID=America/Chicago:20230912T091500
DTEND;TZID=America/Chicago:20230912T094500
DTSTAMP:20260420T011731
CREATED:20230912T161040Z
LAST-MODIFIED:20231011T024321Z
UID:10002533-1694510100-1694511900@www.weliahealth.org
SUMMARY:Wellbeats - Yoga Class
DESCRIPTION:Join us for a free Wellbeats fitness class at Welia Center! \n\n\n\nDiscover a unique fusion of yoga and Pilates. Improve your mind-body connection while building stronger\, leaner muscles. \n\n\n\nOct Wellbeats Calendar 2023Download\n\n\n\nNov Wellbeats Calendar 2023Download\n\n\n\nDec Wellbeats Calendar 2023Download
URL:https://www.weliahealth.org/event/wellbeats-yoga-class-11/2023-09-12/
LOCATION:Welia Center: Fitness & Community Room\, 200 N 9th St\, Mora\, MN\, 55051-1147\, United States
CATEGORIES:Caravan
ATTACH;FMTTYPE=image/png:https://www.weliahealth.org/wp-content/uploads/2021/12/yoga-class.png
END:VEVENT
BEGIN:VEVENT
DTSTART;TZID=America/Chicago:20230912T153000
DTEND;TZID=America/Chicago:20230912T155000
DTSTAMP:20260420T011731
CREATED:20230912T163725Z
LAST-MODIFIED:20231011T024421Z
UID:10002630-1694532600-1694533800@www.weliahealth.org
SUMMARY:Pilates Wellbeats Class
DESCRIPTION:Join a free Wellbeats fitness class at Welia Center! \n\n\n\nLow-impact on the joints and uses controlled movements\, with primary focus on the core to build strength\, flexibility and endurance in a full body workout. \n\n\n\nOct Wellbeats Calendar 2023Download\n\n\n\nNov Wellbeats Calendar 2023Download\n\n\n\nDec Wellbeats Calendar 2023Download
URL:https://www.weliahealth.org/event/pilates-wellbeats-class-5/2023-09-12/
LOCATION:Welia Center\, 200 N 9th St\, Mora\, MN\, 55051-1147\, United States
CATEGORIES:Classes
ATTACH;FMTTYPE=image/jpeg:https://www.weliahealth.org/wp-content/uploads/2021/04/Generic-class-480x200-1.jpg
END:VEVENT
BEGIN:VEVENT
DTSTART;TZID=America/Chicago:20230912T153000
DTEND;TZID=America/Chicago:20230912T155000
DTSTAMP:20260420T011731
CREATED:20231011T023954Z
LAST-MODIFIED:20231011T024010Z
UID:10002784-1694532600-1694533800@www.weliahealth.org
SUMMARY:Pilates Wellbeats Class
DESCRIPTION:Join a free Wellbeats fitness class at Welia Center! \n\n\n\nLow-impact on the joints and uses controlled movements\, with primary focus on the core to build strength\, flexibility and endurance in a full body workout. \n\n\n\nOct Wellbeats Calendar 2023Download\n\n\n\nNov Wellbeats Calendar 2023Download\n\n\n\nDec Wellbeats Calendar 2023Download
URL:https://www.weliahealth.org/event/pilates-wellbeats-class-6/2023-09-12/
LOCATION:Welia Center\, 200 N 9th St\, Mora\, MN\, 55051-1147\, United States
CATEGORIES:Classes
ATTACH;FMTTYPE=image/jpeg:https://www.weliahealth.org/wp-content/uploads/2021/04/Generic-class-480x200-1.jpg
END:VEVENT
BEGIN:VEVENT
DTSTART;TZID=America/Chicago:20230912T153000
DTEND;TZID=America/Chicago:20230912T155000
DTSTAMP:20260420T011731
CREATED:20231018T181254Z
LAST-MODIFIED:20231018T181325Z
UID:10002850-1694532600-1694533800@www.weliahealth.org
SUMMARY:Wellbeats – Pilates
DESCRIPTION:Join a free Wellbeats fitness class at Welia Center! \n\n\n\nLow-impact on the joints and uses controlled movements\, with primary focus on the core to build strength\, flexibility and endurance in a full body workout. \n\n\n\nNov Wellbeats Calendar 2023Download\n\n\n\nDec Wellbeats Calendar 2023Download
URL:https://www.weliahealth.org/event/pilates-wellbeats-class-7/2023-09-12/
LOCATION:Welia Center\, 200 N 9th St\, Mora\, MN\, 55051-1147\, United States
CATEGORIES:Classes
ATTACH;FMTTYPE=image/jpeg:https://www.weliahealth.org/wp-content/uploads/2021/04/Generic-class-480x200-1.jpg
END:VEVENT
END:VCALENDAR