BEGIN:VCALENDAR
VERSION:2.0
PRODID:-//Welia Health - ECPv6.15.20//NONSGML v1.0//EN
CALSCALE:GREGORIAN
METHOD:PUBLISH
X-WR-CALNAME:Welia Health
X-ORIGINAL-URL:https://www.weliahealth.org
X-WR-CALDESC:Events for Welia Health
REFRESH-INTERVAL;VALUE=DURATION:PT1H
X-Robots-Tag:noindex
X-PUBLISHED-TTL:PT1H
BEGIN:VTIMEZONE
TZID:America/Chicago
BEGIN:DAYLIGHT
TZOFFSETFROM:-0600
TZOFFSETTO:-0500
TZNAME:CDT
DTSTART:20220313T080000
END:DAYLIGHT
BEGIN:STANDARD
TZOFFSETFROM:-0500
TZOFFSETTO:-0600
TZNAME:CST
DTSTART:20221106T070000
END:STANDARD
BEGIN:DAYLIGHT
TZOFFSETFROM:-0600
TZOFFSETTO:-0500
TZNAME:CDT
DTSTART:20230312T080000
END:DAYLIGHT
BEGIN:STANDARD
TZOFFSETFROM:-0500
TZOFFSETTO:-0600
TZNAME:CST
DTSTART:20231105T070000
END:STANDARD
BEGIN:DAYLIGHT
TZOFFSETFROM:-0600
TZOFFSETTO:-0500
TZNAME:CDT
DTSTART:20240310T080000
END:DAYLIGHT
BEGIN:STANDARD
TZOFFSETFROM:-0500
TZOFFSETTO:-0600
TZNAME:CST
DTSTART:20241103T070000
END:STANDARD
END:VTIMEZONE
BEGIN:VEVENT
DTSTART;TZID=America/Chicago:20231019T150000
DTEND;TZID=America/Chicago:20231019T160000
DTSTAMP:20260420T231732
CREATED:20230921T162735Z
LAST-MODIFIED:20230921T162740Z
UID:10002395-1697727600-1697731200@www.weliahealth.org
SUMMARY:Parkinson's Support Group
DESCRIPTION:Welia Health offers a Parkinson Support Group for people with Parkinson’s Disease\, their families and friends.  As a community service event\, there is no charge for this support group\, and everyone is welcome to attend.   \n\n\n\nThe group determines the topics discussed and meets quarterly\, on the third Thursday from 3pm-4pm.
URL:https://www.weliahealth.org/event/parkinsons-support-group-3/
LOCATION:Welia Health–Mora: Conference Rooms\, 301 MN-65\, Mora\, MN\, 55051\, United States
CATEGORIES:Parkinson's,Support Groups
ATTACH;FMTTYPE=image/jpeg:https://www.weliahealth.org/wp-content/uploads/2018/12/Parkinsons-SG-430x200.jpg
END:VEVENT
BEGIN:VEVENT
DTSTART;TZID=America/Chicago:20230719T150000
DTEND;TZID=America/Chicago:20230719T160000
DTSTAMP:20260420T231732
CREATED:20230711T195423Z
LAST-MODIFIED:20230713T145919Z
UID:10002396-1689778800-1689782400@www.weliahealth.org
SUMMARY:Parkinson's support group
DESCRIPTION:Join us and special guest speaker\, K.C. Bohn from Rock Steady Boxing at July’s support group. He will present on the benefits of a non-contact boxing inspired fitness routine designed to help those who have Parkinson’s live more independent lives. \n\n\n\nTo learn more about Rock Steady Boxing\, click here.
URL:https://www.weliahealth.org/event/parkinsons-support-group-2/
LOCATION:Welia Health–Mora: Conference Rooms\, 301 MN-65\, Mora\, MN\, 55051\, United States
CATEGORIES:Parkinson's,Support Groups
ATTACH;FMTTYPE=image/jpeg:https://www.weliahealth.org/wp-content/uploads/2018/12/Parkinsons-SG-430x200.jpg
END:VEVENT
BEGIN:VEVENT
DTSTART;TZID=America/Chicago:20230420T150000
DTEND;TZID=America/Chicago:20230420T160000
DTSTAMP:20260420T231732
CREATED:20230711T194931Z
LAST-MODIFIED:20230711T194933Z
UID:10002393-1682002800-1682006400@www.weliahealth.org
SUMMARY:Parkinson's Support Group
DESCRIPTION:Welia Health offers a Parkinson Support Group for people with Parkinson’s Disease\, their families and friends.  As a community service event\, there is no charge for this support group\, and everyone is welcome to attend.   \n\n\n\nThe group determines the topics discussed and meets quarterly\, on the third Thursday from 3pm-4pm.
URL:https://www.weliahealth.org/event/parkinsons-support-group/2023-04-20/
LOCATION:Welia Health–Mora: Conference Rooms\, 301 MN-65\, Mora\, MN\, 55051\, United States
CATEGORIES:Parkinson's,Support Groups
ATTACH;FMTTYPE=image/png:https://www.weliahealth.org/wp-content/uploads/2019/08/WH-Support-Parkinsons.png
END:VEVENT
BEGIN:VEVENT
DTSTART;TZID=America/Chicago:20230119T150000
DTEND;TZID=America/Chicago:20230119T160000
DTSTAMP:20260420T231732
CREATED:20230711T194931Z
LAST-MODIFIED:20230711T194933Z
UID:10002392-1674140400-1674144000@www.weliahealth.org
SUMMARY:Parkinson's Support Group
DESCRIPTION:Welia Health offers a Parkinson Support Group for people with Parkinson’s Disease\, their families and friends.  As a community service event\, there is no charge for this support group\, and everyone is welcome to attend.   \n\n\n\nThe group determines the topics discussed and meets quarterly\, on the third Thursday from 3pm-4pm.
URL:https://www.weliahealth.org/event/parkinsons-support-group/2023-01-19/
LOCATION:Welia Health–Mora: Conference Rooms\, 301 MN-65\, Mora\, MN\, 55051\, United States
CATEGORIES:Parkinson's,Support Groups
ATTACH;FMTTYPE=image/png:https://www.weliahealth.org/wp-content/uploads/2019/08/WH-Support-Parkinsons.png
END:VEVENT
END:VCALENDAR