BEGIN:VCALENDAR
VERSION:2.0
PRODID:-//Welia Health - ECPv6.15.20//NONSGML v1.0//EN
CALSCALE:GREGORIAN
METHOD:PUBLISH
X-WR-CALNAME:Welia Health
X-ORIGINAL-URL:https://www.weliahealth.org
X-WR-CALDESC:Events for Welia Health
REFRESH-INTERVAL;VALUE=DURATION:PT1H
X-Robots-Tag:noindex
X-PUBLISHED-TTL:PT1H
BEGIN:VTIMEZONE
TZID:America/Chicago
BEGIN:DAYLIGHT
TZOFFSETFROM:-0600
TZOFFSETTO:-0500
TZNAME:CDT
DTSTART:20220313T080000
END:DAYLIGHT
BEGIN:STANDARD
TZOFFSETFROM:-0500
TZOFFSETTO:-0600
TZNAME:CST
DTSTART:20221106T070000
END:STANDARD
BEGIN:DAYLIGHT
TZOFFSETFROM:-0600
TZOFFSETTO:-0500
TZNAME:CDT
DTSTART:20230312T080000
END:DAYLIGHT
BEGIN:STANDARD
TZOFFSETFROM:-0500
TZOFFSETTO:-0600
TZNAME:CST
DTSTART:20231105T070000
END:STANDARD
BEGIN:DAYLIGHT
TZOFFSETFROM:-0600
TZOFFSETTO:-0500
TZNAME:CDT
DTSTART:20240310T080000
END:DAYLIGHT
BEGIN:STANDARD
TZOFFSETFROM:-0500
TZOFFSETTO:-0600
TZNAME:CST
DTSTART:20241103T070000
END:STANDARD
BEGIN:DAYLIGHT
TZOFFSETFROM:-0600
TZOFFSETTO:-0500
TZNAME:CDT
DTSTART:20250309T080000
END:DAYLIGHT
BEGIN:STANDARD
TZOFFSETFROM:-0500
TZOFFSETTO:-0600
TZNAME:CST
DTSTART:20251102T070000
END:STANDARD
BEGIN:DAYLIGHT
TZOFFSETFROM:-0600
TZOFFSETTO:-0500
TZNAME:CDT
DTSTART:20260308T080000
END:DAYLIGHT
BEGIN:STANDARD
TZOFFSETFROM:-0500
TZOFFSETTO:-0600
TZNAME:CST
DTSTART:20261101T070000
END:STANDARD
BEGIN:DAYLIGHT
TZOFFSETFROM:-0600
TZOFFSETTO:-0500
TZNAME:CDT
DTSTART:20270314T080000
END:DAYLIGHT
BEGIN:STANDARD
TZOFFSETFROM:-0500
TZOFFSETTO:-0600
TZNAME:CST
DTSTART:20271107T070000
END:STANDARD
END:VTIMEZONE
BEGIN:VEVENT
DTSTART;TZID=America/Chicago:20230710T090000
DTEND;TZID=America/Chicago:20230710T140000
DTSTAMP:20260419T172819
CREATED:20230606T170057Z
LAST-MODIFIED:20230606T174506Z
UID:10001836-1688979600-1688997600@www.weliahealth.org
SUMMARY:Concussion Testing for student athletes - Pine City
DESCRIPTION:What is baseline concussion testing?\n\n\n\nIt’s a series of physical and cognitive tests that measure healthy brain function before a sports season starts – and prior to an injury. In the event of a concussion\, the results of these tests are used as a comparison to help healthcare providers make return-to-sport decisions. \n\n\n\nWhy is it important?\n\n\n\nThe disappearance of symptoms after a concussion does not indicate that an athlete’s brain has fully recovered. Baseline Testing provides data that gives providers a clearer picture of the athlete’s healthy state and what type of results should be achieved when the athlete is fully recovered. \n\n\n\nAll student-athletes in grades 7-12 intending to play during the 2023-24 school year should plan to be tested at a Concussion Clinic.\n\n\n\nReminder — this is a pre-injury assessment; NOT a sports physical. \n\n\n\nStudent-athletes:\n\n\n\nTesting normally takes 10 minutesWear comfortable/athletic clothing and sneakers to the clinicIf you are not able to attend one of the testing dates\, see your school athletic trainerPre-registration is required — click here.
URL:https://www.weliahealth.org/event/baseline-concussion-testing-for-student-athletes-pine-city-4/
LOCATION:Pine City High School\, 1400 Main St S\, Pine City\, Minnesota\, 55063\, United States
CATEGORIES:Concussion Screenings
ATTACH;FMTTYPE=image/jpeg:https://www.weliahealth.org/wp-content/uploads/2023/05/Concussion-Screening-430x200-1.jpg
END:VEVENT
BEGIN:VEVENT
DTSTART;TZID=America/Chicago:20230711T090000
DTEND;TZID=America/Chicago:20230711T140000
DTSTAMP:20260419T172819
CREATED:20230519T153037Z
LAST-MODIFIED:20230606T173940Z
UID:10001839-1689066000-1689084000@www.weliahealth.org
SUMMARY:Concussion Testing for student athletes - Hinckley
DESCRIPTION:What is baseline concussion testing?\n\n\n\nIt’s a series of physical and cognitive tests that measure healthy brain function before a sports season starts – and prior to an injury. In the event of a concussion\, the results of these tests are used as a comparison to help healthcare providers make return-to-sport decisions. \n\n\n\nWhy is it important?\n\n\n\nThe disappearance of symptoms after a concussion does not indicate that an athlete’s brain has fully recovered. Baseline Testing provides data that gives providers a clearer picture of the athlete’s healthy state and what type of results should be achieved when the athlete is fully recovered. \n\n\n\nAll student-athletes in grades 7-12 intending to play during the 2023-24 school year should plan to be tested at a Concussion Clinic.\n\n\n\nReminder — this is a pre-injury assessment; NOT a sports physical. \n\n\n\nStudent-athletes:\n\n\n\nTesting normally takes 10 minutesWear comfortable/athletic clothing and sneakers to the clinicIf you are not able to attend one of the testing dates\, see your school athletic trainerPre-registration is required — click here.
URL:https://www.weliahealth.org/event/baseline-concussion-testing-for-student-athletes-hinckley-3/
LOCATION:Hinckley-Finlayson Fitness Center\, 201 Main Street E\, Hinckley\, MN\, 55037\, United States
CATEGORIES:Concussion Screenings
ATTACH;FMTTYPE=image/jpeg:https://www.weliahealth.org/wp-content/uploads/2023/05/Concussion-Screening-430x200-1.jpg
END:VEVENT
BEGIN:VEVENT
DTSTART;TZID=America/Chicago:20230712T150000
DTEND;TZID=America/Chicago:20230712T180000
DTSTAMP:20260419T172819
CREATED:20230519T144421Z
LAST-MODIFIED:20230606T173700Z
UID:10001837-1689174000-1689184800@www.weliahealth.org
SUMMARY:Concussion Testing for student athletes - Mora
DESCRIPTION:What is baseline concussion testing?\n\n\n\nIt’s a series of physical and cognitive tests that measure healthy brain function before a sports season starts – and prior to an injury. In the event of a concussion\, the results of these tests are used as a comparison to help healthcare providers make return-to-sport decisions. \n\n\n\nWhy is it important?\n\n\n\nThe disappearance of symptoms after a concussion does not indicate that an athlete’s brain has fully recovered. Baseline Testing provides data that gives providers a clearer picture of the athlete’s healthy state and what type of results should be achieved when the athlete is fully recovered. \n\n\n\nAll student-athletes in grades 7-12 intending to play during the 2023-24 school year should plan to be tested at a Concussion Clinic.\n\n\n\nReminder — this is a pre-injury assessment; NOT a sports physical. \n\n\n\nStudent-athletes:\n\n\n\nTesting normally takes 10 minutesWear comfortable/athletic clothing and sneakers to the clinicIf you are not able to attend one of the testing dates\, see your school athletic trainerPre-registration is required — click here.
URL:https://www.weliahealth.org/event/baseline-concussion-testing-for-student-athletes-mora-3/
LOCATION:Mora Elementary Cafeteria\, 400 Maple Ave E.\, Mora\, Minnesota\, 55051\, United States
CATEGORIES:Concussion Screenings
ATTACH;FMTTYPE=image/jpeg:https://www.weliahealth.org/wp-content/uploads/2023/05/Concussion-Screening-430x200-1.jpg
END:VEVENT
BEGIN:VEVENT
DTSTART;TZID=America/Chicago:20230713T090000
DTEND;TZID=America/Chicago:20230713T140000
DTSTAMP:20260419T172819
CREATED:20230519T153642Z
LAST-MODIFIED:20230606T173439Z
UID:10001841-1689238800-1689256800@www.weliahealth.org
SUMMARY:Concussion Testing for student athletes - East Central
DESCRIPTION:What is baseline concussion testing?\n\n\n\nIt’s a series of physical and cognitive tests that measure healthy brain function before a sports season starts – and prior to an injury. In the event of a concussion\, the results of these tests are used as a comparison to help healthcare providers make return-to-sport decisions. \n\n\n\nWhy is it important?\n\n\n\nThe disappearance of symptoms after a concussion does not indicate that an athlete’s brain has fully recovered. Baseline Testing provides data that gives providers a clearer picture of the athlete’s healthy state and what type of results should be achieved when the athlete is fully recovered. \n\n\n\nAll student-athletes in grades 7-12 intending to play during the 2023-24 school year should plan to be tested at a Concussion Clinic.\n\n\n\nReminder — this is a pre-injury assessment; NOT a sports physical. \n\n\n\nStudent-athletes:\n\n\n\nTesting normally takes 10 minutesWear comfortable/athletic clothing and sneakers to the clinicIf you are not able to attend one of the testing dates\, see your school athletic trainerPre-registration is required — click here.
URL:https://www.weliahealth.org/event/baseline-concussion-testing-for-student-athletes-east-central-2/
LOCATION:East Central Schools\, 61085 MN-23\, Finlayson\, Minnesota\, 55735\, United States
CATEGORIES:Concussion Screenings
ATTACH;FMTTYPE=image/jpeg:https://www.weliahealth.org/wp-content/uploads/2023/05/Concussion-Screening-430x200-1.jpg
END:VEVENT
BEGIN:VEVENT
DTSTART;TZID=America/Chicago:20230717T090000
DTEND;TZID=America/Chicago:20230717T140000
DTSTAMP:20260419T172819
CREATED:20230519T152620Z
LAST-MODIFIED:20230606T172812Z
UID:10001838-1689584400-1689602400@www.weliahealth.org
SUMMARY:Concussion Testing for student athletes - Mora
DESCRIPTION:What is baseline concussion testing?\n\n\n\nIt’s a series of physical and cognitive tests that measure healthy brain function before a sports season starts – and prior to an injury. In the event of a concussion\, the results of these tests are used as a comparison to help healthcare providers make return-to-sport decisions. \n\n\n\nWhy is it important?\n\n\n\nThe disappearance of symptoms after a concussion does not indicate that an athlete’s brain has fully recovered. Baseline Testing provides data that gives providers a clearer picture of the athlete’s healthy state and what type of results should be achieved when the athlete is fully recovered. \n\n\n\nAll student-athletes in grades 7-12 intending to play during the 2023-24 school year should plan to be tested at a Concussion Clinic.\n\n\n\nReminder — this is a pre-injury assessment; NOT a sports physical. \n\n\n\nStudent-athletes:\n\n\n\nTesting normally takes 10 minutesWear comfortable/athletic clothing and sneakers to the clinicIf you are not able to attend one of the testing dates\, see your school athletic trainerPre-registration is required — click here.
URL:https://www.weliahealth.org/event/baseline-concussion-testing-for-student-athletes-mora-4/
LOCATION:Mora Elementary Cafeteria\, 400 Maple Ave E.\, Mora\, Minnesota\, 55051\, United States
CATEGORIES:Concussion Screenings
ATTACH;FMTTYPE=image/jpeg:https://www.weliahealth.org/wp-content/uploads/2023/05/Concussion-Screening-430x200-1.jpg
END:VEVENT
BEGIN:VEVENT
DTSTART;TZID=America/Chicago:20230718T150000
DTEND;TZID=America/Chicago:20230718T180000
DTSTAMP:20260419T172819
CREATED:20230519T153238Z
LAST-MODIFIED:20230606T172554Z
UID:10001840-1689692400-1689703200@www.weliahealth.org
SUMMARY:Concussion Testing for student athletes - Hinckley
DESCRIPTION:What is baseline concussion testing?\n\n\n\nIt’s a series of physical and cognitive tests that measure healthy brain function before a sports season starts – and prior to an injury. In the event of a concussion\, the results of these tests are used as a comparison to help healthcare providers make return-to-sport decisions. \n\n\n\nWhy is it important?\n\n\n\nThe disappearance of symptoms after a concussion does not indicate that an athlete’s brain has fully recovered. Baseline Testing provides data that gives providers a clearer picture of the athlete’s healthy state and what type of results should be achieved when the athlete is fully recovered. \n\n\n\nAll student-athletes in grades 7-12 intending to play during the 2023-24 school year should plan to be tested at a Concussion Clinic.\n\n\n\nReminder — this is a pre-injury assessment; NOT a sports physical. \n\n\n\nStudent-athletes:\n\n\n\nTesting normally takes 10 minutesWear comfortable/athletic clothing and sneakers to the clinicIf you are not able to attend one of the testing dates\, see your school athletic trainerPre-registration is required — click here.
URL:https://www.weliahealth.org/event/baseline-concussion-testing-for-student-athletes-hinckley-4/
LOCATION:Hinckley-Finlayson Fitness Center\, 201 Main Street E\, Hinckley\, MN\, 55037\, United States
CATEGORIES:Concussion Screenings
ATTACH;FMTTYPE=image/jpeg:https://www.weliahealth.org/wp-content/uploads/2023/05/Concussion-Screening-430x200-1.jpg
END:VEVENT
BEGIN:VEVENT
DTSTART;TZID=America/Chicago:20230719T150000
DTEND;TZID=America/Chicago:20230719T180000
DTSTAMP:20260419T172819
CREATED:20230606T170420Z
LAST-MODIFIED:20230606T174415Z
UID:10001834-1689778800-1689789600@www.weliahealth.org
SUMMARY:Concussion Testing for student athletes - Pine City
DESCRIPTION:What is baseline concussion testing?\n\n\n\nIt’s a series of physical and cognitive tests that measure healthy brain function before a sports season starts – and prior to an injury. In the event of a concussion\, the results of these tests are used as a comparison to help healthcare providers make return-to-sport decisions. \n\n\n\nWhy is it important?\n\n\n\nThe disappearance of symptoms after a concussion does not indicate that an athlete’s brain has fully recovered. Baseline Testing provides data that gives providers a clearer picture of the athlete’s healthy state and what type of results should be achieved when the athlete is fully recovered. \n\n\n\nAll student-athletes in grades 7-12 intending to play during the 2023-24 school year should plan to be tested at a Concussion Clinic.\n\n\n\nReminder — this is a pre-injury assessment; NOT a sports physical. \n\n\n\nStudent-athletes:\n\n\n\nTesting normally takes 10 minutesWear comfortable/athletic clothing and sneakers to the clinicIf you are not able to attend one of the testing dates\, see your school athletic trainerPre-registration is required — click here.
URL:https://www.weliahealth.org/event/baseline-concussion-testing-for-student-athletes-pine-city-6/
LOCATION:Pine City High School\, 1400 Main St S\, Pine City\, Minnesota\, 55063\, United States
CATEGORIES:Concussion Screenings
ATTACH;FMTTYPE=image/jpeg:https://www.weliahealth.org/wp-content/uploads/2023/05/Concussion-Screening-430x200-1.jpg
END:VEVENT
BEGIN:VEVENT
DTSTART;TZID=America/Chicago:20230720T090000
DTEND;TZID=America/Chicago:20230720T140000
DTSTAMP:20260419T172819
CREATED:20230519T154915Z
LAST-MODIFIED:20230606T171959Z
UID:10001842-1689843600-1689861600@www.weliahealth.org
SUMMARY:Concussion Testing for student athletes - Ogilvie
DESCRIPTION:What is baseline concussion testing?\n\n\n\nIt’s a series of physical and cognitive tests that measure healthy brain function before a sports season starts – and prior to an injury. In the event of a concussion\, the results of these tests are used as a comparison to help healthcare providers make return-to-sport decisions. \n\n\n\nWhy is it important?\n\n\n\nThe disappearance of symptoms after a concussion does not indicate that an athlete’s brain has fully recovered. Baseline Testing provides data that gives providers a clearer picture of the athlete’s healthy state and what type of results should be achieved when the athlete is fully recovered. \n\n\n\nAll student-athletes in grades 7-12 intending to play during the 2023-24 school year should plan to be tested at a Concussion Clinic.\n\n\n\nReminder — this is a pre-injury assessment; NOT a sports physical. \n\n\n\nStudent-athletes:\n\n\n\nTesting normally takes 10 minutesWear comfortable/athletic clothing and sneakers to the clinicIf you are not able to attend one of the testing dates\, see your school athletic trainerPre-registration is required — click here.
URL:https://www.weliahealth.org/event/baseline-concussion-testing-for-student-athletes-ogilvie/
LOCATION:Ogilvie Schools\, 333 School Dr\, Ogilvie\, Minnesota\, 56358\, United States
CATEGORIES:Concussion Screenings
ATTACH;FMTTYPE=image/jpeg:https://www.weliahealth.org/wp-content/uploads/2023/05/Concussion-Screening-430x200-1.jpg
END:VEVENT
BEGIN:VEVENT
DTSTART;TZID=America/Chicago:20250729T150000
DTEND;TZID=America/Chicago:20250729T180000
DTSTAMP:20260419T172819
CREATED:20250501T151239Z
LAST-MODIFIED:20250523T154123Z
UID:10014990-1753801200-1753812000@www.weliahealth.org
SUMMARY:Free Sports Physicals in Pine City
DESCRIPTION:Calling all student athletes!\nWelia Health is proud to offer free sports physicals to area students\, meeting the Minnesota State High School League (MSHSL) requirement for students in grades 7-12 to have a physical every three years for sports and activities. \nWelia Health–Pine City 1425 Main St N Pine City MN 55063-6026 \nAlso in Mora on Thursday\, July 31. \nRegistration required\nCall 320.629.7505 to register in Pine City. \n\n\n\nIMPORTANT: Bring your completed Sports Medical Eligibility Form to your appointment. 
URL:https://www.weliahealth.org/event/free-sports-physicals-in-pine-city/
LOCATION:Welia Health–Pine City\, 1425 Main St N\, Pine City\, MN\, 55063-6026\, United States
CATEGORIES:Health Events,Sports Physicals
ATTACH;FMTTYPE=image/jpeg:https://www.weliahealth.org/wp-content/uploads/2025/05/2025_SportsPhysicals_Blog-1.jpg
END:VEVENT
BEGIN:VEVENT
DTSTART;TZID=America/Chicago:20250731T150000
DTEND;TZID=America/Chicago:20250731T180000
DTSTAMP:20260419T172819
CREATED:20250501T151743Z
LAST-MODIFIED:20250523T154301Z
UID:10014991-1753974000-1753984800@www.weliahealth.org
SUMMARY:Free Sports Physicals in Mora
DESCRIPTION:Calling all student athletes!\nWelia Health is proud to offer free sports physicals to area students\, meeting the Minnesota State High School League (MSHSL) requirement for students in grades 7-12 to have a physical every three years for sports and activities. \nWelia Health–Mora301 Highway 65 SMora MN 55051-1899 \nAlso in Pine City on Tuesday\, July 29. \nRegistration required.\nCall 320.679.1313 to register in Mora. \n\n\n\nIMPORTANT: Bring your completed Sports Medical Eligibility Form to your appointment. 
URL:https://www.weliahealth.org/event/free-sports-physicals-in-mora/
LOCATION:Welia Health-Mora\, 301 Highway 65 S\, Mora MN\, 55051-1899\, United States
CATEGORIES:Health Events,Sports Physicals
ATTACH;FMTTYPE=image/jpeg:https://www.weliahealth.org/wp-content/uploads/2025/05/2025_SportsPhysicals_Blog-1.jpg
END:VEVENT
BEGIN:VEVENT
DTSTART;TZID=America/Chicago:20251007T120000
DTEND;TZID=America/Chicago:20251007T180000
DTSTAMP:20260419T172819
CREATED:20250916T181425Z
LAST-MODIFIED:20250916T181942Z
UID:10015075-1759838400-1759860000@www.weliahealth.org
SUMMARY:Eye Care Center Annual Frame Sale
DESCRIPTION:Save Big at the Eye Care Center!\nThe Annual Frame Sale is back—bigger and better than ever.\nMark your calendar for Tuesday\, October 7 | Noon–6 pm \n\n25% OFF your first complete pair of frames & lenses\n50% OFF your second complete pair of frames & lenses\n\nIncludes prescription sunglasses!\n(Excludes budget packages. No other discounts apply.) \nBrowse the latest looks from: \n\nTURA – Buffalo\, Lulu Guinness\nCLEARVISION – Izod\, BCBG\n\nStop by\, try on your favorites\, and enjoy light refreshments while you shop. Don’t miss your chance to update your style and save!
URL:https://www.weliahealth.org/event/eye-care-center-annual-frame-sale/
LOCATION:Welia Health-Mora: Eye Care Center\, 301 Highway 65 S\, Mora\, MN\, 55051-1899\, United States
CATEGORIES:Health Events
ATTACH;FMTTYPE=image/png:https://www.weliahealth.org/wp-content/uploads/2025/09/frame-sale-430x200-1.png
END:VEVENT
BEGIN:VEVENT
DTSTART;TZID=America/Chicago:20260306T100000
DTEND;TZID=America/Chicago:20260306T160000
DTSTAMP:20260419T172819
CREATED:20260109T172434Z
LAST-MODIFIED:20260310T133039Z
UID:10015138-1772791200-1772812800@www.weliahealth.org
SUMMARY:Blood Drive
DESCRIPTION:Every two seconds\, someone in the U.S. needs blood. Donations are essential for surgeries\, cancer treatment\, chronic illnesses\, and traumatic injuries. Whether patients need whole blood\, red cells\, platelets\, or plasma\, lifesaving care begins with one generous donor. \nWelia Health has partnered with the American Red Cross to host a blood drive and invites you to participate. \nTo schedule your donation\, visit the American Red Cross website and select a time that works for you\, or call 1-800-RED CROSS (1-800-733-2767). \nTo learn more\, check out this Welia Health Connections post: Be a Hero: The Impact of Blood Donation. \nBe a hero. Donate blood.
URL:https://www.weliahealth.org/event/2026-blood-drives/2026-03-06/
LOCATION:Welia Health–Mora: Conference Rooms\, 301 MN-65\, Mora\, MN\, 55051\, United States
CATEGORIES:Blood Drive,Health Events
ATTACH;FMTTYPE=image/jpeg:https://www.weliahealth.org/wp-content/uploads/2019/12/Blood-Drive-430x200.jpg
END:VEVENT
END:VCALENDAR