BEGIN:VCALENDAR
VERSION:2.0
PRODID:-//Welia Health - ECPv6.15.20//NONSGML v1.0//EN
CALSCALE:GREGORIAN
METHOD:PUBLISH
X-WR-CALNAME:Welia Health
X-ORIGINAL-URL:https://www.weliahealth.org
X-WR-CALDESC:Events for Welia Health
REFRESH-INTERVAL;VALUE=DURATION:PT1H
X-Robots-Tag:noindex
X-PUBLISHED-TTL:PT1H
BEGIN:VTIMEZONE
TZID:America/Chicago
BEGIN:DAYLIGHT
TZOFFSETFROM:-0600
TZOFFSETTO:-0500
TZNAME:CDT
DTSTART:20220313T080000
END:DAYLIGHT
BEGIN:STANDARD
TZOFFSETFROM:-0500
TZOFFSETTO:-0600
TZNAME:CST
DTSTART:20221106T070000
END:STANDARD
BEGIN:DAYLIGHT
TZOFFSETFROM:-0600
TZOFFSETTO:-0500
TZNAME:CDT
DTSTART:20230312T080000
END:DAYLIGHT
BEGIN:STANDARD
TZOFFSETFROM:-0500
TZOFFSETTO:-0600
TZNAME:CST
DTSTART:20231105T070000
END:STANDARD
BEGIN:DAYLIGHT
TZOFFSETFROM:-0600
TZOFFSETTO:-0500
TZNAME:CDT
DTSTART:20240310T080000
END:DAYLIGHT
BEGIN:STANDARD
TZOFFSETFROM:-0500
TZOFFSETTO:-0600
TZNAME:CST
DTSTART:20241103T070000
END:STANDARD
END:VTIMEZONE
BEGIN:VEVENT
DTSTART;TZID=America/Chicago:20230824T150000
DTEND;TZID=America/Chicago:20230824T150000
DTSTAMP:20260419T172827
CREATED:20230622T153932Z
LAST-MODIFIED:20250703T165316Z
UID:10002040-1692889200-1692889200@www.weliahealth.org
SUMMARY:Mora Rocks The Parks- Water Works
DESCRIPTION:Be prepared to get wet with the Mora Area Fire Department!
URL:https://www.weliahealth.org/event/mora-rocks-the-parks-water-works/
LOCATION:Library Park\, 210 Maple Ave W\, Mora\, MN\, 55051\, United States
CATEGORIES:Community Events
END:VEVENT
BEGIN:VEVENT
DTSTART;TZID=America/Chicago:20230823T100000
DTEND;TZID=America/Chicago:20230823T140000
DTSTAMP:20260419T172827
CREATED:20230821T172134Z
LAST-MODIFIED:20230821T173441Z
UID:10002434-1692784800-1692799200@www.weliahealth.org
SUMMARY:Pine County Operation Community Connect
DESCRIPTION:The Pine County Operation Community Connect (OCC) Event will be on Wednesday\, August 23\, 2023 at the Hinckley-Finlayson High School from 10am-2pm. \n\n\n\nPine County Health and Human Services along with outside vendors/resources for dental\, mental health\, seniors\, housing\, food access\, legal and veterans services. Attendees will receive a free meal\, hygiene care package\, cooking supplies\, backpacks and cold weather gear and we’ll even have free haircuts available. Arrowhead Transportation will be providing free rides to the event to provide greater access.
URL:https://www.weliahealth.org/event/pine-county-operation-community-connect/
LOCATION:Hinckley-Finlayson High School\, 201 Main St E\, Hinckley\, Minnesota\, 55037\, United States
CATEGORIES:Community Events
ATTACH;FMTTYPE=image/jpeg:https://www.weliahealth.org/wp-content/uploads/2023/08/Pine-County-2023-OCC-Flyer-Final-scaled.jpg
END:VEVENT
BEGIN:VEVENT
DTSTART;TZID=America/Chicago:20230817T160000
DTEND;TZID=America/Chicago:20230817T160000
DTSTAMP:20260419T172827
CREATED:20230622T153432Z
LAST-MODIFIED:20250703T165311Z
UID:10002039-1692288000-1692288000@www.weliahealth.org
SUMMARY:Mora Rocks The Parks- Cops\, Cones & K-9 RIP
DESCRIPTION:All ages are welcome to enjoy ice cream with our local law enforcement partners. Plus a demonstration from K-9 RIP at 5pm!
URL:https://www.weliahealth.org/event/mora-rocks-the-parks-cops-cones-k-9-rip/
LOCATION:Library Park\, 210 Maple Ave W\, Mora\, MN\, 55051\, United States
CATEGORIES:Community Events
END:VEVENT
BEGIN:VEVENT
DTSTART;TZID=America/Chicago:20230811T110000
DTEND;TZID=America/Chicago:20230811T130000
DTSTAMP:20260419T172827
CREATED:20230622T145859Z
LAST-MODIFIED:20230804T192516Z
UID:10002031-1691751600-1691758800@www.weliahealth.org
SUMMARY:Learn about simple guidelines to help you live longer and prep your meals at the Pine City Farmer's Market
DESCRIPTION:Visit us at the Pine City Farmers’ Market where you can learn about The Blue Zones diet and eating for a long and healthy life!   \n\n\n\nThis week’s giveaway – meal prep container and reusable zip lock bags to get you started!
URL:https://www.weliahealth.org/event/learn-about-simple-guidelines-to-help-you-live-longer-and-prep-your-meals-at-the-pine-city-farmers-market/
LOCATION:Pine City Fairgrounds\, 707 1st Ave NW\, Pine City\, MN\, 55063\, United States
CATEGORIES:Community Events,Farmer's Market
ATTACH;FMTTYPE=image/jpeg:https://www.weliahealth.org/wp-content/uploads/2023/06/BlueZones_Event_430x200.jpg
END:VEVENT
BEGIN:VEVENT
DTSTART;TZID=America/Chicago:20230810T150000
DTEND;TZID=America/Chicago:20230810T150000
DTSTAMP:20260419T172827
CREATED:20230622T153028Z
LAST-MODIFIED:20250703T165304Z
UID:10002038-1691679600-1691679600@www.weliahealth.org
SUMMARY:Mora Rocks The Parks- Kids Yoga
DESCRIPTION:Have fun learning how to balance\, stretch and have fun doing yoga. Bring a beach towel and a water bottle. There will be a chance to win a yoga mat too!
URL:https://www.weliahealth.org/event/mora-rocks-the-parks-kids-yoga/
LOCATION:Library Park\, 210 Maple Ave W\, Mora\, MN\, 55051\, United States
CATEGORIES:Community Events
END:VEVENT
BEGIN:VEVENT
DTSTART;TZID=America/Chicago:20230808T150000
DTEND;TZID=America/Chicago:20230808T180000
DTSTAMP:20260419T172827
CREATED:20230516T142954Z
LAST-MODIFIED:20230522T155910Z
UID:10001828-1691506800-1691517600@www.weliahealth.org
SUMMARY:Free Sports Physicals offered in Mora
DESCRIPTION:All students in grades 7-12 who want to take part in MSHSL sports and activities must have a current physical exam form on file with their schools’ activities office. The sports qualifying physical exam eligibility form remains valid for three calendar years from the day it was completed. \n\n\n\nImportant message: To save time\, please bring your completed Sports Medical Eligibility Form with you to your appointment.  The 2023-2024 form can be found here or you can download\, below.      \n\n\n\n23_24-Sports-Physical-Exam-Form-From-MNSHSLDownload
URL:https://www.weliahealth.org/event/free-sports-physicals-offered-in-mora/
LOCATION:Welia Health-Mora Clinic\, 301 MN-65\, Mora\, Minnesota\, 55051\, United States
CATEGORIES:Community Events
ATTACH;FMTTYPE=image/jpeg:https://www.weliahealth.org/wp-content/uploads/2023/05/2023_SportsPhysicals_Event_480x200.jpg
END:VEVENT
BEGIN:VEVENT
DTSTART;TZID=America/Chicago:20230805T080000
DTEND;TZID=America/Chicago:20230805T110000
DTSTAMP:20260419T172827
CREATED:20230727T193911Z
LAST-MODIFIED:20250703T165247Z
UID:10002433-1691222400-1691233200@www.weliahealth.org
SUMMARY:19th Annual Pine County Fun Run
DESCRIPTION:Start your morning with a walk or run from the Pine City Beach.  Proceeds from this race are donated to Hinckley-Finlayson and Pine City School organizations.  \n\n\n\nWalk – 1 mile | 5K (3.2 miles) or Run – 1 mile | 5K (3.2 miles) | 10K (6.1 miles) \n\n\n\nAwards given to the top two finishers in each age / event category! \n\n\n\nRegister here:
URL:https://www.weliahealth.org/event/19th-annual-pine-county-fun-run/
LOCATION:Pine City Beach\, 6th Ave SW\, Pine City\, Minnesota\, 55063\, United States
CATEGORIES:Community Events
ATTACH;FMTTYPE=image/png:https://www.weliahealth.org/wp-content/uploads/2023/07/pcfr.png
ORGANIZER;CN="PCFR Race coordinator - Lisa Hodena":MAILTO:lhodena@isd2165.org
END:VEVENT
BEGIN:VEVENT
DTSTART;TZID=America/Chicago:20230803T150000
DTEND;TZID=America/Chicago:20230803T150000
DTSTAMP:20260419T172827
CREATED:20230622T152635Z
LAST-MODIFIED:20250703T165241Z
UID:10002037-1691074800-1691074800@www.weliahealth.org
SUMMARY:Mora Rocks The Parks- Coloring Contest
DESCRIPTION:Enjoy snacks while you color your masterpiece. There will be prizes for winners and all ages are welcome!
URL:https://www.weliahealth.org/event/mora-rocks-the-parks-coloring-contest/
LOCATION:King’s Kingdom / Mora Lion’s Park\, 701 S Union St\, Mora\, Minnesota\, 55051\, United States
CATEGORIES:Community Events
END:VEVENT
BEGIN:VEVENT
DTSTART;TZID=America/Chicago:20230802T000000
DTEND;TZID=America/Chicago:20230806T235959
DTSTAMP:20260419T172827
CREATED:20230622T162441Z
LAST-MODIFIED:20250703T165231Z
UID:10002044-1690934400-1691366399@www.weliahealth.org
SUMMARY:Pine County Fair
DESCRIPTION:Pine County fair welcomes everyone to enjoy 5 days full of fun\, with many animals to see\, amusement rides\, venders\, live entertainment\, and more!
URL:https://www.weliahealth.org/event/pine-county-fair/
LOCATION:Pine City Fairgrounds\, 707 1st Ave NW\, Pine City\, MN\, 55063\, United States
CATEGORIES:Community Events
END:VEVENT
BEGIN:VEVENT
DTSTART;TZID=America/Chicago:20230801T170000
DTEND;TZID=America/Chicago:20230801T190000
DTSTAMP:20260419T172827
CREATED:20230622T164142Z
LAST-MODIFIED:20250703T165351Z
UID:10002046-1690909200-1690916400@www.weliahealth.org
SUMMARY:National Night Out
DESCRIPTION:Each year\, Welia Health teams up with the Kanabec County Sheriff’s Department to celebrate National Night Out (NNO).  NNO creates a community building event to mingle with and increase awareness about local law enforcement\, first responders\, fire and other emergency personnel.   \n\n\n\nStop by and give a high-5 to our EMS staff.   \n\n\n\nPS – We’ll have super-cool light-up balls* to give away and stickers!!  \n\n\n\n*for the first 200 people \n\n\n\nLearn more about NNO here.
URL:https://www.weliahealth.org/event/national-night-out/
LOCATION:Kanabec County Fair Grounds\, South Union St.\, Mora\, Minnesota\, 55051\, United States
CATEGORIES:Community Events
ATTACH;FMTTYPE=image/jpeg:https://www.weliahealth.org/wp-content/uploads/2023/06/NNO_2023.jpg
END:VEVENT
BEGIN:VEVENT
DTSTART;TZID=America/Chicago:20230801T150000
DTEND;TZID=America/Chicago:20230801T180000
DTSTAMP:20260419T172827
CREATED:20230516T142009Z
LAST-MODIFIED:20230522T160212Z
UID:10001827-1690902000-1690912800@www.weliahealth.org
SUMMARY:Free Sports Physicals offered in Pine City
DESCRIPTION:All students in grades 7-12 who want to take part in MSHSL sports and activities must have a current physical exam form on file with their schools’ activities office. The sports qualifying physical exam eligibility form remains valid for three calendar years from the day it was completed. \n\n\n\nImportant message: To save time\, please bring your completed Sports Medical Eligibility Form with you to your appointment.  The 2023-2024 form can be found here or you can download\, below.      \n\n\n\n23_24-Sports-Physical-Exam-Form-From-MNSHSLDownload
URL:https://www.weliahealth.org/event/free-sports-physicals-offered-in-pine-city/
LOCATION:Welia Health–Pine City\, 1425 Main St N\, Pine City\, MN\, 55063-6026\, United States
CATEGORIES:Community Events
ATTACH;FMTTYPE=image/jpeg:https://www.weliahealth.org/wp-content/uploads/2023/05/2023_SportsPhysicals_Event_480x200.jpg
END:VEVENT
BEGIN:VEVENT
DTSTART;TZID=America/Chicago:20230726T000000
DTEND;TZID=America/Chicago:20230730T235959
DTSTAMP:20260419T172827
CREATED:20230622T163143Z
LAST-MODIFIED:20250703T165214Z
UID:10002045-1690329600-1690761599@www.weliahealth.org
SUMMARY:Kanabec County Fair
DESCRIPTION:Kanabec County Fair welcomes everyone to 5 days full of fun. Enjoy the parade\, animals\, venders\, grandstand events\, family day\, and much more!
URL:https://www.weliahealth.org/event/kanabec-county-fair/
LOCATION:Kanabec County Fair Grounds\, South Union St.\, Mora\, Minnesota\, 55051\, United States
CATEGORIES:Community Events
END:VEVENT
BEGIN:VEVENT
DTSTART;TZID=America/Chicago:20230721T110000
DTEND;TZID=America/Chicago:20230721T130000
DTSTAMP:20260419T172827
CREATED:20230622T145038Z
LAST-MODIFIED:20230804T191511Z
UID:10002030-1689937200-1689944400@www.weliahealth.org
SUMMARY:Learn about five of the easiest breathing exercises at the Pine City Farmer's Market
DESCRIPTION:TIME OUT! Visit us at the Pine City Farmers’ Market to learn about breathing exercises to help keep you grounded. Find benefits of taking a moment to breathe and why it helps.   \n\n\n\nThis week’s giveaway* is a timer to help track your moments of intentional breathing exercises! \n\n\n\n*Available to the first 50 people
URL:https://www.weliahealth.org/event/learn-about-five-of-the-easiest-breathing-exercises-at-the-pine-city-farmers-market/
LOCATION:Pine City Fairgrounds\, 707 1st Ave NW\, Pine City\, MN\, 55063\, United States
CATEGORIES:Community Events,Farmer's Market
ATTACH;FMTTYPE=image/jpeg:https://www.weliahealth.org/wp-content/uploads/2023/06/Breathing_Event_430x200.jpg
END:VEVENT
BEGIN:VEVENT
DTSTART;TZID=America/Chicago:20230720T150000
DTEND;TZID=America/Chicago:20230720T150000
DTSTAMP:20260419T172827
CREATED:20230622T152158Z
LAST-MODIFIED:20250703T165208Z
UID:10002036-1689865200-1689865200@www.weliahealth.org
SUMMARY:Mora Rocks The Parks- Gaga Ball
DESCRIPTION:Join in the fun of playing Gaga Ball\, we’ll bring the ball you bring your friends!  Welcome to all ages.
URL:https://www.weliahealth.org/event/mora-rocks-the-parks-gaga-ball/
LOCATION:King’s Kingdom / Mora Lion’s Park\, 701 S Union St\, Mora\, Minnesota\, 55051\, United States
CATEGORIES:Community Events
END:VEVENT
BEGIN:VEVENT
DTSTART;TZID=America/Chicago:20230715T090000
DTEND;TZID=America/Chicago:20230715T150000
DTSTAMP:20260419T172827
CREATED:20230622T155138Z
LAST-MODIFIED:20250703T165152Z
UID:10002041-1689411600-1689433200@www.weliahealth.org
SUMMARY:Pine City Art Fest
DESCRIPTION:This event provides a venue to sell original art work and crafts or can be a source of creative inspiration. Visit over 40 vendor booths filled by artists\, writers\, photographers\, woodworkers\, sign makers\, and crafters as well as a musical group to entertain the crowds of people.
URL:https://www.weliahealth.org/event/pine-city-art-fest/
LOCATION:Robinson Park – Pine City\, 229 5th St SE\, Pine City\, Minnesota\, 55063\, United States
CATEGORIES:Community Events
END:VEVENT
BEGIN:VEVENT
DTSTART;TZID=America/Chicago:20230713T150000
DTEND;TZID=America/Chicago:20230713T160000
DTSTAMP:20260419T172827
CREATED:20230712T214010Z
LAST-MODIFIED:20250703T165142Z
UID:10002413-1689260400-1689264000@www.weliahealth.org
SUMMARY:Bike safety event
DESCRIPTION:Hosted by The City of Mora and Better Together Coalition of Kanabec County \n\n\n\n\n\nRide or bring your bike to the Kid’s Kingdom Park and learn about bike safety from the Kanabec County Sheriff’s Office. After learning important safety tips\, children have a chance to ride through a bike safety course\, and after\, enjoy a treat in the park. \n\n\n\n!! BONUS!!  \n\n\n\nKids who do not have a bike helmet are eligible to receive one from Welia Health. \n\n\n\nParticipants also receive a FREE pool pass from the Mora Aquatic Center
URL:https://www.weliahealth.org/event/bike-safety-event/
LOCATION:King’s Kingdom / Mora Lion’s Park\, 701 S Union St\, Mora\, Minnesota\, 55051\, United States
CATEGORIES:Community Events
ATTACH;FMTTYPE=image/png:https://www.weliahealth.org/wp-content/uploads/2023/07/Bike-safety-with-mora-rocks_0723.png
END:VEVENT
BEGIN:VEVENT
DTSTART;TZID=America/Chicago:20230707T110000
DTEND;TZID=America/Chicago:20230707T130000
DTSTAMP:20260419T172827
CREATED:20230622T144222Z
LAST-MODIFIED:20230804T191320Z
UID:10002029-1688727600-1688734800@www.weliahealth.org
SUMMARY:Learn about sodium\, fats\, and sugar at the Pine City Farmer's Market
DESCRIPTION:We all know we should be eating more fruits and vegetables\, but what are the current recommendations for sodium\, fats\, and sugars? Visit us at the Pine City Farmers’ Market where we will have some valuable information about that\, including current recommendations.This week’s giveaway- measuring spoons!
URL:https://www.weliahealth.org/event/learn-about-sodium-fats-and-sugar-at-the-pine-city-farmers-market/
LOCATION:Pine City Fairgrounds\, 707 1st Ave NW\, Pine City\, MN\, 55063\, United States
CATEGORIES:Community Events,Farmer's Market
ATTACH;FMTTYPE=image/jpeg:https://www.weliahealth.org/wp-content/uploads/2023/06/Cooking_Event_430x200.jpg
END:VEVENT
BEGIN:VEVENT
DTSTART;TZID=America/Chicago:20230707T000000
DTEND;TZID=America/Chicago:20230708T235959
DTSTAMP:20260419T172827
CREATED:20230622T161024Z
LAST-MODIFIED:20250703T165131Z
UID:10002042-1688688000-1688860799@www.weliahealth.org
SUMMARY:Corn & Clover Carnival
DESCRIPTION:Hinckley celebrates over 100 years of fun\, family\, and community. There will be venders\, rides\, food\, parade\, entertainment\, local musicians\, and more.
URL:https://www.weliahealth.org/event/corn-clover-carnival/
LOCATION:Downtown Hinckley\, Main St\, Hinckley\, Minnesota\, 55037\, United States
CATEGORIES:Community Events
END:VEVENT
BEGIN:VEVENT
DTSTART;TZID=America/Chicago:20230629T150000
DTEND;TZID=America/Chicago:20230629T150000
DTSTAMP:20260419T172827
CREATED:20230622T151335Z
LAST-MODIFIED:20250703T165124Z
UID:10002034-1688050800-1688050800@www.weliahealth.org
SUMMARY:Mora Rocks The Parks- Positivity Rocks
DESCRIPTION:Rock painting and FREE ice cream treat! Welcome to all ages.
URL:https://www.weliahealth.org/event/mora-rocks-the-parks-positivity-rocks/
LOCATION:Library Park\, 210 Maple Ave W\, Mora\, MN\, 55051\, United States
CATEGORIES:Community Events
END:VEVENT
BEGIN:VEVENT
DTSTART;TZID=America/Chicago:20230624T000000
DTEND;TZID=America/Chicago:20230624T235959
DTSTAMP:20260419T172827
CREATED:20230622T161700Z
LAST-MODIFIED:20250703T165116Z
UID:10002043-1687564800-1687651199@www.weliahealth.org
SUMMARY:Freedom Fest
DESCRIPTION:Wide variety of activities on the last Saturday of June to celebrate our community and the organizations that serve in the community. There will be vendors\, family friendly activities\, live music\, car show\, and more!
URL:https://www.weliahealth.org/event/freedom-fest/
LOCATION:Pine City Fairgrounds\, 707 1st Ave NW\, Pine City\, MN\, 55063\, United States
CATEGORIES:Community Events
END:VEVENT
BEGIN:VEVENT
DTSTART;TZID=America/Chicago:20230623T110000
DTEND;TZID=America/Chicago:20230623T130000
DTSTAMP:20260419T172827
CREATED:20230619T162015Z
LAST-MODIFIED:20230804T191625Z
UID:10002002-1687518000-1687525200@www.weliahealth.org
SUMMARY:Staff picks for local outdoor adventures at the Pine City Farmer's Market
DESCRIPTION:We asked our Welia Health staff to tell us their favorite outdoor things to do in the summer. Stop by and pick up our compiled recommendations for family-friendly events and places to explore. Pick what looks interesting to you\, then get outside and have some fun.   \n\n\n\nRemember to share your ideas with us!    \n\n\n\nThis week’s giveaway:  CamelBak water bottle (for the first 50 people).
URL:https://www.weliahealth.org/event/staff-picks-for-local-outdoor-adventures-at-the-pine-city-farmers-market/
LOCATION:Pine City Fairgrounds\, 707 1st Ave NW\, Pine City\, MN\, 55063\, United States
CATEGORIES:Community Events,Farmer's Market
ATTACH;FMTTYPE=image/jpeg:https://www.weliahealth.org/wp-content/uploads/2023/06/GetOutside_Event_430x200.jpg
END:VEVENT
BEGIN:VEVENT
DTSTART;TZID=America/Chicago:20230609T110000
DTEND;TZID=America/Chicago:20230609T130000
DTSTAMP:20260419T172827
CREATED:20230619T161030Z
LAST-MODIFIED:20230619T164158Z
UID:10002001-1686308400-1686315600@www.weliahealth.org
SUMMARY:Learn about the benefits of journaling at the Pine City Farmer's Market
DESCRIPTION:Visit us at the Pine City Farmers’ Market where we will have some valuable information about the benefits of journaling.  This week’s giveaway – a notebook\, some stickers and pens to get you started!
URL:https://www.weliahealth.org/event/learn-about-the-benefits-of-journaling-at-the-pine-city-farmers-market/
LOCATION:Pine City Fairgrounds\, 707 1st Ave NW\, Pine City\, MN\, 55063\, United States
CATEGORIES:Community Events,Farmer's Market
ATTACH;FMTTYPE=image/jpeg:https://www.weliahealth.org/wp-content/uploads/2023/06/Journaling_Event_430x200_v4.jpg
END:VEVENT
BEGIN:VEVENT
DTSTART;TZID=America/Chicago:20230426T170000
DTEND;TZID=America/Chicago:20230426T200000
DTSTAMP:20260419T172827
CREATED:20230413T152038Z
LAST-MODIFIED:20230413T152200Z
UID:10001693-1682528400-1682539200@www.weliahealth.org
SUMMARY:Opioid Forum
DESCRIPTION:A community event – sponsored by Pine County Public Health Pine County Public Health invites you to come learn more about what is happening in our community surrounding the opioid epidemic: \n\n\n\nWhere are we at?How did we get here?What can we do?
URL:https://www.weliahealth.org/event/opioid-forum/
LOCATION:Grand Casino Hinckley\, 777 Lady Luck Drive\, Hinckley\, Minnesota\, 55037-0087
CATEGORIES:Community Events
END:VEVENT
BEGIN:VEVENT
DTSTART;TZID=America/Chicago:20230422T100000
DTEND;TZID=America/Chicago:20230422T140000
DTSTAMP:20260419T172827
CREATED:20230420T172117Z
LAST-MODIFIED:20230420T172118Z
UID:10001694-1682157600-1682172000@www.weliahealth.org
SUMMARY:Drug Take Back Day
DESCRIPTION:Drop off any unused\, unwanted or expired medication.  Accepting: \n\n\n\nPrescription medicationsOver-the-counter (OTC) medicationsPrescription patchesVitaminsPet medications\n\n\n\nNot accepted at this time:  needles\, inhalers\, thermometers\, aerosol cans\, lotions or liquids. \n\n\n\nToo often\, unused prescription drugs find their way into the wrong hands.  This is an opportunity to clean out your medicine cabinet and dispose f them safely\, anonymously and without harming the environment.
URL:https://www.weliahealth.org/event/drug-take-back-day/
LOCATION:Kanabec County Jail\, 100 N Vine St\, Mora\, MN\, 55051\, United States
CATEGORIES:Community Events
END:VEVENT
BEGIN:VEVENT
DTSTART;TZID=America/Chicago:20230222T000000
DTEND;TZID=America/Chicago:20230222T235959
DTSTAMP:20260419T172827
CREATED:20230207T161545Z
LAST-MODIFIED:20230224T175340Z
UID:10000829-1677024000-1677110399@www.weliahealth.org
SUMMARY:Ogilvie schools book reading
DESCRIPTION:This year marks the 8th year Welia Health is celebrating February’s Love To Read Month\, incorporating the theme:  \n\n\n\nFrom Readers to Leaders\, Welia Health believes in books!\n\n\n\nThere’s no denying the many benefits of reading – from strengthening the brain\, building vocabulary\, and preventing cognitive decline\, to reducing stress and increasing empathy for others – it’s clear that reading enhances our lives! \n\n\n\nListen to Liz Eklund\, MS\, CCC-SLP\, a speech-language pathologist who will share our love of reading at Ogilvie elementary school.  This year’s book is from the Magic Tree House series\, Balto of the Blue Dawn\, by Mary Pope Osborne. \n\n\n\nHappy Reading! \n\n\n\nThis event is not open to the general public for the safety of school-aged children.
URL:https://www.weliahealth.org/event/ogilvie-schools-book-reading/
CATEGORIES:Community Events
END:VEVENT
BEGIN:VEVENT
DTSTART;TZID=America/Chicago:20230221T000000
DTEND;TZID=America/Chicago:20230221T235959
DTSTAMP:20260419T172827
CREATED:20230207T172321Z
LAST-MODIFIED:20230224T175229Z
UID:10000831-1676937600-1677023999@www.weliahealth.org
SUMMARY:Pine City Elementary School book reading
DESCRIPTION:This year marks the 8th year Welia Health is celebrating February’s Love To Read Month\, incorporating the theme: \n\n\n\nFrom Readers to Leaders\, Welia Health believes in books!\n\n\n\nThere’s no denying the many benefits of reading – from strengthening the brain\, building vocabulary\, and preventing cognitive decline\, to reducing stress and increasing empathy for others – it’s clear that reading enhances our lives! \n\n\n\nAmy Miller\, MS\, CCC-SLP\, a speech-language pathologist will share our love of reading at Pine City elementary school.  This year’s book is from the Magic Tree House series\, Balto of the Blue Dawn\, by Mary Pope Osborne. \n\n\n\nHappy Reading! \n\n\n\nThis event is not open to the general public for the safety of school-aged children.
URL:https://www.weliahealth.org/event/pine-city-elementary-school-book-reading/
LOCATION:Classes and events
CATEGORIES:Community Events
END:VEVENT
BEGIN:VEVENT
DTSTART;TZID=America/Chicago:20230214T050000
DTEND;TZID=America/Chicago:20230214T220000
DTSTAMP:20260419T172827
CREATED:20230130T224214Z
LAST-MODIFIED:20230130T224214Z
UID:10000823-1676350800-1676412000@www.weliahealth.org
SUMMARY:Log Your Laps
DESCRIPTION:It’s not too late! Join the Log your Laps program and walk your way to a better YOU! Each time you are at Welia Center for a walk or run\, write in the number of steps\, laps\, or miles in a circle on your card – however you track your distance (one circle per day only).  Lap cards will be available on the upper level of Welia Center near office 250. \n\n\n\nOnce a month\, drop it in the Walk Box for a free t-shirt and a chance to win more Welia Health gear!  *Be sure to include your email address for communication regarding prizes and your free t-shirt! 
URL:https://www.weliahealth.org/event/log-your-laps-2/
LOCATION:Welia Center\, 200 N 9th St\, Mora\, MN\, 55051-1147\, United States
CATEGORIES:Community Events
ATTACH;FMTTYPE=:
END:VEVENT
BEGIN:VEVENT
DTSTART;TZID=America/Chicago:20230206T120000
DTEND;TZID=America/Chicago:20230206T130000
DTSTAMP:20260419T172827
CREATED:20230207T171803Z
LAST-MODIFIED:20230224T174634Z
UID:10000830-1675684800-1675688400@www.weliahealth.org
SUMMARY:Finlayson Elementary school book reading
DESCRIPTION:This year marks the 8th year Welia Health is celebrating February’s Love To Read Month\, incorporating the theme: \n\n\n\nFrom Readers to Leaders\, Welia Health believes in books!\n\n\n\nThere’s no denying the many benefits of reading – from strengthening the brain\, building vocabulary\, and preventing cognitive decline\, to reducing stress and increasing empathy for others – it’s clear that reading enhances our lives! \n\n\n\nBethany Werner MS\, CCC-SLP\, a speech-language pathologist will share our love of reading at Finlayson elementary school. This year’s book is from the Magic Tree House series\, Balto of the Blue Dawn\, by Mary Pope Osborne. \n\n\n\nHappy Reading! \n\n\n\nThis event is not open to the general public for the safety of school-aged children.
URL:https://www.weliahealth.org/event/finlayson-elementary-school-book-reading/
LOCATION:Homepage
CATEGORIES:Community Events
END:VEVENT
BEGIN:VEVENT
DTSTART;TZID=America/Chicago:20230201T050000
DTEND;TZID=America/Chicago:20230201T100000
DTSTAMP:20260419T172827
CREATED:20230130T223702Z
LAST-MODIFIED:20230130T223702Z
UID:10000818-1675227600-1675245600@www.weliahealth.org
SUMMARY:Log Your Laps
DESCRIPTION:Each month\, join in and walk your way to a better you—it’s easy.  \n\n\n\nPick up a ‘lap card’ and each time you are at Welia Center for a walk or run\, fill in a circle on your card with the number of laps\, miles or steps you’ve completed. Lap cards will be available on the upper level of Welia Center near office 250. See you at the track!
URL:https://www.weliahealth.org/event/log-your-laps/
LOCATION:Welia Center\, 200 N 9th St\, Mora\, MN\, 55051-1147\, United States
CATEGORIES:Community Events
ATTACH;FMTTYPE=:
END:VEVENT
END:VCALENDAR