BEGIN:VCALENDAR
VERSION:2.0
PRODID:-//Welia Health - ECPv6.15.20//NONSGML v1.0//EN
CALSCALE:GREGORIAN
METHOD:PUBLISH
X-ORIGINAL-URL:https://www.weliahealth.org
X-WR-CALDESC:Events for Welia Health
REFRESH-INTERVAL;VALUE=DURATION:PT1H
X-Robots-Tag:noindex
X-PUBLISHED-TTL:PT1H
BEGIN:VTIMEZONE
TZID:America/Chicago
BEGIN:DAYLIGHT
TZOFFSETFROM:-0600
TZOFFSETTO:-0500
TZNAME:CDT
DTSTART:20220313T080000
END:DAYLIGHT
BEGIN:STANDARD
TZOFFSETFROM:-0500
TZOFFSETTO:-0600
TZNAME:CST
DTSTART:20221106T070000
END:STANDARD
BEGIN:DAYLIGHT
TZOFFSETFROM:-0600
TZOFFSETTO:-0500
TZNAME:CDT
DTSTART:20230312T080000
END:DAYLIGHT
BEGIN:STANDARD
TZOFFSETFROM:-0500
TZOFFSETTO:-0600
TZNAME:CST
DTSTART:20231105T070000
END:STANDARD
BEGIN:DAYLIGHT
TZOFFSETFROM:-0600
TZOFFSETTO:-0500
TZNAME:CDT
DTSTART:20240310T080000
END:DAYLIGHT
BEGIN:STANDARD
TZOFFSETFROM:-0500
TZOFFSETTO:-0600
TZNAME:CST
DTSTART:20241103T070000
END:STANDARD
END:VTIMEZONE
BEGIN:VEVENT
DTSTART;TZID=America/Chicago:20230222T160000
DTEND;TZID=America/Chicago:20230222T163500
DTSTAMP:20260422T021103
CREATED:20221107T171828Z
LAST-MODIFIED:20221107T171828Z
UID:10001537-1677081600-1677083700@www.weliahealth.org
SUMMARY:Wellbeats Class\, Open Studio
DESCRIPTION:Come check out the classroom at Welia Center! Come to stretch\, do your own workout\, or try a free Wellbeats class!
URL:https://www.weliahealth.org/event/wellbeats-class-open-studio-2-2022-11-29-2023-01-30-2023-02-06/2023-02-22/
LOCATION:Welia Center\, 200 N 9th St\, Mora\, MN\, 55051-1147\, United States
CATEGORIES:Caravan,Classes
ATTACH;FMTTYPE=image/jpeg:https://www.weliahealth.org/wp-content/uploads/2021/04/Generic-class-480x200-1.jpg
END:VEVENT
BEGIN:VEVENT
DTSTART;TZID=America/Chicago:20230223T081500
DTEND;TZID=America/Chicago:20230223T085000
DTSTAMP:20260422T021103
CREATED:20221107T171126Z
LAST-MODIFIED:20221107T171126Z
UID:10001443-1677140100-1677142200@www.weliahealth.org
SUMMARY:Wellbeats -Spin Class
DESCRIPTION:Join a free Wellbeats fitness class at Welia Center! \n\n\n\nTry an indoor cycling cardio class that involves different combinations of sitting or standing\, leg speed (revolutions per minutes) and resistance. \n\n\n\nThere are six spin bikes available per class.
URL:https://www.weliahealth.org/event/wellbeats-spin-class-12-2022-12-06-2023-01-02-2023-01-30/2023-02-23/
LOCATION:Welia Center\, 200 N 9th St\, Mora\, MN\, 55051-1147\, United States
CATEGORIES:Caravan,Classes
ATTACH;FMTTYPE=image/jpeg:https://www.weliahealth.org/wp-content/uploads/2021/04/spin-class-480x200-1.jpg
END:VEVENT
BEGIN:VEVENT
DTSTART;TZID=America/Chicago:20230223T091500
DTEND;TZID=America/Chicago:20230223T100500
DTSTAMP:20260422T021103
CREATED:20220912T161442Z
LAST-MODIFIED:20220912T161442Z
UID:10001279-1677143700-1677146700@www.weliahealth.org
SUMMARY:Wellbeats Class\, Silver & Fit
DESCRIPTION:This class is for the active\, athletic older adult\, looking for a challenging free-standing workout. Increase heart health\, muscle endurance\, strength\, mobility and balance. \n\n\n\nSeptember Wellbeats CalendarDownload
URL:https://www.weliahealth.org/event/wellbeats-class-silver-fit-2-2022-10-26-2022-12-27-2023-01-31-2023-02-02/2023-02-23/
LOCATION:Welia Center\, 200 N 9th St\, Mora\, MN\, 55051-1147\, United States
CATEGORIES:Caravan,Classes
ATTACH;FMTTYPE=image/jpeg:https://www.weliahealth.org/wp-content/uploads/2021/04/Silver-fit-480x200-1.jpg
END:VEVENT
BEGIN:VEVENT
DTSTART;TZID=America/Chicago:20230223T100000
DTEND;TZID=America/Chicago:20230223T103000
DTSTAMP:20260422T021103
CREATED:20221107T171828Z
LAST-MODIFIED:20221107T171828Z
UID:10001572-1677146400-1677148200@www.weliahealth.org
SUMMARY:Wellbeats Class\, Open Studio
DESCRIPTION:Come check out the classroom at Welia Center! Come to stretch\, do your own workout\, or try a free Wellbeats class!
URL:https://www.weliahealth.org/event/wellbeats-class-open-studio-2-2022-11-29-2023-01-31/2023-02-23/
LOCATION:Welia Center\, 200 N 9th St\, Mora\, MN\, 55051-1147\, United States
CATEGORIES:Caravan,Classes
ATTACH;FMTTYPE=image/jpeg:https://www.weliahealth.org/wp-content/uploads/2021/04/Generic-class-480x200-1.jpg
END:VEVENT
BEGIN:VEVENT
DTSTART;TZID=America/Chicago:20230223T153000
DTEND;TZID=America/Chicago:20230223T160500
DTSTAMP:20260422T021103
CREATED:20221107T171339Z
LAST-MODIFIED:20221107T171339Z
UID:10000713-1677166200-1677168300@www.weliahealth.org
SUMMARY:Wellbeats Class\, Yoga
DESCRIPTION:Join us for a free Wellbeats fitness class at Welia Center! \n\n\n\nDiscover a unique fusion of yoga and Pilates. Improve your mind-body connection while building stronger\, leaner muscles.
URL:https://www.weliahealth.org/event/wellbeats-class-yoga-3-2022-11-29-2022-12-29-2023-01-31/2023-02-23/
LOCATION:Welia Center\, 200 N 9th St\, Mora\, MN\, 55051-1147\, United States
CATEGORIES:Caravan,Classes
ATTACH;FMTTYPE=image/png:https://www.weliahealth.org/wp-content/uploads/2021/12/yoga-class.png
END:VEVENT
BEGIN:VEVENT
DTSTART;TZID=America/Chicago:20230223T160000
DTEND;TZID=America/Chicago:20230223T164500
DTSTAMP:20260422T021103
CREATED:20221107T171828Z
LAST-MODIFIED:20221107T171828Z
UID:10001530-1677168000-1677170700@www.weliahealth.org
SUMMARY:Wellbeats Class\, Open Studio
DESCRIPTION:Come check out the classroom at Welia Center! Come to stretch\, do your own workout\, or try a free Wellbeats class!
URL:https://www.weliahealth.org/event/wellbeats-class-open-studio-2-2022-11-29-2023-01-30/2023-02-23/
LOCATION:Welia Center\, 200 N 9th St\, Mora\, MN\, 55051-1147\, United States
CATEGORIES:Caravan,Classes
ATTACH;FMTTYPE=image/jpeg:https://www.weliahealth.org/wp-content/uploads/2021/04/Generic-class-480x200-1.jpg
END:VEVENT
BEGIN:VEVENT
DTSTART;TZID=America/Chicago:20230224T061500
DTEND;TZID=America/Chicago:20230224T065000
DTSTAMP:20260422T021103
CREATED:20221107T171126Z
LAST-MODIFIED:20221107T171126Z
UID:10001455-1677219300-1677221400@www.weliahealth.org
SUMMARY:Wellbeats -Spin Class
DESCRIPTION:Join a free Wellbeats fitness class at Welia Center! \n\n\n\nTry an indoor cycling cardio class that involves different combinations of sitting or standing\, leg speed (revolutions per minutes) and resistance. \n\n\n\nThere are six spin bikes available per class.
URL:https://www.weliahealth.org/event/wellbeats-spin-class-12-2022-12-06-2023-01-02-2023-01-30-2023-02-01/2023-02-24/
LOCATION:Welia Center\, 200 N 9th St\, Mora\, MN\, 55051-1147\, United States
CATEGORIES:Caravan,Classes
ATTACH;FMTTYPE=image/jpeg:https://www.weliahealth.org/wp-content/uploads/2021/04/spin-class-480x200-1.jpg
END:VEVENT
BEGIN:VEVENT
DTSTART;TZID=America/Chicago:20230224T071500
DTEND;TZID=America/Chicago:20230224T073000
DTSTAMP:20260422T021103
CREATED:20220912T161442Z
LAST-MODIFIED:20220912T161442Z
UID:10001256-1677222900-1677223800@www.weliahealth.org
SUMMARY:Wellbeats Class\, Silver & Fit
DESCRIPTION:This class is for the active\, athletic older adult\, looking for a challenging free-standing workout. Increase heart health\, muscle endurance\, strength\, mobility and balance. \n\n\n\nSeptember Wellbeats CalendarDownload
URL:https://www.weliahealth.org/event/wellbeats-class-silver-fit-2-2022-10-26-2022-12-27-2023-01-31/2023-02-24/
LOCATION:Welia Center\, 200 N 9th St\, Mora\, MN\, 55051-1147\, United States
CATEGORIES:Caravan,Classes
ATTACH;FMTTYPE=image/jpeg:https://www.weliahealth.org/wp-content/uploads/2021/04/Silver-fit-480x200-1.jpg
END:VEVENT
BEGIN:VEVENT
DTSTART;TZID=America/Chicago:20230224T074500
DTEND;TZID=America/Chicago:20230224T083000
DTSTAMP:20260422T021103
CREATED:20221107T171828Z
LAST-MODIFIED:20221107T171828Z
UID:10001577-1677224700-1677227400@www.weliahealth.org
SUMMARY:Wellbeats Class\, Open Studio
DESCRIPTION:Come check out the classroom at Welia Center! Come to stretch\, do your own workout\, or try a free Wellbeats class!
URL:https://www.weliahealth.org/event/wellbeats-class-open-studio-2-2022-11-15-2022-12-27-2023-01-31/2023-02-24/
LOCATION:Welia Center\, 200 N 9th St\, Mora\, MN\, 55051-1147\, United States
CATEGORIES:Caravan,Classes
ATTACH;FMTTYPE=image/jpeg:https://www.weliahealth.org/wp-content/uploads/2021/04/Generic-class-480x200-1.jpg
END:VEVENT
BEGIN:VEVENT
DTSTART;TZID=America/Chicago:20230227T061500
DTEND;TZID=America/Chicago:20230227T065000
DTSTAMP:20260422T021103
CREATED:20221107T171126Z
LAST-MODIFIED:20221107T171126Z
UID:10001456-1677478500-1677480600@www.weliahealth.org
SUMMARY:Wellbeats -Spin Class
DESCRIPTION:Join a free Wellbeats fitness class at Welia Center! \n\n\n\nTry an indoor cycling cardio class that involves different combinations of sitting or standing\, leg speed (revolutions per minutes) and resistance. \n\n\n\nThere are six spin bikes available per class.
URL:https://www.weliahealth.org/event/wellbeats-spin-class-12-2022-12-06-2023-01-02-2023-01-30-2023-02-01/2023-02-27/
LOCATION:Welia Center\, 200 N 9th St\, Mora\, MN\, 55051-1147\, United States
CATEGORIES:Caravan,Classes
ATTACH;FMTTYPE=image/jpeg:https://www.weliahealth.org/wp-content/uploads/2021/04/spin-class-480x200-1.jpg
END:VEVENT
BEGIN:VEVENT
DTSTART;TZID=America/Chicago:20230227T070000
DTEND;TZID=America/Chicago:20230227T073500
DTSTAMP:20260422T021103
CREATED:20221107T172013Z
LAST-MODIFIED:20221107T172013Z
UID:10001608-1677481200-1677483300@www.weliahealth.org
SUMMARY:Wellbeats Class\, HIIT
DESCRIPTION:Train your body with a blend of HIIT (high intensity interval training)\, weight training\, and cardio. Fire up your metabolism in these quick-moving\, total-body workouts!
URL:https://www.weliahealth.org/event/wellbeats-class-hiit-2-2022-11-29-2023-01-30/2023-02-27/
LOCATION:Welia Center\, 200 N 9th St\, Mora\, MN\, 55051-1147\, United States
CATEGORIES:Caravan,Classes
ATTACH;FMTTYPE=image/jpeg:https://www.weliahealth.org/wp-content/uploads/2021/04/Generic-class-480x200-1.jpg
END:VEVENT
BEGIN:VEVENT
DTSTART;TZID=America/Chicago:20230227T094500
DTEND;TZID=America/Chicago:20230227T103000
DTSTAMP:20260422T021103
CREATED:20221107T171828Z
LAST-MODIFIED:20221107T171828Z
UID:10001584-1677491100-1677493800@www.weliahealth.org
SUMMARY:Wellbeats Class\, Open Studio
DESCRIPTION:Come check out the classroom at Welia Center! Come to stretch\, do your own workout\, or try a free Wellbeats class!
URL:https://www.weliahealth.org/event/wellbeats-class-open-studio-2-2022-11-15-2022-12-29-2023-01-27/2023-02-27/
LOCATION:Welia Center\, 200 N 9th St\, Mora\, MN\, 55051-1147\, United States
CATEGORIES:Caravan,Classes
ATTACH;FMTTYPE=image/jpeg:https://www.weliahealth.org/wp-content/uploads/2021/04/Generic-class-480x200-1.jpg
END:VEVENT
BEGIN:VEVENT
DTSTART;TZID=America/Chicago:20230227T153000
DTEND;TZID=America/Chicago:20230227T160500
DTSTAMP:20260422T021103
CREATED:20220912T162217Z
LAST-MODIFIED:20220912T162217Z
UID:10000568-1677511800-1677513900@www.weliahealth.org
SUMMARY:Wellbeats Class\, Kettlebell
DESCRIPTION:Join a free Wellbeats fitness class at Welia Center! \n\n\n\nPower up your training with the use of kettlebells. Stimulate every muscle in your body and improve core stabilization for a fierce\, challenging workout. \n\n\n\nSeptember Wellbeats CalendarDownload
URL:https://www.weliahealth.org/event/wellbeats-class-kettlebell-2022-11-03-2022-11-28-2022-12-28-2023-01-30/2023-02-27/
LOCATION:Welia Center\, 200 N 9th St\, Mora\, MN\, 55051-1147\, United States
CATEGORIES:Caravan,Classes
ATTACH;FMTTYPE=image/png:https://www.weliahealth.org/wp-content/uploads/2021/12/kettlebell-class.png
END:VEVENT
BEGIN:VEVENT
DTSTART;TZID=America/Chicago:20230227T160000
DTEND;TZID=America/Chicago:20230227T163500
DTSTAMP:20260422T021103
CREATED:20221107T171828Z
LAST-MODIFIED:20221107T171828Z
UID:10001538-1677513600-1677515700@www.weliahealth.org
SUMMARY:Wellbeats Class\, Open Studio
DESCRIPTION:Come check out the classroom at Welia Center! Come to stretch\, do your own workout\, or try a free Wellbeats class!
URL:https://www.weliahealth.org/event/wellbeats-class-open-studio-2-2022-11-29-2023-01-30-2023-02-06/2023-02-27/
LOCATION:Welia Center\, 200 N 9th St\, Mora\, MN\, 55051-1147\, United States
CATEGORIES:Caravan,Classes
ATTACH;FMTTYPE=image/jpeg:https://www.weliahealth.org/wp-content/uploads/2021/04/Generic-class-480x200-1.jpg
END:VEVENT
BEGIN:VEVENT
DTSTART;TZID=America/Chicago:20230228T081500
DTEND;TZID=America/Chicago:20230228T085000
DTSTAMP:20260422T021103
CREATED:20221107T171126Z
LAST-MODIFIED:20221107T171126Z
UID:10001444-1677572100-1677574200@www.weliahealth.org
SUMMARY:Wellbeats -Spin Class
DESCRIPTION:Join a free Wellbeats fitness class at Welia Center! \n\n\n\nTry an indoor cycling cardio class that involves different combinations of sitting or standing\, leg speed (revolutions per minutes) and resistance. \n\n\n\nThere are six spin bikes available per class.
URL:https://www.weliahealth.org/event/wellbeats-spin-class-12-2022-12-06-2023-01-02-2023-01-30/2023-02-28/
LOCATION:Welia Center\, 200 N 9th St\, Mora\, MN\, 55051-1147\, United States
CATEGORIES:Caravan,Classes
ATTACH;FMTTYPE=image/jpeg:https://www.weliahealth.org/wp-content/uploads/2021/04/spin-class-480x200-1.jpg
END:VEVENT
BEGIN:VEVENT
DTSTART;TZID=America/Chicago:20230228T091500
DTEND;TZID=America/Chicago:20230228T100500
DTSTAMP:20260422T021103
CREATED:20220912T161442Z
LAST-MODIFIED:20220912T161442Z
UID:10001280-1677575700-1677578700@www.weliahealth.org
SUMMARY:Wellbeats Class\, Silver & Fit
DESCRIPTION:This class is for the active\, athletic older adult\, looking for a challenging free-standing workout. Increase heart health\, muscle endurance\, strength\, mobility and balance. \n\n\n\nSeptember Wellbeats CalendarDownload
URL:https://www.weliahealth.org/event/wellbeats-class-silver-fit-2-2022-10-26-2022-12-27-2023-01-31-2023-02-02/2023-02-28/
LOCATION:Welia Center\, 200 N 9th St\, Mora\, MN\, 55051-1147\, United States
CATEGORIES:Caravan,Classes
ATTACH;FMTTYPE=image/jpeg:https://www.weliahealth.org/wp-content/uploads/2021/04/Silver-fit-480x200-1.jpg
END:VEVENT
BEGIN:VEVENT
DTSTART;TZID=America/Chicago:20230228T100000
DTEND;TZID=America/Chicago:20230228T103000
DTSTAMP:20260422T021103
CREATED:20221107T171828Z
LAST-MODIFIED:20221107T171828Z
UID:10001573-1677578400-1677580200@www.weliahealth.org
SUMMARY:Wellbeats Class\, Open Studio
DESCRIPTION:Come check out the classroom at Welia Center! Come to stretch\, do your own workout\, or try a free Wellbeats class!
URL:https://www.weliahealth.org/event/wellbeats-class-open-studio-2-2022-11-29-2023-01-31/2023-02-28/
LOCATION:Welia Center\, 200 N 9th St\, Mora\, MN\, 55051-1147\, United States
CATEGORIES:Caravan,Classes
ATTACH;FMTTYPE=image/jpeg:https://www.weliahealth.org/wp-content/uploads/2021/04/Generic-class-480x200-1.jpg
END:VEVENT
BEGIN:VEVENT
DTSTART;TZID=America/Chicago:20230228T153000
DTEND;TZID=America/Chicago:20230228T160500
DTSTAMP:20260422T021103
CREATED:20221107T171339Z
LAST-MODIFIED:20221107T171339Z
UID:10000714-1677598200-1677600300@www.weliahealth.org
SUMMARY:Wellbeats Class\, Yoga
DESCRIPTION:Join us for a free Wellbeats fitness class at Welia Center! \n\n\n\nDiscover a unique fusion of yoga and Pilates. Improve your mind-body connection while building stronger\, leaner muscles.
URL:https://www.weliahealth.org/event/wellbeats-class-yoga-3-2022-11-29-2022-12-29-2023-01-31/2023-02-28/
LOCATION:Welia Center\, 200 N 9th St\, Mora\, MN\, 55051-1147\, United States
CATEGORIES:Caravan,Classes
ATTACH;FMTTYPE=image/png:https://www.weliahealth.org/wp-content/uploads/2021/12/yoga-class.png
END:VEVENT
BEGIN:VEVENT
DTSTART;TZID=America/Chicago:20230228T160000
DTEND;TZID=America/Chicago:20230228T164500
DTSTAMP:20260422T021103
CREATED:20221107T171828Z
LAST-MODIFIED:20221107T171828Z
UID:10001531-1677600000-1677602700@www.weliahealth.org
SUMMARY:Wellbeats Class\, Open Studio
DESCRIPTION:Come check out the classroom at Welia Center! Come to stretch\, do your own workout\, or try a free Wellbeats class!
URL:https://www.weliahealth.org/event/wellbeats-class-open-studio-2-2022-11-29-2023-01-30/2023-02-28/
LOCATION:Welia Center\, 200 N 9th St\, Mora\, MN\, 55051-1147\, United States
CATEGORIES:Caravan,Classes
ATTACH;FMTTYPE=image/jpeg:https://www.weliahealth.org/wp-content/uploads/2021/04/Generic-class-480x200-1.jpg
END:VEVENT
BEGIN:VEVENT
DTSTART;TZID=America/Chicago:20230301T061500
DTEND;TZID=America/Chicago:20230301T065000
DTSTAMP:20260422T021103
CREATED:20221107T171126Z
LAST-MODIFIED:20221107T171126Z
UID:10001457-1677651300-1677653400@www.weliahealth.org
SUMMARY:Wellbeats -Spin Class
DESCRIPTION:Join a free Wellbeats fitness class at Welia Center! \n\n\n\nTry an indoor cycling cardio class that involves different combinations of sitting or standing\, leg speed (revolutions per minutes) and resistance. \n\n\n\nThere are six spin bikes available per class.
URL:https://www.weliahealth.org/event/wellbeats-spin-class-12-2022-12-06-2023-01-02-2023-01-30-2023-02-01/2023-03-01/
LOCATION:Welia Center\, 200 N 9th St\, Mora\, MN\, 55051-1147\, United States
CATEGORIES:Caravan,Classes
ATTACH;FMTTYPE=image/jpeg:https://www.weliahealth.org/wp-content/uploads/2021/04/spin-class-480x200-1.jpg
END:VEVENT
BEGIN:VEVENT
DTSTART;TZID=America/Chicago:20230301T160000
DTEND;TZID=America/Chicago:20230301T163500
DTSTAMP:20260422T021103
CREATED:20221107T171828Z
LAST-MODIFIED:20221107T171828Z
UID:10001539-1677686400-1677688500@www.weliahealth.org
SUMMARY:Wellbeats Class\, Open Studio
DESCRIPTION:Come check out the classroom at Welia Center! Come to stretch\, do your own workout\, or try a free Wellbeats class!
URL:https://www.weliahealth.org/event/wellbeats-class-open-studio-2-2022-11-29-2023-01-30-2023-02-06/2023-03-01/
LOCATION:Welia Center\, 200 N 9th St\, Mora\, MN\, 55051-1147\, United States
CATEGORIES:Caravan,Classes
ATTACH;FMTTYPE=image/jpeg:https://www.weliahealth.org/wp-content/uploads/2021/04/Generic-class-480x200-1.jpg
END:VEVENT
BEGIN:VEVENT
DTSTART;TZID=America/Chicago:20230302T091500
DTEND;TZID=America/Chicago:20230302T100500
DTSTAMP:20260422T021103
CREATED:20220912T161442Z
LAST-MODIFIED:20220912T161442Z
UID:10001281-1677748500-1677751500@www.weliahealth.org
SUMMARY:Wellbeats Class\, Silver & Fit
DESCRIPTION:This class is for the active\, athletic older adult\, looking for a challenging free-standing workout. Increase heart health\, muscle endurance\, strength\, mobility and balance. \n\n\n\nSeptember Wellbeats CalendarDownload
URL:https://www.weliahealth.org/event/wellbeats-class-silver-fit-2-2022-10-26-2022-12-27-2023-01-31-2023-02-02/2023-03-02/
LOCATION:Welia Center\, 200 N 9th St\, Mora\, MN\, 55051-1147\, United States
CATEGORIES:Caravan,Classes
ATTACH;FMTTYPE=image/jpeg:https://www.weliahealth.org/wp-content/uploads/2021/04/Silver-fit-480x200-1.jpg
END:VEVENT
BEGIN:VEVENT
DTSTART;TZID=America/Chicago:20230306T160000
DTEND;TZID=America/Chicago:20230306T163500
DTSTAMP:20260422T021103
CREATED:20221107T171828Z
LAST-MODIFIED:20221107T171828Z
UID:10001540-1678118400-1678120500@www.weliahealth.org
SUMMARY:Wellbeats Class\, Open Studio
DESCRIPTION:Come check out the classroom at Welia Center! Come to stretch\, do your own workout\, or try a free Wellbeats class!
URL:https://www.weliahealth.org/event/wellbeats-class-open-studio-2-2022-11-29-2023-01-30-2023-02-06/2023-03-06/
LOCATION:Welia Center\, 200 N 9th St\, Mora\, MN\, 55051-1147\, United States
CATEGORIES:Caravan,Classes
ATTACH;FMTTYPE=image/jpeg:https://www.weliahealth.org/wp-content/uploads/2021/04/Generic-class-480x200-1.jpg
END:VEVENT
BEGIN:VEVENT
DTSTART;TZID=America/Chicago:20230515T083000
DTEND;TZID=America/Chicago:20230515T090500
DTSTAMP:20260422T021103
CREATED:20230512T214315Z
LAST-MODIFIED:20230512T214437Z
UID:10001773-1684139400-1684141500@www.weliahealth.org
SUMMARY:Wellbeats - Silver & Fit
DESCRIPTION:Join a free Wellbeats fitness class at Welia Center! \n\n\n\nThis class is for the active\, athletic older adult\, looking for a challenging free-standing workout. Increase heart health\, muscle endurance\, strength\, mobility and balance.
URL:https://www.weliahealth.org/event/wellbeats-silver-fit-3/2023-05-15/
LOCATION:Welia Center: Fitness & Community Room\, 200 N 9th St\, Mora\, MN\, 55051-1147\, United States
CATEGORIES:Caravan
ATTACH;FMTTYPE=image/jpeg:https://www.weliahealth.org/wp-content/uploads/2021/04/Silver-fit-480x200-1.jpg
END:VEVENT
BEGIN:VEVENT
DTSTART;TZID=America/Chicago:20230515T091500
DTEND;TZID=America/Chicago:20230515T093500
DTSTAMP:20260422T021103
CREATED:20230513T002105Z
LAST-MODIFIED:20230522T170603Z
UID:10001804-1684142100-1684143300@www.weliahealth.org
SUMMARY:Wellbeats - Zumba Class
DESCRIPTION:Join a free Wellbeats fitness class at Welia Center!
URL:https://www.weliahealth.org/event/wellbeats-zumba-class/2023-05-15/
LOCATION:Welia Center: Fitness & Community Room\, 200 N 9th St\, Mora\, MN\, 55051-1147\, United States
CATEGORIES:Caravan
ATTACH;FMTTYPE=image/jpeg:https://www.weliahealth.org/wp-content/uploads/2023/05/Wellbeats-Zumba-430x200-1.jpg
END:VEVENT
BEGIN:VEVENT
DTSTART;TZID=America/Chicago:20230515T094500
DTEND;TZID=America/Chicago:20230515T101500
DTSTAMP:20260422T021103
CREATED:20230512T215144Z
LAST-MODIFIED:20230513T011116Z
UID:10001780-1684143900-1684145700@www.weliahealth.org
SUMMARY:Wellbeats - Class Choice
DESCRIPTION:Join a free Wellbeats fitness class at Welia Center! \n\n\n\nChoose a class from one of the channels! Anything from yoga\, Zumba\, sculpting\, step and more!
URL:https://www.weliahealth.org/event/wellbeats-class-choice/2023-05-15/1/
LOCATION:Welia Center: Fitness & Community Room\, 200 N 9th St\, Mora\, MN\, 55051-1147\, United States
CATEGORIES:Caravan
ATTACH;FMTTYPE=image/jpeg:https://www.weliahealth.org/wp-content/uploads/2021/04/Generic-class-480x200-1.jpg
END:VEVENT
BEGIN:VEVENT
DTSTART;TZID=America/Chicago:20230515T160000
DTEND;TZID=America/Chicago:20230515T163000
DTSTAMP:20260422T021103
CREATED:20230512T235613Z
LAST-MODIFIED:20230512T235615Z
UID:10001799-1684166400-1684168200@www.weliahealth.org
SUMMARY:Wellbeats - Spin Class
DESCRIPTION:Join a free Wellbeats fitness class at Welia Center!  \n\n\n\nTry an indoor cycling cardio class that involves different combinations of sitting or standing\, leg speed (revolutions per minutes) and resistance. \n\n\n\nThere are six spin bikes available per class.
URL:https://www.weliahealth.org/event/wellbeats-spin-class/2023-05-15/
LOCATION:Welia Center: Fitness & Community Room\, 200 N 9th St\, Mora\, MN\, 55051-1147\, United States
CATEGORIES:Caravan
ATTACH;FMTTYPE=image/jpeg:https://www.weliahealth.org/wp-content/uploads/2021/04/spin-class-480x200-1.jpg
END:VEVENT
BEGIN:VEVENT
DTSTART;TZID=America/Chicago:20230515T163000
DTEND;TZID=America/Chicago:20230515T170000
DTSTAMP:20260422T021103
CREATED:20230512T215144Z
LAST-MODIFIED:20230513T011116Z
UID:10001794-1684168200-1684170000@www.weliahealth.org
SUMMARY:Wellbeats - Class Choice
DESCRIPTION:Join a free Wellbeats fitness class at Welia Center! \n\n\n\nChoose a class from one of the channels! Anything from yoga\, Zumba\, sculpting\, step and more!
URL:https://www.weliahealth.org/event/wellbeats-class-choice/2023-05-15/2/
LOCATION:Welia Center: Fitness & Community Room\, 200 N 9th St\, Mora\, MN\, 55051-1147\, United States
CATEGORIES:Caravan
ATTACH;FMTTYPE=image/jpeg:https://www.weliahealth.org/wp-content/uploads/2021/04/Generic-class-480x200-1.jpg
END:VEVENT
BEGIN:VEVENT
DTSTART;TZID=America/Chicago:20230515T170000
DTEND;TZID=America/Chicago:20230515T173000
DTSTAMP:20260422T021103
CREATED:20230512T212846Z
LAST-MODIFIED:20230513T010709Z
UID:10001749-1684170000-1684171800@www.weliahealth.org
SUMMARY:Wellbeats Class\, Yoga
DESCRIPTION:Join us for a free Wellbeats fitness class at Welia Center! \n\n\n\nDiscover a unique fusion of yoga and Pilates. Improve your mind-body connection while building stronger\, leaner muscles.
URL:https://www.weliahealth.org/event/wellbeats-class-yoga-5/2023-05-15/
LOCATION:Welia Center\, 200 N 9th St\, Mora\, MN\, 55051-1147\, United States
CATEGORIES:Caravan,Classes
ATTACH;FMTTYPE=image/png:https://www.weliahealth.org/wp-content/uploads/2021/12/yoga-class.png
END:VEVENT
BEGIN:VEVENT
DTSTART;TZID=America/Chicago:20230516T083000
DTEND;TZID=America/Chicago:20230516T090500
DTSTAMP:20260422T021103
CREATED:20230512T213830Z
LAST-MODIFIED:20230512T213832Z
UID:10001763-1684225800-1684227900@www.weliahealth.org
SUMMARY:Wellbeats - Silver & Fit
DESCRIPTION:Join a free Wellbeats fitness class at Welia Center! \n\n\n\nThis class is for the active\, athletic older adult\, looking for a challenging free-standing workout. Increase heart health\, muscle endurance\, strength\, mobility and balance.
URL:https://www.weliahealth.org/event/wellbeats-silver-fit-2/
LOCATION:Welia Center: Fitness & Community Room\, 200 N 9th St\, Mora\, MN\, 55051-1147\, United States
CATEGORIES:Caravan
ATTACH;FMTTYPE=image/jpeg:https://www.weliahealth.org/wp-content/uploads/2021/04/Silver-fit-480x200-1.jpg
END:VEVENT
END:VCALENDAR