BEGIN:VCALENDAR
VERSION:2.0
PRODID:-//Welia Health - ECPv6.15.20//NONSGML v1.0//EN
CALSCALE:GREGORIAN
METHOD:PUBLISH
X-WR-CALNAME:Welia Health
X-ORIGINAL-URL:https://www.weliahealth.org
X-WR-CALDESC:Events for Welia Health
REFRESH-INTERVAL;VALUE=DURATION:PT1H
X-Robots-Tag:noindex
X-PUBLISHED-TTL:PT1H
BEGIN:VTIMEZONE
TZID:America/Chicago
BEGIN:DAYLIGHT
TZOFFSETFROM:-0600
TZOFFSETTO:-0500
TZNAME:CDT
DTSTART:20250309T080000
END:DAYLIGHT
BEGIN:STANDARD
TZOFFSETFROM:-0500
TZOFFSETTO:-0600
TZNAME:CST
DTSTART:20251102T070000
END:STANDARD
BEGIN:DAYLIGHT
TZOFFSETFROM:-0600
TZOFFSETTO:-0500
TZNAME:CDT
DTSTART:20260308T080000
END:DAYLIGHT
BEGIN:STANDARD
TZOFFSETFROM:-0500
TZOFFSETTO:-0600
TZNAME:CST
DTSTART:20261101T070000
END:STANDARD
BEGIN:DAYLIGHT
TZOFFSETFROM:-0600
TZOFFSETTO:-0500
TZNAME:CDT
DTSTART:20270314T080000
END:DAYLIGHT
BEGIN:STANDARD
TZOFFSETFROM:-0500
TZOFFSETTO:-0600
TZNAME:CST
DTSTART:20271107T070000
END:STANDARD
END:VTIMEZONE
BEGIN:VEVENT
DTSTART;TZID=America/Chicago:20260217T130000
DTEND;TZID=America/Chicago:20260217T160000
DTSTAMP:20260420T000457
CREATED:20260213T180834Z
LAST-MODIFIED:20260310T133039Z
UID:10015253-1771333200-1771344000@www.weliahealth.org
SUMMARY:Welia Center Fitness Room Open Studio
DESCRIPTION:Welia Center Open Studio. This time is available for members to do a class of their choice or a workout on their own. First come first serve basis. Hundreds of on-demand classes available! The space is equipped with light weights\, yoga equipment\, kettlebells\, spin bikes\, and pickleball equipment.
URL:https://www.weliahealth.org/event/welia-center-fitness-room-open-studio-32/
LOCATION:Welia Center: Fitness & Community Room\, 200 N 9th St\, Mora\, MN\, 55051-1147\, United States
CATEGORIES:Caravan
END:VEVENT
BEGIN:VEVENT
DTSTART;TZID=America/Chicago:20260218T090000
DTEND;TZID=America/Chicago:20260218T160000
DTSTAMP:20260420T000457
CREATED:20260213T181206Z
LAST-MODIFIED:20260310T133039Z
UID:10015254-1771405200-1771430400@www.weliahealth.org
SUMMARY:Welia Center Fitness Room Open Studio
DESCRIPTION:Welia Center Open Studio. This time is available for members to do a class of their choice or a workout on their own. First come first serve basis. Hundreds of on-demand classes available! The space is equipped with light weights\, yoga equipment\, kettlebells\, spin bikes\, and pickleball equipment.
URL:https://www.weliahealth.org/event/welia-center-fitness-room-open-studio-33/2026-02-18/
CATEGORIES:Caravan
END:VEVENT
BEGIN:VEVENT
DTSTART;TZID=America/Chicago:20260219T090000
DTEND;TZID=America/Chicago:20260219T160000
DTSTAMP:20260420T000457
CREATED:20260213T181206Z
LAST-MODIFIED:20260310T133039Z
UID:10015255-1771491600-1771516800@www.weliahealth.org
SUMMARY:Welia Center Fitness Room Open Studio
DESCRIPTION:Welia Center Open Studio. This time is available for members to do a class of their choice or a workout on their own. First come first serve basis. Hundreds of on-demand classes available! The space is equipped with light weights\, yoga equipment\, kettlebells\, spin bikes\, and pickleball equipment.
URL:https://www.weliahealth.org/event/welia-center-fitness-room-open-studio-33/2026-02-19/
CATEGORIES:Caravan
END:VEVENT
BEGIN:VEVENT
DTSTART;TZID=America/Chicago:20260224T123000
DTEND;TZID=America/Chicago:20260224T133000
DTSTAMP:20260420T000457
CREATED:20260213T181206Z
LAST-MODIFIED:20260310T133039Z
UID:10015256-1771936200-1771939800@www.weliahealth.org
SUMMARY:Welia Center Fitness Room Open Studio
DESCRIPTION:Welia Center Open Studio. This time is available for members to do a class of their choice or a workout on their own. First come first serve basis. Hundreds of on-demand classes available! The space is equipped with light weights\, yoga equipment\, kettlebells\, spin bikes\, and pickleball equipment.
URL:https://www.weliahealth.org/event/welia-center-fitness-room-open-studio-33/2026-02-24/
CATEGORIES:Caravan
END:VEVENT
BEGIN:VEVENT
DTSTART;TZID=America/Chicago:20260225T090000
DTEND;TZID=America/Chicago:20260225T160000
DTSTAMP:20260420T000457
CREATED:20260213T181206Z
LAST-MODIFIED:20260310T133039Z
UID:10015257-1772010000-1772035200@www.weliahealth.org
SUMMARY:Welia Center Fitness Room Open Studio
DESCRIPTION:Welia Center Open Studio. This time is available for members to do a class of their choice or a workout on their own. First come first serve basis. Hundreds of on-demand classes available! The space is equipped with light weights\, yoga equipment\, kettlebells\, spin bikes\, and pickleball equipment.
URL:https://www.weliahealth.org/event/welia-center-fitness-room-open-studio-33/2026-02-25/
CATEGORIES:Caravan
END:VEVENT
BEGIN:VEVENT
DTSTART;TZID=America/Chicago:20260227T090000
DTEND;TZID=America/Chicago:20260227T140000
DTSTAMP:20260420T000457
CREATED:20260213T181206Z
LAST-MODIFIED:20260310T133039Z
UID:10015258-1772182800-1772200800@www.weliahealth.org
SUMMARY:Welia Center Fitness Room Open Studio
DESCRIPTION:Welia Center Open Studio. This time is available for members to do a class of their choice or a workout on their own. First come first serve basis. Hundreds of on-demand classes available! The space is equipped with light weights\, yoga equipment\, kettlebells\, spin bikes\, and pickleball equipment.
URL:https://www.weliahealth.org/event/welia-center-fitness-room-open-studio-33/2026-02-27/
CATEGORIES:Caravan
END:VEVENT
BEGIN:VEVENT
DTSTART;TZID=America/Chicago:20260302T090000
DTEND;TZID=America/Chicago:20260302T110000
DTSTAMP:20260420T000457
CREATED:20260224T144133Z
LAST-MODIFIED:20260310T133039Z
UID:10015302-1772442000-1772449200@www.weliahealth.org
SUMMARY:Welia Center Fitness Room Open Studio
DESCRIPTION:Welia Center Open Studio. This time is available for members to do a class of their choice or a workout on their own. First come first serve basis. Hundreds of on-demand classes available! The space is equipped with light weights\, yoga equipment\, kettlebells\, spin bikes\, and pickleball equipment.
URL:https://www.weliahealth.org/event/welia-center-fitness-room-open-studio-34/2026-03-02/
CATEGORIES:Caravan,Classes
ORGANIZER;CN="Health and Wellness Coordinator":MAILTO:wellnesscenter@WeliaHealth.org
END:VEVENT
BEGIN:VEVENT
DTSTART;TZID=America/Chicago:20260304T120000
DTEND;TZID=America/Chicago:20260304T150000
DTSTAMP:20260420T000457
CREATED:20260224T144133Z
LAST-MODIFIED:20260310T133039Z
UID:10015303-1772625600-1772636400@www.weliahealth.org
SUMMARY:Welia Center Fitness Room Open Studio
DESCRIPTION:Welia Center Open Studio. This time is available for members to do a class of their choice or a workout on their own. First come first serve basis. Hundreds of on-demand classes available! The space is equipped with light weights\, yoga equipment\, kettlebells\, spin bikes\, and pickleball equipment.
URL:https://www.weliahealth.org/event/welia-center-fitness-room-open-studio-34/2026-03-04/
CATEGORIES:Caravan,Classes
ORGANIZER;CN="Health and Wellness Coordinator":MAILTO:wellnesscenter@WeliaHealth.org
END:VEVENT
BEGIN:VEVENT
DTSTART;TZID=America/Chicago:20260305T090000
DTEND;TZID=America/Chicago:20260305T160000
DTSTAMP:20260420T000457
CREATED:20260224T144133Z
LAST-MODIFIED:20260310T133039Z
UID:10015304-1772701200-1772726400@www.weliahealth.org
SUMMARY:Welia Center Fitness Room Open Studio
DESCRIPTION:Welia Center Open Studio. This time is available for members to do a class of their choice or a workout on their own. First come first serve basis. Hundreds of on-demand classes available! The space is equipped with light weights\, yoga equipment\, kettlebells\, spin bikes\, and pickleball equipment.
URL:https://www.weliahealth.org/event/welia-center-fitness-room-open-studio-34/2026-03-05/
CATEGORIES:Caravan,Classes
ORGANIZER;CN="Health and Wellness Coordinator":MAILTO:wellnesscenter@WeliaHealth.org
END:VEVENT
BEGIN:VEVENT
DTSTART;TZID=America/Chicago:20260310T130000
DTEND;TZID=America/Chicago:20260310T160000
DTSTAMP:20260420T000457
CREATED:20260224T144133Z
LAST-MODIFIED:20260310T133039Z
UID:10015305-1773147600-1773158400@www.weliahealth.org
SUMMARY:Welia Center Fitness Room Open Studio
DESCRIPTION:Welia Center Open Studio. This time is available for members to do a class of their choice or a workout on their own. First come first serve basis. Hundreds of on-demand classes available! The space is equipped with light weights\, yoga equipment\, kettlebells\, spin bikes\, and pickleball equipment.
URL:https://www.weliahealth.org/event/welia-center-fitness-room-open-studio-34/2026-03-10/
CATEGORIES:Caravan,Classes
ORGANIZER;CN="Health and Wellness Coordinator":MAILTO:wellnesscenter@WeliaHealth.org
END:VEVENT
BEGIN:VEVENT
DTSTART;TZID=America/Chicago:20260311T130000
DTEND;TZID=America/Chicago:20260311T150000
DTSTAMP:20260420T000457
CREATED:20260224T144133Z
LAST-MODIFIED:20260310T133039Z
UID:10015306-1773234000-1773241200@www.weliahealth.org
SUMMARY:Welia Center Fitness Room Open Studio
DESCRIPTION:Welia Center Open Studio. This time is available for members to do a class of their choice or a workout on their own. First come first serve basis. Hundreds of on-demand classes available! The space is equipped with light weights\, yoga equipment\, kettlebells\, spin bikes\, and pickleball equipment.
URL:https://www.weliahealth.org/event/welia-center-fitness-room-open-studio-34/2026-03-11/
CATEGORIES:Caravan,Classes
ORGANIZER;CN="Health and Wellness Coordinator":MAILTO:wellnesscenter@WeliaHealth.org
END:VEVENT
BEGIN:VEVENT
DTSTART;TZID=America/Chicago:20260312T090000
DTEND;TZID=America/Chicago:20260312T160000
DTSTAMP:20260420T000457
CREATED:20260224T144133Z
LAST-MODIFIED:20260310T133039Z
UID:10015307-1773306000-1773331200@www.weliahealth.org
SUMMARY:Welia Center Fitness Room Open Studio
DESCRIPTION:Welia Center Open Studio. This time is available for members to do a class of their choice or a workout on their own. First come first serve basis. Hundreds of on-demand classes available! The space is equipped with light weights\, yoga equipment\, kettlebells\, spin bikes\, and pickleball equipment.
URL:https://www.weliahealth.org/event/welia-center-fitness-room-open-studio-34/2026-03-12/
CATEGORIES:Caravan,Classes
ORGANIZER;CN="Health and Wellness Coordinator":MAILTO:wellnesscenter@WeliaHealth.org
END:VEVENT
BEGIN:VEVENT
DTSTART;TZID=America/Chicago:20260313T090000
DTEND;TZID=America/Chicago:20260313T113000
DTSTAMP:20260420T000457
CREATED:20260224T144133Z
LAST-MODIFIED:20260310T133039Z
UID:10015308-1773392400-1773401400@www.weliahealth.org
SUMMARY:Welia Center Fitness Room Open Studio
DESCRIPTION:Welia Center Open Studio. This time is available for members to do a class of their choice or a workout on their own. First come first serve basis. Hundreds of on-demand classes available! The space is equipped with light weights\, yoga equipment\, kettlebells\, spin bikes\, and pickleball equipment.
URL:https://www.weliahealth.org/event/welia-center-fitness-room-open-studio-34/2026-03-13/1/
CATEGORIES:Caravan,Classes
ORGANIZER;CN="Health and Wellness Coordinator":MAILTO:wellnesscenter@WeliaHealth.org
END:VEVENT
BEGIN:VEVENT
DTSTART;TZID=America/Chicago:20260313T123000
DTEND;TZID=America/Chicago:20260313T140000
DTSTAMP:20260420T000457
CREATED:20260224T144133Z
LAST-MODIFIED:20260310T133039Z
UID:10015309-1773405000-1773410400@www.weliahealth.org
SUMMARY:Welia Center Fitness Room Open Studio
DESCRIPTION:Welia Center Open Studio. This time is available for members to do a class of their choice or a workout on their own. First come first serve basis. Hundreds of on-demand classes available! The space is equipped with light weights\, yoga equipment\, kettlebells\, spin bikes\, and pickleball equipment.
URL:https://www.weliahealth.org/event/welia-center-fitness-room-open-studio-34/2026-03-13/2/
CATEGORIES:Caravan,Classes
ORGANIZER;CN="Health and Wellness Coordinator":MAILTO:wellnesscenter@WeliaHealth.org
END:VEVENT
BEGIN:VEVENT
DTSTART;TZID=America/Chicago:20260316T090000
DTEND;TZID=America/Chicago:20260316T110000
DTSTAMP:20260420T000457
CREATED:20260224T144133Z
LAST-MODIFIED:20260310T133039Z
UID:10015310-1773651600-1773658800@www.weliahealth.org
SUMMARY:Welia Center Fitness Room Open Studio
DESCRIPTION:Welia Center Open Studio. This time is available for members to do a class of their choice or a workout on their own. First come first serve basis. Hundreds of on-demand classes available! The space is equipped with light weights\, yoga equipment\, kettlebells\, spin bikes\, and pickleball equipment.
URL:https://www.weliahealth.org/event/welia-center-fitness-room-open-studio-34/2026-03-16/
CATEGORIES:Caravan,Classes
ORGANIZER;CN="Health and Wellness Coordinator":MAILTO:wellnesscenter@WeliaHealth.org
END:VEVENT
BEGIN:VEVENT
DTSTART;TZID=America/Chicago:20260318T080000
DTEND;TZID=America/Chicago:20260318T170000
DTSTAMP:20260420T000457
CREATED:20260224T144133Z
LAST-MODIFIED:20260310T133039Z
UID:10015311-1773820800-1773853200@www.weliahealth.org
SUMMARY:Welia Center Fitness Room Open Studio
DESCRIPTION:Welia Center Open Studio. This time is available for members to do a class of their choice or a workout on their own. First come first serve basis. Hundreds of on-demand classes available! The space is equipped with light weights\, yoga equipment\, kettlebells\, spin bikes\, and pickleball equipment.
URL:https://www.weliahealth.org/event/welia-center-fitness-room-open-studio-34/2026-03-18/
CATEGORIES:Caravan,Classes
ORGANIZER;CN="Health and Wellness Coordinator":MAILTO:wellnesscenter@WeliaHealth.org
END:VEVENT
BEGIN:VEVENT
DTSTART;TZID=America/Chicago:20260319T090000
DTEND;TZID=America/Chicago:20260319T160000
DTSTAMP:20260420T000457
CREATED:20260224T144133Z
LAST-MODIFIED:20260310T133039Z
UID:10015312-1773910800-1773936000@www.weliahealth.org
SUMMARY:Welia Center Fitness Room Open Studio
DESCRIPTION:Welia Center Open Studio. This time is available for members to do a class of their choice or a workout on their own. First come first serve basis. Hundreds of on-demand classes available! The space is equipped with light weights\, yoga equipment\, kettlebells\, spin bikes\, and pickleball equipment.
URL:https://www.weliahealth.org/event/welia-center-fitness-room-open-studio-34/2026-03-19/
CATEGORIES:Caravan,Classes
ORGANIZER;CN="Health and Wellness Coordinator":MAILTO:wellnesscenter@WeliaHealth.org
END:VEVENT
BEGIN:VEVENT
DTSTART;TZID=America/Chicago:20260324T123000
DTEND;TZID=America/Chicago:20260324T133000
DTSTAMP:20260420T000457
CREATED:20260224T144133Z
LAST-MODIFIED:20260310T133039Z
UID:10015313-1774355400-1774359000@www.weliahealth.org
SUMMARY:Welia Center Fitness Room Open Studio
DESCRIPTION:Welia Center Open Studio. This time is available for members to do a class of their choice or a workout on their own. First come first serve basis. Hundreds of on-demand classes available! The space is equipped with light weights\, yoga equipment\, kettlebells\, spin bikes\, and pickleball equipment.
URL:https://www.weliahealth.org/event/welia-center-fitness-room-open-studio-34/2026-03-24/
CATEGORIES:Caravan,Classes
ORGANIZER;CN="Health and Wellness Coordinator":MAILTO:wellnesscenter@WeliaHealth.org
END:VEVENT
BEGIN:VEVENT
DTSTART;TZID=America/Chicago:20260325T120000
DTEND;TZID=America/Chicago:20260325T150000
DTSTAMP:20260420T000457
CREATED:20260224T144133Z
LAST-MODIFIED:20260310T133039Z
UID:10015314-1774440000-1774450800@www.weliahealth.org
SUMMARY:Welia Center Fitness Room Open Studio
DESCRIPTION:Welia Center Open Studio. This time is available for members to do a class of their choice or a workout on their own. First come first serve basis. Hundreds of on-demand classes available! The space is equipped with light weights\, yoga equipment\, kettlebells\, spin bikes\, and pickleball equipment.
URL:https://www.weliahealth.org/event/welia-center-fitness-room-open-studio-34/2026-03-25/
CATEGORIES:Caravan,Classes
ORGANIZER;CN="Health and Wellness Coordinator":MAILTO:wellnesscenter@WeliaHealth.org
END:VEVENT
BEGIN:VEVENT
DTSTART;TZID=America/Chicago:20260326T090000
DTEND;TZID=America/Chicago:20260326T160000
DTSTAMP:20260420T000457
CREATED:20260224T144133Z
LAST-MODIFIED:20260310T133039Z
UID:10015315-1774515600-1774540800@www.weliahealth.org
SUMMARY:Welia Center Fitness Room Open Studio
DESCRIPTION:Welia Center Open Studio. This time is available for members to do a class of their choice or a workout on their own. First come first serve basis. Hundreds of on-demand classes available! The space is equipped with light weights\, yoga equipment\, kettlebells\, spin bikes\, and pickleball equipment.
URL:https://www.weliahealth.org/event/welia-center-fitness-room-open-studio-34/2026-03-26/
CATEGORIES:Caravan,Classes
ORGANIZER;CN="Health and Wellness Coordinator":MAILTO:wellnesscenter@WeliaHealth.org
END:VEVENT
BEGIN:VEVENT
DTSTART;TZID=America/Chicago:20260327T090000
DTEND;TZID=America/Chicago:20260327T140000
DTSTAMP:20260420T000457
CREATED:20260224T144133Z
LAST-MODIFIED:20260310T133039Z
UID:10015316-1774602000-1774620000@www.weliahealth.org
SUMMARY:Welia Center Fitness Room Open Studio
DESCRIPTION:Welia Center Open Studio. This time is available for members to do a class of their choice or a workout on their own. First come first serve basis. Hundreds of on-demand classes available! The space is equipped with light weights\, yoga equipment\, kettlebells\, spin bikes\, and pickleball equipment.
URL:https://www.weliahealth.org/event/welia-center-fitness-room-open-studio-34/2026-03-27/
CATEGORIES:Caravan,Classes
ORGANIZER;CN="Health and Wellness Coordinator":MAILTO:wellnesscenter@WeliaHealth.org
END:VEVENT
BEGIN:VEVENT
DTSTART;TZID=America/Chicago:20260330T090000
DTEND;TZID=America/Chicago:20260330T110000
DTSTAMP:20260420T000457
CREATED:20260224T144133Z
LAST-MODIFIED:20260310T133039Z
UID:10015317-1774861200-1774868400@www.weliahealth.org
SUMMARY:Welia Center Fitness Room Open Studio
DESCRIPTION:Welia Center Open Studio. This time is available for members to do a class of their choice or a workout on their own. First come first serve basis. Hundreds of on-demand classes available! The space is equipped with light weights\, yoga equipment\, kettlebells\, spin bikes\, and pickleball equipment.
URL:https://www.weliahealth.org/event/welia-center-fitness-room-open-studio-34/2026-03-30/
CATEGORIES:Caravan,Classes
ORGANIZER;CN="Health and Wellness Coordinator":MAILTO:wellnesscenter@WeliaHealth.org
END:VEVENT
BEGIN:VEVENT
DTSTART;TZID=America/Chicago:20260331T130000
DTEND;TZID=America/Chicago:20260331T160000
DTSTAMP:20260420T000457
CREATED:20260224T144133Z
LAST-MODIFIED:20260310T133039Z
UID:10015318-1774962000-1774972800@www.weliahealth.org
SUMMARY:Welia Center Fitness Room Open Studio
DESCRIPTION:Welia Center Open Studio. This time is available for members to do a class of their choice or a workout on their own. First come first serve basis. Hundreds of on-demand classes available! The space is equipped with light weights\, yoga equipment\, kettlebells\, spin bikes\, and pickleball equipment.
URL:https://www.weliahealth.org/event/welia-center-fitness-room-open-studio-34/2026-03-31/
CATEGORIES:Caravan,Classes
ORGANIZER;CN="Health and Wellness Coordinator":MAILTO:wellnesscenter@WeliaHealth.org
END:VEVENT
BEGIN:VEVENT
DTSTART;TZID=America/Chicago:20260407T120000
DTEND;TZID=America/Chicago:20260407T160000
DTSTAMP:20260420T000457
CREATED:20260224T144133Z
LAST-MODIFIED:20260310T133039Z
UID:10015319-1775563200-1775577600@www.weliahealth.org
SUMMARY:Welia Center Fitness Room Open Studio
DESCRIPTION:Welia Center Open Studio. This time is available for members to do a class of their choice or a workout on their own. First come first serve basis. Hundreds of on-demand classes available! The space is equipped with light weights\, yoga equipment\, kettlebells\, spin bikes\, and pickleball equipment.
URL:https://www.weliahealth.org/event/welia-center-fitness-room-open-studio-34/2026-04-07/
CATEGORIES:Caravan,Classes
ORGANIZER;CN="Health and Wellness Coordinator":MAILTO:wellnesscenter@WeliaHealth.org
END:VEVENT
BEGIN:VEVENT
DTSTART;TZID=America/Chicago:20260408T090000
DTEND;TZID=America/Chicago:20260408T160000
DTSTAMP:20260420T000457
CREATED:20260224T144133Z
LAST-MODIFIED:20260310T133039Z
UID:10015320-1775638800-1775664000@www.weliahealth.org
SUMMARY:Welia Center Fitness Room Open Studio
DESCRIPTION:Welia Center Open Studio. This time is available for members to do a class of their choice or a workout on their own. First come first serve basis. Hundreds of on-demand classes available! The space is equipped with light weights\, yoga equipment\, kettlebells\, spin bikes\, and pickleball equipment.
URL:https://www.weliahealth.org/event/welia-center-fitness-room-open-studio-34/2026-04-08/
CATEGORIES:Caravan,Classes
ORGANIZER;CN="Health and Wellness Coordinator":MAILTO:wellnesscenter@WeliaHealth.org
END:VEVENT
BEGIN:VEVENT
DTSTART;TZID=America/Chicago:20260409T090000
DTEND;TZID=America/Chicago:20260409T160000
DTSTAMP:20260420T000457
CREATED:20260224T144133Z
LAST-MODIFIED:20260310T133039Z
UID:10015321-1775725200-1775750400@www.weliahealth.org
SUMMARY:Welia Center Fitness Room Open Studio
DESCRIPTION:Welia Center Open Studio. This time is available for members to do a class of their choice or a workout on their own. First come first serve basis. Hundreds of on-demand classes available! The space is equipped with light weights\, yoga equipment\, kettlebells\, spin bikes\, and pickleball equipment.
URL:https://www.weliahealth.org/event/welia-center-fitness-room-open-studio-34/2026-04-09/
CATEGORIES:Caravan,Classes
ORGANIZER;CN="Health and Wellness Coordinator":MAILTO:wellnesscenter@WeliaHealth.org
END:VEVENT
BEGIN:VEVENT
DTSTART;TZID=America/Chicago:20260410T090000
DTEND;TZID=America/Chicago:20260410T113000
DTSTAMP:20260420T000457
CREATED:20260224T144133Z
LAST-MODIFIED:20260310T133039Z
UID:10015322-1775811600-1775820600@www.weliahealth.org
SUMMARY:Welia Center Fitness Room Open Studio
DESCRIPTION:Welia Center Open Studio. This time is available for members to do a class of their choice or a workout on their own. First come first serve basis. Hundreds of on-demand classes available! The space is equipped with light weights\, yoga equipment\, kettlebells\, spin bikes\, and pickleball equipment.
URL:https://www.weliahealth.org/event/welia-center-fitness-room-open-studio-34/2026-04-10/1/
CATEGORIES:Caravan,Classes
ORGANIZER;CN="Health and Wellness Coordinator":MAILTO:wellnesscenter@WeliaHealth.org
END:VEVENT
BEGIN:VEVENT
DTSTART;TZID=America/Chicago:20260410T123000
DTEND;TZID=America/Chicago:20260410T140000
DTSTAMP:20260420T000457
CREATED:20260224T144133Z
LAST-MODIFIED:20260310T133039Z
UID:10015323-1775824200-1775829600@www.weliahealth.org
SUMMARY:Welia Center Fitness Room Open Studio
DESCRIPTION:Welia Center Open Studio. This time is available for members to do a class of their choice or a workout on their own. First come first serve basis. Hundreds of on-demand classes available! The space is equipped with light weights\, yoga equipment\, kettlebells\, spin bikes\, and pickleball equipment.
URL:https://www.weliahealth.org/event/welia-center-fitness-room-open-studio-34/2026-04-10/2/
CATEGORIES:Caravan,Classes
ORGANIZER;CN="Health and Wellness Coordinator":MAILTO:wellnesscenter@WeliaHealth.org
END:VEVENT
BEGIN:VEVENT
DTSTART;TZID=America/Chicago:20260413T090000
DTEND;TZID=America/Chicago:20260413T110000
DTSTAMP:20260420T000457
CREATED:20260224T144133Z
LAST-MODIFIED:20260310T133039Z
UID:10015324-1776070800-1776078000@www.weliahealth.org
SUMMARY:Welia Center Fitness Room Open Studio
DESCRIPTION:Welia Center Open Studio. This time is available for members to do a class of their choice or a workout on their own. First come first serve basis. Hundreds of on-demand classes available! The space is equipped with light weights\, yoga equipment\, kettlebells\, spin bikes\, and pickleball equipment.
URL:https://www.weliahealth.org/event/welia-center-fitness-room-open-studio-34/2026-04-13/
CATEGORIES:Caravan,Classes
ORGANIZER;CN="Health and Wellness Coordinator":MAILTO:wellnesscenter@WeliaHealth.org
END:VEVENT
BEGIN:VEVENT
DTSTART;TZID=America/Chicago:20260415T090000
DTEND;TZID=America/Chicago:20260415T160000
DTSTAMP:20260420T000457
CREATED:20260224T144133Z
LAST-MODIFIED:20260310T133039Z
UID:10015325-1776243600-1776268800@www.weliahealth.org
SUMMARY:Welia Center Fitness Room Open Studio
DESCRIPTION:Welia Center Open Studio. This time is available for members to do a class of their choice or a workout on their own. First come first serve basis. Hundreds of on-demand classes available! The space is equipped with light weights\, yoga equipment\, kettlebells\, spin bikes\, and pickleball equipment.
URL:https://www.weliahealth.org/event/welia-center-fitness-room-open-studio-34/2026-04-15/
CATEGORIES:Caravan,Classes
ORGANIZER;CN="Health and Wellness Coordinator":MAILTO:wellnesscenter@WeliaHealth.org
END:VEVENT
END:VCALENDAR