BEGIN:VCALENDAR
VERSION:2.0
PRODID:-//Welia Health - ECPv6.15.20//NONSGML v1.0//EN
CALSCALE:GREGORIAN
METHOD:PUBLISH
X-WR-CALNAME:Welia Health
X-ORIGINAL-URL:https://www.weliahealth.org
X-WR-CALDESC:Events for Welia Health
REFRESH-INTERVAL;VALUE=DURATION:PT1H
X-Robots-Tag:noindex
X-PUBLISHED-TTL:PT1H
BEGIN:VTIMEZONE
TZID:America/Chicago
BEGIN:DAYLIGHT
TZOFFSETFROM:-0600
TZOFFSETTO:-0500
TZNAME:CDT
DTSTART:20240310T080000
END:DAYLIGHT
BEGIN:STANDARD
TZOFFSETFROM:-0500
TZOFFSETTO:-0600
TZNAME:CST
DTSTART:20241103T070000
END:STANDARD
BEGIN:DAYLIGHT
TZOFFSETFROM:-0600
TZOFFSETTO:-0500
TZNAME:CDT
DTSTART:20250309T080000
END:DAYLIGHT
BEGIN:STANDARD
TZOFFSETFROM:-0500
TZOFFSETTO:-0600
TZNAME:CST
DTSTART:20251102T070000
END:STANDARD
BEGIN:DAYLIGHT
TZOFFSETFROM:-0600
TZOFFSETTO:-0500
TZNAME:CDT
DTSTART:20260308T080000
END:DAYLIGHT
BEGIN:STANDARD
TZOFFSETFROM:-0500
TZOFFSETTO:-0600
TZNAME:CST
DTSTART:20261101T070000
END:STANDARD
BEGIN:DAYLIGHT
TZOFFSETFROM:-0600
TZOFFSETTO:-0500
TZNAME:CDT
DTSTART:20270314T080000
END:DAYLIGHT
BEGIN:STANDARD
TZOFFSETFROM:-0500
TZOFFSETTO:-0600
TZNAME:CST
DTSTART:20271107T070000
END:STANDARD
END:VTIMEZONE
BEGIN:VEVENT
DTSTART;VALUE=DATE:20251031
DTEND;VALUE=DATE:20251101
DTSTAMP:20260420T174143
CREATED:20251002T153017Z
LAST-MODIFIED:20251002T153206Z
UID:10015076-1761868800-1761955199@www.weliahealth.org
SUMMARY:Welia Center Holiday Event
DESCRIPTION:Join us at the Welia Center for a fun day filled with holiday activities.  Wear a costume during your workout for a prize!
URL:https://www.weliahealth.org/event/welia-center-holiday-event/
LOCATION:Welia Center: Walking Track\, 200 N 9th St\, Mora\, MN\, 55051-1147\, United States
CATEGORIES:Caravan
END:VEVENT
BEGIN:VEVENT
DTSTART;TZID=America/Chicago:20251104T110000
DTEND;TZID=America/Chicago:20251104T160000
DTSTAMP:20260420T174143
CREATED:20251120T170206Z
LAST-MODIFIED:20251120T170206Z
UID:10015084-1762254000-1762272000@www.weliahealth.org
SUMMARY:Welia Center Fitness Room Open Studio
DESCRIPTION:Welia Center Open Studio. This time is available for members to do a class of their choice or a workout on their own. First come first serve basis. Hundreds of on-demand classes available! The space is equipped with light weights\, yoga equipment\, kettlebells\, spin bikes\, and pickleball equipment. \n  \n 
URL:https://www.weliahealth.org/event/welia-center-fitness-room-open-studio-31/2025-11-04/
LOCATION:Welia Center: Fitness & Community Room\, 200 N 9th St\, Mora\, MN\, 55051-1147\, United States
CATEGORIES:Caravan,Classes
ORGANIZER;CN="Health and Wellness Coordinator":MAILTO:wellnesscenter@WeliaHealth.org
END:VEVENT
BEGIN:VEVENT
DTSTART;TZID=America/Chicago:20251105T083000
DTEND;TZID=America/Chicago:20251105T160000
DTSTAMP:20260420T174143
CREATED:20251120T170206Z
LAST-MODIFIED:20251120T170206Z
UID:10015085-1762331400-1762358400@www.weliahealth.org
SUMMARY:Welia Center Fitness Room Open Studio
DESCRIPTION:Welia Center Open Studio. This time is available for members to do a class of their choice or a workout on their own. First come first serve basis. Hundreds of on-demand classes available! The space is equipped with light weights\, yoga equipment\, kettlebells\, spin bikes\, and pickleball equipment. \n  \n 
URL:https://www.weliahealth.org/event/welia-center-fitness-room-open-studio-31/2025-11-05/
LOCATION:Welia Center: Fitness & Community Room\, 200 N 9th St\, Mora\, MN\, 55051-1147\, United States
CATEGORIES:Caravan,Classes
ORGANIZER;CN="Health and Wellness Coordinator":MAILTO:wellnesscenter@WeliaHealth.org
END:VEVENT
BEGIN:VEVENT
DTSTART;TZID=America/Chicago:20251106T090000
DTEND;TZID=America/Chicago:20251106T160000
DTSTAMP:20260420T174143
CREATED:20251120T170206Z
LAST-MODIFIED:20251120T170206Z
UID:10015086-1762419600-1762444800@www.weliahealth.org
SUMMARY:Welia Center Fitness Room Open Studio
DESCRIPTION:Welia Center Open Studio. This time is available for members to do a class of their choice or a workout on their own. First come first serve basis. Hundreds of on-demand classes available! The space is equipped with light weights\, yoga equipment\, kettlebells\, spin bikes\, and pickleball equipment. \n  \n 
URL:https://www.weliahealth.org/event/welia-center-fitness-room-open-studio-31/2025-11-06/
LOCATION:Welia Center: Fitness & Community Room\, 200 N 9th St\, Mora\, MN\, 55051-1147\, United States
CATEGORIES:Caravan,Classes
ORGANIZER;CN="Health and Wellness Coordinator":MAILTO:wellnesscenter@WeliaHealth.org
END:VEVENT
BEGIN:VEVENT
DTSTART;TZID=America/Chicago:20251111T130000
DTEND;TZID=America/Chicago:20251111T160000
DTSTAMP:20260420T174143
CREATED:20251120T170206Z
LAST-MODIFIED:20251120T170206Z
UID:10015087-1762866000-1762876800@www.weliahealth.org
SUMMARY:Welia Center Fitness Room Open Studio
DESCRIPTION:Welia Center Open Studio. This time is available for members to do a class of their choice or a workout on their own. First come first serve basis. Hundreds of on-demand classes available! The space is equipped with light weights\, yoga equipment\, kettlebells\, spin bikes\, and pickleball equipment. \n  \n 
URL:https://www.weliahealth.org/event/welia-center-fitness-room-open-studio-31/2025-11-11/
LOCATION:Welia Center: Fitness & Community Room\, 200 N 9th St\, Mora\, MN\, 55051-1147\, United States
CATEGORIES:Caravan,Classes
ORGANIZER;CN="Health and Wellness Coordinator":MAILTO:wellnesscenter@WeliaHealth.org
END:VEVENT
BEGIN:VEVENT
DTSTART;TZID=America/Chicago:20251112T083000
DTEND;TZID=America/Chicago:20251112T160000
DTSTAMP:20260420T174143
CREATED:20251120T170206Z
LAST-MODIFIED:20251120T170206Z
UID:10015088-1762936200-1762963200@www.weliahealth.org
SUMMARY:Welia Center Fitness Room Open Studio
DESCRIPTION:Welia Center Open Studio. This time is available for members to do a class of their choice or a workout on their own. First come first serve basis. Hundreds of on-demand classes available! The space is equipped with light weights\, yoga equipment\, kettlebells\, spin bikes\, and pickleball equipment. \n  \n 
URL:https://www.weliahealth.org/event/welia-center-fitness-room-open-studio-31/2025-11-12/
LOCATION:Welia Center: Fitness & Community Room\, 200 N 9th St\, Mora\, MN\, 55051-1147\, United States
CATEGORIES:Caravan,Classes
ORGANIZER;CN="Health and Wellness Coordinator":MAILTO:wellnesscenter@WeliaHealth.org
END:VEVENT
BEGIN:VEVENT
DTSTART;TZID=America/Chicago:20251113T090000
DTEND;TZID=America/Chicago:20251113T160000
DTSTAMP:20260420T174143
CREATED:20251120T170206Z
LAST-MODIFIED:20251120T170206Z
UID:10015089-1763024400-1763049600@www.weliahealth.org
SUMMARY:Welia Center Fitness Room Open Studio
DESCRIPTION:Welia Center Open Studio. This time is available for members to do a class of their choice or a workout on their own. First come first serve basis. Hundreds of on-demand classes available! The space is equipped with light weights\, yoga equipment\, kettlebells\, spin bikes\, and pickleball equipment. \n  \n 
URL:https://www.weliahealth.org/event/welia-center-fitness-room-open-studio-31/2025-11-13/
LOCATION:Welia Center: Fitness & Community Room\, 200 N 9th St\, Mora\, MN\, 55051-1147\, United States
CATEGORIES:Caravan,Classes
ORGANIZER;CN="Health and Wellness Coordinator":MAILTO:wellnesscenter@WeliaHealth.org
END:VEVENT
BEGIN:VEVENT
DTSTART;TZID=America/Chicago:20251118T130000
DTEND;TZID=America/Chicago:20251118T160000
DTSTAMP:20260420T174143
CREATED:20251120T170206Z
LAST-MODIFIED:20251120T170206Z
UID:10015090-1763470800-1763481600@www.weliahealth.org
SUMMARY:Welia Center Fitness Room Open Studio
DESCRIPTION:Welia Center Open Studio. This time is available for members to do a class of their choice or a workout on their own. First come first serve basis. Hundreds of on-demand classes available! The space is equipped with light weights\, yoga equipment\, kettlebells\, spin bikes\, and pickleball equipment. \n  \n 
URL:https://www.weliahealth.org/event/welia-center-fitness-room-open-studio-31/2025-11-18/
LOCATION:Welia Center: Fitness & Community Room\, 200 N 9th St\, Mora\, MN\, 55051-1147\, United States
CATEGORIES:Caravan,Classes
ORGANIZER;CN="Health and Wellness Coordinator":MAILTO:wellnesscenter@WeliaHealth.org
END:VEVENT
BEGIN:VEVENT
DTSTART;TZID=America/Chicago:20251119T083000
DTEND;TZID=America/Chicago:20251119T160000
DTSTAMP:20260420T174143
CREATED:20251120T170206Z
LAST-MODIFIED:20251120T170206Z
UID:10015091-1763541000-1763568000@www.weliahealth.org
SUMMARY:Welia Center Fitness Room Open Studio
DESCRIPTION:Welia Center Open Studio. This time is available for members to do a class of their choice or a workout on their own. First come first serve basis. Hundreds of on-demand classes available! The space is equipped with light weights\, yoga equipment\, kettlebells\, spin bikes\, and pickleball equipment. \n  \n 
URL:https://www.weliahealth.org/event/welia-center-fitness-room-open-studio-31/2025-11-19/
LOCATION:Welia Center: Fitness & Community Room\, 200 N 9th St\, Mora\, MN\, 55051-1147\, United States
CATEGORIES:Caravan,Classes
ORGANIZER;CN="Health and Wellness Coordinator":MAILTO:wellnesscenter@WeliaHealth.org
END:VEVENT
BEGIN:VEVENT
DTSTART;TZID=America/Chicago:20251120T090000
DTEND;TZID=America/Chicago:20251120T160000
DTSTAMP:20260420T174143
CREATED:20251120T170206Z
LAST-MODIFIED:20251120T170206Z
UID:10015092-1763629200-1763654400@www.weliahealth.org
SUMMARY:Welia Center Fitness Room Open Studio
DESCRIPTION:Welia Center Open Studio. This time is available for members to do a class of their choice or a workout on their own. First come first serve basis. Hundreds of on-demand classes available! The space is equipped with light weights\, yoga equipment\, kettlebells\, spin bikes\, and pickleball equipment. \n  \n 
URL:https://www.weliahealth.org/event/welia-center-fitness-room-open-studio-31/2025-11-20/
LOCATION:Welia Center: Fitness & Community Room\, 200 N 9th St\, Mora\, MN\, 55051-1147\, United States
CATEGORIES:Caravan,Classes
ORGANIZER;CN="Health and Wellness Coordinator":MAILTO:wellnesscenter@WeliaHealth.org
END:VEVENT
BEGIN:VEVENT
DTSTART;TZID=America/Chicago:20251125T123000
DTEND;TZID=America/Chicago:20251125T133000
DTSTAMP:20260420T174143
CREATED:20251120T170206Z
LAST-MODIFIED:20251120T170206Z
UID:10015093-1764073800-1764077400@www.weliahealth.org
SUMMARY:Welia Center Fitness Room Open Studio
DESCRIPTION:Welia Center Open Studio. This time is available for members to do a class of their choice or a workout on their own. First come first serve basis. Hundreds of on-demand classes available! The space is equipped with light weights\, yoga equipment\, kettlebells\, spin bikes\, and pickleball equipment. \n  \n 
URL:https://www.weliahealth.org/event/welia-center-fitness-room-open-studio-31/2025-11-25/
LOCATION:Welia Center: Fitness & Community Room\, 200 N 9th St\, Mora\, MN\, 55051-1147\, United States
CATEGORIES:Caravan,Classes
ORGANIZER;CN="Health and Wellness Coordinator":MAILTO:wellnesscenter@WeliaHealth.org
END:VEVENT
BEGIN:VEVENT
DTSTART;TZID=America/Chicago:20251126T083000
DTEND;TZID=America/Chicago:20251126T160000
DTSTAMP:20260420T174143
CREATED:20251120T170206Z
LAST-MODIFIED:20251120T170206Z
UID:10015094-1764145800-1764172800@www.weliahealth.org
SUMMARY:Welia Center Fitness Room Open Studio
DESCRIPTION:Welia Center Open Studio. This time is available for members to do a class of their choice or a workout on their own. First come first serve basis. Hundreds of on-demand classes available! The space is equipped with light weights\, yoga equipment\, kettlebells\, spin bikes\, and pickleball equipment. \n  \n 
URL:https://www.weliahealth.org/event/welia-center-fitness-room-open-studio-31/2025-11-26/
LOCATION:Welia Center: Fitness & Community Room\, 200 N 9th St\, Mora\, MN\, 55051-1147\, United States
CATEGORIES:Caravan,Classes
ORGANIZER;CN="Health and Wellness Coordinator":MAILTO:wellnesscenter@WeliaHealth.org
END:VEVENT
BEGIN:VEVENT
DTSTART;TZID=America/Chicago:20251202T110000
DTEND;TZID=America/Chicago:20251202T160000
DTSTAMP:20260420T174143
CREATED:20251120T170206Z
LAST-MODIFIED:20251120T170206Z
UID:10015095-1764673200-1764691200@www.weliahealth.org
SUMMARY:Welia Center Fitness Room Open Studio
DESCRIPTION:Welia Center Open Studio. This time is available for members to do a class of their choice or a workout on their own. First come first serve basis. Hundreds of on-demand classes available! The space is equipped with light weights\, yoga equipment\, kettlebells\, spin bikes\, and pickleball equipment. \n  \n 
URL:https://www.weliahealth.org/event/welia-center-fitness-room-open-studio-31/2025-12-02/
LOCATION:Welia Center: Fitness & Community Room\, 200 N 9th St\, Mora\, MN\, 55051-1147\, United States
CATEGORIES:Caravan,Classes
ORGANIZER;CN="Health and Wellness Coordinator":MAILTO:wellnesscenter@WeliaHealth.org
END:VEVENT
BEGIN:VEVENT
DTSTART;TZID=America/Chicago:20251203T083000
DTEND;TZID=America/Chicago:20251203T160000
DTSTAMP:20260420T174143
CREATED:20251120T170206Z
LAST-MODIFIED:20251120T170206Z
UID:10015096-1764750600-1764777600@www.weliahealth.org
SUMMARY:Welia Center Fitness Room Open Studio
DESCRIPTION:Welia Center Open Studio. This time is available for members to do a class of their choice or a workout on their own. First come first serve basis. Hundreds of on-demand classes available! The space is equipped with light weights\, yoga equipment\, kettlebells\, spin bikes\, and pickleball equipment. \n  \n 
URL:https://www.weliahealth.org/event/welia-center-fitness-room-open-studio-31/2025-12-03/
LOCATION:Welia Center: Fitness & Community Room\, 200 N 9th St\, Mora\, MN\, 55051-1147\, United States
CATEGORIES:Caravan,Classes
ORGANIZER;CN="Health and Wellness Coordinator":MAILTO:wellnesscenter@WeliaHealth.org
END:VEVENT
BEGIN:VEVENT
DTSTART;TZID=America/Chicago:20251204T090000
DTEND;TZID=America/Chicago:20251204T160000
DTSTAMP:20260420T174143
CREATED:20251120T170206Z
LAST-MODIFIED:20251120T170206Z
UID:10015097-1764838800-1764864000@www.weliahealth.org
SUMMARY:Welia Center Fitness Room Open Studio
DESCRIPTION:Welia Center Open Studio. This time is available for members to do a class of their choice or a workout on their own. First come first serve basis. Hundreds of on-demand classes available! The space is equipped with light weights\, yoga equipment\, kettlebells\, spin bikes\, and pickleball equipment. \n  \n 
URL:https://www.weliahealth.org/event/welia-center-fitness-room-open-studio-31/2025-12-04/
LOCATION:Welia Center: Fitness & Community Room\, 200 N 9th St\, Mora\, MN\, 55051-1147\, United States
CATEGORIES:Caravan,Classes
ORGANIZER;CN="Health and Wellness Coordinator":MAILTO:wellnesscenter@WeliaHealth.org
END:VEVENT
BEGIN:VEVENT
DTSTART;TZID=America/Chicago:20251209T120000
DTEND;TZID=America/Chicago:20251209T160000
DTSTAMP:20260420T174143
CREATED:20251120T170206Z
LAST-MODIFIED:20251120T170206Z
UID:10015098-1765281600-1765296000@www.weliahealth.org
SUMMARY:Welia Center Fitness Room Open Studio
DESCRIPTION:Welia Center Open Studio. This time is available for members to do a class of their choice or a workout on their own. First come first serve basis. Hundreds of on-demand classes available! The space is equipped with light weights\, yoga equipment\, kettlebells\, spin bikes\, and pickleball equipment. \n  \n 
URL:https://www.weliahealth.org/event/welia-center-fitness-room-open-studio-31/2025-12-09/
LOCATION:Welia Center: Fitness & Community Room\, 200 N 9th St\, Mora\, MN\, 55051-1147\, United States
CATEGORIES:Caravan,Classes
ORGANIZER;CN="Health and Wellness Coordinator":MAILTO:wellnesscenter@WeliaHealth.org
END:VEVENT
BEGIN:VEVENT
DTSTART;TZID=America/Chicago:20251210T083000
DTEND;TZID=America/Chicago:20251210T160000
DTSTAMP:20260420T174143
CREATED:20251120T170206Z
LAST-MODIFIED:20251120T170206Z
UID:10015099-1765355400-1765382400@www.weliahealth.org
SUMMARY:Welia Center Fitness Room Open Studio
DESCRIPTION:Welia Center Open Studio. This time is available for members to do a class of their choice or a workout on their own. First come first serve basis. Hundreds of on-demand classes available! The space is equipped with light weights\, yoga equipment\, kettlebells\, spin bikes\, and pickleball equipment. \n  \n 
URL:https://www.weliahealth.org/event/welia-center-fitness-room-open-studio-31/2025-12-10/
LOCATION:Welia Center: Fitness & Community Room\, 200 N 9th St\, Mora\, MN\, 55051-1147\, United States
CATEGORIES:Caravan,Classes
ORGANIZER;CN="Health and Wellness Coordinator":MAILTO:wellnesscenter@WeliaHealth.org
END:VEVENT
BEGIN:VEVENT
DTSTART;TZID=America/Chicago:20251211T090000
DTEND;TZID=America/Chicago:20251211T160000
DTSTAMP:20260420T174143
CREATED:20251120T170206Z
LAST-MODIFIED:20251120T170206Z
UID:10015100-1765443600-1765468800@www.weliahealth.org
SUMMARY:Welia Center Fitness Room Open Studio
DESCRIPTION:Welia Center Open Studio. This time is available for members to do a class of their choice or a workout on their own. First come first serve basis. Hundreds of on-demand classes available! The space is equipped with light weights\, yoga equipment\, kettlebells\, spin bikes\, and pickleball equipment. \n  \n 
URL:https://www.weliahealth.org/event/welia-center-fitness-room-open-studio-31/2025-12-11/
LOCATION:Welia Center: Fitness & Community Room\, 200 N 9th St\, Mora\, MN\, 55051-1147\, United States
CATEGORIES:Caravan,Classes
ORGANIZER;CN="Health and Wellness Coordinator":MAILTO:wellnesscenter@WeliaHealth.org
END:VEVENT
BEGIN:VEVENT
DTSTART;TZID=America/Chicago:20251216T130000
DTEND;TZID=America/Chicago:20251216T160000
DTSTAMP:20260420T174143
CREATED:20251120T170206Z
LAST-MODIFIED:20251120T170206Z
UID:10015101-1765890000-1765900800@www.weliahealth.org
SUMMARY:Welia Center Fitness Room Open Studio
DESCRIPTION:Welia Center Open Studio. This time is available for members to do a class of their choice or a workout on their own. First come first serve basis. Hundreds of on-demand classes available! The space is equipped with light weights\, yoga equipment\, kettlebells\, spin bikes\, and pickleball equipment. \n  \n 
URL:https://www.weliahealth.org/event/welia-center-fitness-room-open-studio-31/2025-12-16/
LOCATION:Welia Center: Fitness & Community Room\, 200 N 9th St\, Mora\, MN\, 55051-1147\, United States
CATEGORIES:Caravan,Classes
ORGANIZER;CN="Health and Wellness Coordinator":MAILTO:wellnesscenter@WeliaHealth.org
END:VEVENT
BEGIN:VEVENT
DTSTART;TZID=America/Chicago:20251217T083000
DTEND;TZID=America/Chicago:20251217T160000
DTSTAMP:20260420T174143
CREATED:20251120T170206Z
LAST-MODIFIED:20251120T170206Z
UID:10015102-1765960200-1765987200@www.weliahealth.org
SUMMARY:Welia Center Fitness Room Open Studio
DESCRIPTION:Welia Center Open Studio. This time is available for members to do a class of their choice or a workout on their own. First come first serve basis. Hundreds of on-demand classes available! The space is equipped with light weights\, yoga equipment\, kettlebells\, spin bikes\, and pickleball equipment. \n  \n 
URL:https://www.weliahealth.org/event/welia-center-fitness-room-open-studio-31/2025-12-17/
LOCATION:Welia Center: Fitness & Community Room\, 200 N 9th St\, Mora\, MN\, 55051-1147\, United States
CATEGORIES:Caravan,Classes
ORGANIZER;CN="Health and Wellness Coordinator":MAILTO:wellnesscenter@WeliaHealth.org
END:VEVENT
BEGIN:VEVENT
DTSTART;TZID=America/Chicago:20251218T090000
DTEND;TZID=America/Chicago:20251218T160000
DTSTAMP:20260420T174143
CREATED:20251120T170206Z
LAST-MODIFIED:20251120T170206Z
UID:10015103-1766048400-1766073600@www.weliahealth.org
SUMMARY:Welia Center Fitness Room Open Studio
DESCRIPTION:Welia Center Open Studio. This time is available for members to do a class of their choice or a workout on their own. First come first serve basis. Hundreds of on-demand classes available! The space is equipped with light weights\, yoga equipment\, kettlebells\, spin bikes\, and pickleball equipment. \n  \n 
URL:https://www.weliahealth.org/event/welia-center-fitness-room-open-studio-31/2025-12-18/
LOCATION:Welia Center: Fitness & Community Room\, 200 N 9th St\, Mora\, MN\, 55051-1147\, United States
CATEGORIES:Caravan,Classes
ORGANIZER;CN="Health and Wellness Coordinator":MAILTO:wellnesscenter@WeliaHealth.org
END:VEVENT
BEGIN:VEVENT
DTSTART;TZID=America/Chicago:20251223T130000
DTEND;TZID=America/Chicago:20251223T160000
DTSTAMP:20260420T174143
CREATED:20251120T170206Z
LAST-MODIFIED:20251120T170206Z
UID:10015104-1766494800-1766505600@www.weliahealth.org
SUMMARY:Welia Center Fitness Room Open Studio
DESCRIPTION:Welia Center Open Studio. This time is available for members to do a class of their choice or a workout on their own. First come first serve basis. Hundreds of on-demand classes available! The space is equipped with light weights\, yoga equipment\, kettlebells\, spin bikes\, and pickleball equipment. \n  \n 
URL:https://www.weliahealth.org/event/welia-center-fitness-room-open-studio-31/2025-12-23/
LOCATION:Welia Center: Fitness & Community Room\, 200 N 9th St\, Mora\, MN\, 55051-1147\, United States
CATEGORIES:Caravan,Classes
ORGANIZER;CN="Health and Wellness Coordinator":MAILTO:wellnesscenter@WeliaHealth.org
END:VEVENT
BEGIN:VEVENT
DTSTART;TZID=America/Chicago:20251230T110000
DTEND;TZID=America/Chicago:20251230T133000
DTSTAMP:20260420T174143
CREATED:20251120T170206Z
LAST-MODIFIED:20251120T170206Z
UID:10015105-1767092400-1767101400@www.weliahealth.org
SUMMARY:Welia Center Fitness Room Open Studio
DESCRIPTION:Welia Center Open Studio. This time is available for members to do a class of their choice or a workout on their own. First come first serve basis. Hundreds of on-demand classes available! The space is equipped with light weights\, yoga equipment\, kettlebells\, spin bikes\, and pickleball equipment. \n  \n 
URL:https://www.weliahealth.org/event/welia-center-fitness-room-open-studio-31/2025-12-30/
LOCATION:Welia Center: Fitness & Community Room\, 200 N 9th St\, Mora\, MN\, 55051-1147\, United States
CATEGORIES:Caravan,Classes
ORGANIZER;CN="Health and Wellness Coordinator":MAILTO:wellnesscenter@WeliaHealth.org
END:VEVENT
BEGIN:VEVENT
DTSTART;TZID=America/Chicago:20260217T130000
DTEND;TZID=America/Chicago:20260217T160000
DTSTAMP:20260420T174143
CREATED:20260213T180834Z
LAST-MODIFIED:20260310T133039Z
UID:10015253-1771333200-1771344000@www.weliahealth.org
SUMMARY:Welia Center Fitness Room Open Studio
DESCRIPTION:Welia Center Open Studio. This time is available for members to do a class of their choice or a workout on their own. First come first serve basis. Hundreds of on-demand classes available! The space is equipped with light weights\, yoga equipment\, kettlebells\, spin bikes\, and pickleball equipment.
URL:https://www.weliahealth.org/event/welia-center-fitness-room-open-studio-32/
LOCATION:Welia Center: Fitness & Community Room\, 200 N 9th St\, Mora\, MN\, 55051-1147\, United States
CATEGORIES:Caravan
END:VEVENT
BEGIN:VEVENT
DTSTART;TZID=America/Chicago:20260218T090000
DTEND;TZID=America/Chicago:20260218T160000
DTSTAMP:20260420T174143
CREATED:20260213T181206Z
LAST-MODIFIED:20260310T133039Z
UID:10015254-1771405200-1771430400@www.weliahealth.org
SUMMARY:Welia Center Fitness Room Open Studio
DESCRIPTION:Welia Center Open Studio. This time is available for members to do a class of their choice or a workout on their own. First come first serve basis. Hundreds of on-demand classes available! The space is equipped with light weights\, yoga equipment\, kettlebells\, spin bikes\, and pickleball equipment.
URL:https://www.weliahealth.org/event/welia-center-fitness-room-open-studio-33/2026-02-18/
CATEGORIES:Caravan
END:VEVENT
BEGIN:VEVENT
DTSTART;TZID=America/Chicago:20260219T090000
DTEND;TZID=America/Chicago:20260219T160000
DTSTAMP:20260420T174143
CREATED:20260213T181206Z
LAST-MODIFIED:20260310T133039Z
UID:10015255-1771491600-1771516800@www.weliahealth.org
SUMMARY:Welia Center Fitness Room Open Studio
DESCRIPTION:Welia Center Open Studio. This time is available for members to do a class of their choice or a workout on their own. First come first serve basis. Hundreds of on-demand classes available! The space is equipped with light weights\, yoga equipment\, kettlebells\, spin bikes\, and pickleball equipment.
URL:https://www.weliahealth.org/event/welia-center-fitness-room-open-studio-33/2026-02-19/
CATEGORIES:Caravan
END:VEVENT
BEGIN:VEVENT
DTSTART;TZID=America/Chicago:20260224T123000
DTEND;TZID=America/Chicago:20260224T133000
DTSTAMP:20260420T174143
CREATED:20260213T181206Z
LAST-MODIFIED:20260310T133039Z
UID:10015256-1771936200-1771939800@www.weliahealth.org
SUMMARY:Welia Center Fitness Room Open Studio
DESCRIPTION:Welia Center Open Studio. This time is available for members to do a class of their choice or a workout on their own. First come first serve basis. Hundreds of on-demand classes available! The space is equipped with light weights\, yoga equipment\, kettlebells\, spin bikes\, and pickleball equipment.
URL:https://www.weliahealth.org/event/welia-center-fitness-room-open-studio-33/2026-02-24/
CATEGORIES:Caravan
END:VEVENT
BEGIN:VEVENT
DTSTART;TZID=America/Chicago:20260225T090000
DTEND;TZID=America/Chicago:20260225T160000
DTSTAMP:20260420T174143
CREATED:20260213T181206Z
LAST-MODIFIED:20260310T133039Z
UID:10015257-1772010000-1772035200@www.weliahealth.org
SUMMARY:Welia Center Fitness Room Open Studio
DESCRIPTION:Welia Center Open Studio. This time is available for members to do a class of their choice or a workout on their own. First come first serve basis. Hundreds of on-demand classes available! The space is equipped with light weights\, yoga equipment\, kettlebells\, spin bikes\, and pickleball equipment.
URL:https://www.weliahealth.org/event/welia-center-fitness-room-open-studio-33/2026-02-25/
CATEGORIES:Caravan
END:VEVENT
BEGIN:VEVENT
DTSTART;TZID=America/Chicago:20260227T090000
DTEND;TZID=America/Chicago:20260227T140000
DTSTAMP:20260420T174143
CREATED:20260213T181206Z
LAST-MODIFIED:20260310T133039Z
UID:10015258-1772182800-1772200800@www.weliahealth.org
SUMMARY:Welia Center Fitness Room Open Studio
DESCRIPTION:Welia Center Open Studio. This time is available for members to do a class of their choice or a workout on their own. First come first serve basis. Hundreds of on-demand classes available! The space is equipped with light weights\, yoga equipment\, kettlebells\, spin bikes\, and pickleball equipment.
URL:https://www.weliahealth.org/event/welia-center-fitness-room-open-studio-33/2026-02-27/
CATEGORIES:Caravan
END:VEVENT
BEGIN:VEVENT
DTSTART;TZID=America/Chicago:20260302T090000
DTEND;TZID=America/Chicago:20260302T110000
DTSTAMP:20260420T174143
CREATED:20260224T144133Z
LAST-MODIFIED:20260310T133039Z
UID:10015302-1772442000-1772449200@www.weliahealth.org
SUMMARY:Welia Center Fitness Room Open Studio
DESCRIPTION:Welia Center Open Studio. This time is available for members to do a class of their choice or a workout on their own. First come first serve basis. Hundreds of on-demand classes available! The space is equipped with light weights\, yoga equipment\, kettlebells\, spin bikes\, and pickleball equipment.
URL:https://www.weliahealth.org/event/welia-center-fitness-room-open-studio-34/2026-03-02/
CATEGORIES:Caravan,Classes
ORGANIZER;CN="Health and Wellness Coordinator":MAILTO:wellnesscenter@WeliaHealth.org
END:VEVENT
END:VCALENDAR