BEGIN:VCALENDAR
VERSION:2.0
PRODID:-//Welia Health - ECPv6.15.20//NONSGML v1.0//EN
CALSCALE:GREGORIAN
METHOD:PUBLISH
X-ORIGINAL-URL:https://www.weliahealth.org
X-WR-CALDESC:Events for Welia Health
REFRESH-INTERVAL;VALUE=DURATION:PT1H
X-Robots-Tag:noindex
X-PUBLISHED-TTL:PT1H
BEGIN:VTIMEZONE
TZID:America/Chicago
BEGIN:DAYLIGHT
TZOFFSETFROM:-0600
TZOFFSETTO:-0500
TZNAME:CDT
DTSTART:20240310T080000
END:DAYLIGHT
BEGIN:STANDARD
TZOFFSETFROM:-0500
TZOFFSETTO:-0600
TZNAME:CST
DTSTART:20241103T070000
END:STANDARD
BEGIN:DAYLIGHT
TZOFFSETFROM:-0600
TZOFFSETTO:-0500
TZNAME:CDT
DTSTART:20250309T080000
END:DAYLIGHT
BEGIN:STANDARD
TZOFFSETFROM:-0500
TZOFFSETTO:-0600
TZNAME:CST
DTSTART:20251102T070000
END:STANDARD
BEGIN:DAYLIGHT
TZOFFSETFROM:-0600
TZOFFSETTO:-0500
TZNAME:CDT
DTSTART:20260308T080000
END:DAYLIGHT
BEGIN:STANDARD
TZOFFSETFROM:-0500
TZOFFSETTO:-0600
TZNAME:CST
DTSTART:20261101T070000
END:STANDARD
END:VTIMEZONE
BEGIN:VEVENT
DTSTART;TZID=America/Chicago:20251112T083000
DTEND;TZID=America/Chicago:20251112T160000
DTSTAMP:20260419T083913
CREATED:20251120T170206Z
LAST-MODIFIED:20251120T170206Z
UID:10015088-1762936200-1762963200@www.weliahealth.org
SUMMARY:Welia Center Fitness Room Open Studio
DESCRIPTION:Welia Center Open Studio. This time is available for members to do a class of their choice or a workout on their own. First come first serve basis. Hundreds of on-demand classes available! The space is equipped with light weights\, yoga equipment\, kettlebells\, spin bikes\, and pickleball equipment. \n  \n 
URL:https://www.weliahealth.org/event/welia-center-fitness-room-open-studio-31/2025-11-12/
LOCATION:Welia Center: Fitness & Community Room\, 200 N 9th St\, Mora\, MN\, 55051-1147\, United States
CATEGORIES:Caravan,Classes
ORGANIZER;CN="Health and Wellness Coordinator":MAILTO:wellnesscenter@WeliaHealth.org
END:VEVENT
BEGIN:VEVENT
DTSTART;TZID=America/Chicago:20251112T130000
DTEND;TZID=America/Chicago:20251112T143000
DTSTAMP:20260419T083913
CREATED:20251007T173453Z
LAST-MODIFIED:20251007T173453Z
UID:10015077-1762952400-1762957800@www.weliahealth.org
SUMMARY:Caregiving Through the Holidays: A Special Workshop
DESCRIPTION:Welia Health’s Caregivers Support Group is excited to welcome Collette Colucci\, Caregiver Consultant from Family Pathways\, who will present this special workshop on aging. Topics will include the following: \n\nChallenges for families around the holidays\nSigns of stress and how to avoid it\nTips for hosting or attending events\nParticipating in and adapting holiday traditions\n\nPlus—FREE DOOR PRIZES! \nQuestions? \nContact Haley Hemmerich at 320.225.3576 or Hhemmerich@welia.org. \n👉 Download the event flyer.
URL:https://www.weliahealth.org/event/caregiving-through-the-holidays-a-special-workshop/
LOCATION:Welia Health–Mora: Conference Room 2\, 301 MN-65\, Mora\, MN\, 55051\, United States
CATEGORIES:Caregivers,Support Groups
ATTACH;FMTTYPE=image/jpeg:https://www.weliahealth.org/wp-content/uploads/2018/12/CaregiversSG-430x200.jpg
END:VEVENT
END:VCALENDAR