BEGIN:VCALENDAR
VERSION:2.0
PRODID:-//Welia Health - ECPv6.15.20//NONSGML v1.0//EN
CALSCALE:GREGORIAN
METHOD:PUBLISH
X-ORIGINAL-URL:https://www.weliahealth.org
X-WR-CALDESC:Events for Welia Health
REFRESH-INTERVAL;VALUE=DURATION:PT1H
X-Robots-Tag:noindex
X-PUBLISHED-TTL:PT1H
BEGIN:VTIMEZONE
TZID:America/Chicago
BEGIN:DAYLIGHT
TZOFFSETFROM:-0600
TZOFFSETTO:-0500
TZNAME:CDT
DTSTART:20240310T080000
END:DAYLIGHT
BEGIN:STANDARD
TZOFFSETFROM:-0500
TZOFFSETTO:-0600
TZNAME:CST
DTSTART:20241103T070000
END:STANDARD
BEGIN:DAYLIGHT
TZOFFSETFROM:-0600
TZOFFSETTO:-0500
TZNAME:CDT
DTSTART:20250309T080000
END:DAYLIGHT
BEGIN:STANDARD
TZOFFSETFROM:-0500
TZOFFSETTO:-0600
TZNAME:CST
DTSTART:20251102T070000
END:STANDARD
BEGIN:DAYLIGHT
TZOFFSETFROM:-0600
TZOFFSETTO:-0500
TZNAME:CDT
DTSTART:20260308T080000
END:DAYLIGHT
BEGIN:STANDARD
TZOFFSETFROM:-0500
TZOFFSETTO:-0600
TZNAME:CST
DTSTART:20261101T070000
END:STANDARD
END:VTIMEZONE
BEGIN:VEVENT
DTSTART;TZID=America/Chicago:20250822T110000
DTEND;TZID=America/Chicago:20250822T130000
DTSTAMP:20260421T041019
CREATED:20250619T170849Z
LAST-MODIFIED:20250619T170849Z
UID:10014996-1755860400-1755867600@www.weliahealth.org
SUMMARY:Welia Health Giveaway at the Pine City Farmer's Market
DESCRIPTION:Visit us at the Pine City Farmers’ Market to learn simple steps to boost your mobility\, including range of motion\, strength\, balance\, coordination\, and physical stamina. \n\nWelia Health is giving away free stretching bands to help inspire you to get moving! \n\n 
URL:https://www.weliahealth.org/event/giveaway-at-the-pine-city-farmers-market-8-22/
LOCATION:Pine City Fairgrounds\, 707 1st Ave NW\, Pine City\, MN\, 55063\, United States
CATEGORIES:Community Events,Farmer's Market
ATTACH;FMTTYPE=image/jpeg:https://www.weliahealth.org/wp-content/uploads/2025/06/430x200_Wk4_Aug1_Event_Mobility.jpg
END:VEVENT
END:VCALENDAR