BEGIN:VCALENDAR
VERSION:2.0
PRODID:-//Welia Health - ECPv6.15.20//NONSGML v1.0//EN
CALSCALE:GREGORIAN
METHOD:PUBLISH
X-ORIGINAL-URL:https://www.weliahealth.org
X-WR-CALDESC:Events for Welia Health
REFRESH-INTERVAL;VALUE=DURATION:PT1H
X-Robots-Tag:noindex
X-PUBLISHED-TTL:PT1H
BEGIN:VTIMEZONE
TZID:America/Chicago
BEGIN:DAYLIGHT
TZOFFSETFROM:-0600
TZOFFSETTO:-0500
TZNAME:CDT
DTSTART:20240310T080000
END:DAYLIGHT
BEGIN:STANDARD
TZOFFSETFROM:-0500
TZOFFSETTO:-0600
TZNAME:CST
DTSTART:20241103T070000
END:STANDARD
BEGIN:DAYLIGHT
TZOFFSETFROM:-0600
TZOFFSETTO:-0500
TZNAME:CDT
DTSTART:20250309T080000
END:DAYLIGHT
BEGIN:STANDARD
TZOFFSETFROM:-0500
TZOFFSETTO:-0600
TZNAME:CST
DTSTART:20251102T070000
END:STANDARD
BEGIN:DAYLIGHT
TZOFFSETFROM:-0600
TZOFFSETTO:-0500
TZNAME:CDT
DTSTART:20260308T080000
END:DAYLIGHT
BEGIN:STANDARD
TZOFFSETFROM:-0500
TZOFFSETTO:-0600
TZNAME:CST
DTSTART:20261101T070000
END:STANDARD
END:VTIMEZONE
BEGIN:VEVENT
DTSTART;TZID=America/Chicago:20250101T000000
DTEND;TZID=America/Chicago:20250131T235959
DTSTAMP:20260420T082127
CREATED:20241211T184000Z
LAST-MODIFIED:20241211T203310Z
UID:10014579-1735689600-1738367999@www.weliahealth.org
SUMMARY:Welia Center New Year Challenge
DESCRIPTION:Welcome to the New Year. Let’s use this time as an opportunity to build healthy habits.  Join us this month for our New Year Workout Challenge! \n\n\n\nComplete 15 workouts at the Walking track and receive a prize to help continue your workout journey into the New Year.  Additionally\, join the Log Your Laps Program and turn in a card to receive a prize to help continue your workout journey. \n\n\n\nUse the workout log below to keep track of your workouts.  \n\n\n\n 2025 workout log-Welia CenterDownload
URL:https://www.weliahealth.org/event/welia-center-new-year-challenge/
LOCATION:Welia Center\, 200 N 9th St\, Mora\, MN\, 55051-1147\, United States
CATEGORIES:Caravan
ATTACH;FMTTYPE=image/jpeg:https://www.weliahealth.org/wp-content/uploads/2021/04/Generic-class-480x200-1.jpg
END:VEVENT
BEGIN:VEVENT
DTSTART;TZID=America/Chicago:20250129T060000
DTEND;TZID=America/Chicago:20250129T110000
DTSTAMP:20260420T082127
CREATED:20241209T203430Z
LAST-MODIFIED:20241209T203434Z
UID:10014446-1738130400-1738148400@www.weliahealth.org
SUMMARY:Welia Center Fitness Room Open Studio
DESCRIPTION:Welia Center Open Studio. This time is available for members to do a class of their choice or a workout on their own. First come first serve basis. Hundreds of on-demand classes available! The space is equipped with light weights\, yoga equipment\, kettlebells\, spin bikes\, and pickleball equipment.
URL:https://www.weliahealth.org/event/welia-center-fitness-room-open-studio-14/2025-01-29/
LOCATION:Welia Center: Fitness & Community Room\, 200 N 9th St\, Mora\, MN\, 55051-1147\, United States
CATEGORIES:Caravan
ATTACH;FMTTYPE=image/jpeg:https://www.weliahealth.org/wp-content/uploads/2021/04/Generic-class-480x200-1.jpg
END:VEVENT
BEGIN:VEVENT
DTSTART;TZID=America/Chicago:20250129T120000
DTEND;TZID=America/Chicago:20250129T163000
DTSTAMP:20260420T082127
CREATED:20241211T145656Z
LAST-MODIFIED:20241211T145700Z
UID:10014521-1738152000-1738168200@www.weliahealth.org
SUMMARY:Welia Center Fitness Room Open Studio
DESCRIPTION:Welia Center Open Studio. This time is available for members to do a class of their choice or a workout on their own. First come first serve basis. Hundreds of on-demand classes available! The space is equipped with light weights\, yoga equipment\, kettlebells\, spin bikes\, and pickleball equipment.
URL:https://www.weliahealth.org/event/welia-center-fitness-room-open-studio-19/2025-01-29/
LOCATION:Welia Center: Fitness & Community Room\, 200 N 9th St\, Mora\, MN\, 55051-1147\, United States
CATEGORIES:Caravan
ATTACH;FMTTYPE=image/jpeg:https://www.weliahealth.org/wp-content/uploads/2021/04/Generic-class-480x200-1.jpg
END:VEVENT
BEGIN:VEVENT
DTSTART;TZID=America/Chicago:20250129T133000
DTEND;TZID=America/Chicago:20250129T143000
DTSTAMP:20260420T082127
CREATED:20241231T144724Z
LAST-MODIFIED:20241231T144729Z
UID:10014877-1738157400-1738161000@www.weliahealth.org
SUMMARY:Diabetes Support Group - Pine City
DESCRIPTION:Living with diabetes can be overwhelming. Join our supportive community of individuals with diabetes\, their families\, and friends. Our group discussions are led by knowledgeable healthcare professionals and focus on topics such as nutrition\, exercise\, medication management\, and emotional well-being. \n\n\n\nTo learn more\, call our diabetes educators at 320.679.1313. The group meets the last Wednesday of each month.
URL:https://www.weliahealth.org/event/diabetes-support-group-pine-city-6/
LOCATION:Pine City Public Library\, 300 5th Sr SE\, Pine City\, MN\, 55063\, United States
CATEGORIES:Diabetes (Pine City),Support Groups
ATTACH;FMTTYPE=image/jpeg:https://www.weliahealth.org/wp-content/uploads/2018/12/Diabetes-SG-430x200.jpg
END:VEVENT
END:VCALENDAR