BEGIN:VCALENDAR
VERSION:2.0
PRODID:-//Welia Health - ECPv6.15.20//NONSGML v1.0//EN
CALSCALE:GREGORIAN
METHOD:PUBLISH
X-WR-CALNAME:Welia Health
X-ORIGINAL-URL:https://www.weliahealth.org
X-WR-CALDESC:Events for Welia Health
REFRESH-INTERVAL;VALUE=DURATION:PT1H
X-Robots-Tag:noindex
X-PUBLISHED-TTL:PT1H
BEGIN:VTIMEZONE
TZID:America/Chicago
BEGIN:DAYLIGHT
TZOFFSETFROM:-0600
TZOFFSETTO:-0500
TZNAME:CDT
DTSTART:20230312T080000
END:DAYLIGHT
BEGIN:STANDARD
TZOFFSETFROM:-0500
TZOFFSETTO:-0600
TZNAME:CST
DTSTART:20231105T070000
END:STANDARD
BEGIN:DAYLIGHT
TZOFFSETFROM:-0600
TZOFFSETTO:-0500
TZNAME:CDT
DTSTART:20240310T080000
END:DAYLIGHT
BEGIN:STANDARD
TZOFFSETFROM:-0500
TZOFFSETTO:-0600
TZNAME:CST
DTSTART:20241103T070000
END:STANDARD
BEGIN:DAYLIGHT
TZOFFSETFROM:-0600
TZOFFSETTO:-0500
TZNAME:CDT
DTSTART:20250309T080000
END:DAYLIGHT
BEGIN:STANDARD
TZOFFSETFROM:-0500
TZOFFSETTO:-0600
TZNAME:CST
DTSTART:20251102T070000
END:STANDARD
END:VTIMEZONE
BEGIN:VEVENT
DTSTART;TZID=America/Chicago:20241128T060000
DTEND;TZID=America/Chicago:20241128T100000
DTSTAMP:20260419T120743
CREATED:20241114T013947Z
LAST-MODIFIED:20241114T014125Z
UID:10014409-1732773600-1732788000@www.weliahealth.org
SUMMARY:Welia Center Member Turkey Trot
DESCRIPTION:Gobble\, wobble\, trot!\n\n\n\n\n\n\n\n\n\n\n\nGet your pre-feast workout at the Welia Center Member Turkey Trot!  \n\n\n\nThis self-timed and self-reported 5k takes place Thanksgiving morning from 6am-10am. Fastest time wins a prize basket!  \n\n\n\nNo registration needed – just show up and run\, walk or trot!  \n\n\n\nQuestions? Email wellnesscenter@weliahealth.org. \n\n\n\nSee you there!
URL:https://www.weliahealth.org/event/welia-center-member-turkey-trot/
LOCATION:Welia Center: Walking Track\, 200 N 9th St\, Mora\, MN\, 55051-1147\, United States
CATEGORIES:Community Events
ATTACH;FMTTYPE=image/png:https://www.weliahealth.org/wp-content/uploads/2024/11/tt2.png
END:VEVENT
END:VCALENDAR