BEGIN:VCALENDAR
VERSION:2.0
PRODID:-//Welia Health - ECPv6.15.20//NONSGML v1.0//EN
CALSCALE:GREGORIAN
METHOD:PUBLISH
X-ORIGINAL-URL:https://www.weliahealth.org
X-WR-CALDESC:Events for Welia Health
REFRESH-INTERVAL;VALUE=DURATION:PT1H
X-Robots-Tag:noindex
X-PUBLISHED-TTL:PT1H
BEGIN:VTIMEZONE
TZID:America/Chicago
BEGIN:DAYLIGHT
TZOFFSETFROM:-0600
TZOFFSETTO:-0500
TZNAME:CDT
DTSTART:20230312T080000
END:DAYLIGHT
BEGIN:STANDARD
TZOFFSETFROM:-0500
TZOFFSETTO:-0600
TZNAME:CST
DTSTART:20231105T070000
END:STANDARD
BEGIN:DAYLIGHT
TZOFFSETFROM:-0600
TZOFFSETTO:-0500
TZNAME:CDT
DTSTART:20240310T080000
END:DAYLIGHT
BEGIN:STANDARD
TZOFFSETFROM:-0500
TZOFFSETTO:-0600
TZNAME:CST
DTSTART:20241103T070000
END:STANDARD
BEGIN:DAYLIGHT
TZOFFSETFROM:-0600
TZOFFSETTO:-0500
TZNAME:CDT
DTSTART:20250309T080000
END:DAYLIGHT
BEGIN:STANDARD
TZOFFSETFROM:-0500
TZOFFSETTO:-0600
TZNAME:CST
DTSTART:20251102T070000
END:STANDARD
END:VTIMEZONE
BEGIN:VEVENT
DTSTART;TZID=America/Chicago:20240628T060000
DTEND;TZID=America/Chicago:20240628T063000
DTSTAMP:20260419T070605
CREATED:20240614T144013Z
LAST-MODIFIED:20240614T144017Z
UID:10008434-1719554400-1719556200@www.weliahealth.org
SUMMARY:Class Choice
DESCRIPTION:Choose a class from one of the Wellbeats channels! Anything from yoga\, Zumba\, sculpting\, step and more!
URL:https://www.weliahealth.org/event/class-choice/2024-06-28/
LOCATION:Welia Center: Fitness & Community Room\, 200 N 9th St\, Mora\, MN\, 55051-1147\, United States
CATEGORIES:Caravan
ATTACH;FMTTYPE=image/jpeg:https://www.weliahealth.org/wp-content/uploads/2023/05/Wellbeats-Zumba-430x200-1.jpg
END:VEVENT
BEGIN:VEVENT
DTSTART;TZID=America/Chicago:20240628T064500
DTEND;TZID=America/Chicago:20240628T071500
DTSTAMP:20260419T070605
CREATED:20240614T144357Z
LAST-MODIFIED:20240614T144400Z
UID:10008439-1719557100-1719558900@www.weliahealth.org
SUMMARY:Yoga Class
DESCRIPTION:
URL:https://www.weliahealth.org/event/yoga-class/2024-06-28/
LOCATION:Welia Center: Fitness & Community Room\, 200 N 9th St\, Mora\, MN\, 55051-1147\, United States
CATEGORIES:Caravan
ATTACH;FMTTYPE=image/png:https://www.weliahealth.org/wp-content/uploads/2021/12/yoga-class.png
END:VEVENT
BEGIN:VEVENT
DTSTART;TZID=America/Chicago:20240628T071500
DTEND;TZID=America/Chicago:20240628T080000
DTSTAMP:20260419T070605
CREATED:20240614T144736Z
LAST-MODIFIED:20240614T145154Z
UID:10008444-1719558900-1719561600@www.weliahealth.org
SUMMARY:Pickleball
DESCRIPTION:Indoor open pickleball court in the community fitness room.
URL:https://www.weliahealth.org/event/pickleball/2024-06-28/
LOCATION:Welia Center\, 200 N 9th St\, Mora\, MN\, 55051-1147\, United States
CATEGORIES:Caravan
ATTACH;FMTTYPE=image/jpeg:https://www.weliahealth.org/wp-content/uploads/2024/05/pickleball-1.jpg
END:VEVENT
BEGIN:VEVENT
DTSTART;TZID=America/Chicago:20240628T080000
DTEND;TZID=America/Chicago:20240628T083000
DTSTAMP:20260419T070605
CREATED:20240614T145718Z
LAST-MODIFIED:20240614T145722Z
UID:10008449-1719561600-1719563400@www.weliahealth.org
SUMMARY:Class Choice
DESCRIPTION:
URL:https://www.weliahealth.org/event/class-choice-4/2024-06-28/
LOCATION:Welia Center: Fitness & Community Room\, 200 N 9th St\, Mora\, MN\, 55051-1147\, United States
CATEGORIES:Caravan
ATTACH;FMTTYPE=image/jpeg:https://www.weliahealth.org/wp-content/uploads/2023/05/Wellbeats-Zumba-430x200-1.jpg
END:VEVENT
END:VCALENDAR