BEGIN:VCALENDAR
VERSION:2.0
PRODID:-//Welia Health - ECPv6.15.20//NONSGML v1.0//EN
CALSCALE:GREGORIAN
METHOD:PUBLISH
X-ORIGINAL-URL:https://www.weliahealth.org
X-WR-CALDESC:Events for Welia Health
REFRESH-INTERVAL;VALUE=DURATION:PT1H
X-Robots-Tag:noindex
X-PUBLISHED-TTL:PT1H
BEGIN:VTIMEZONE
TZID:America/Chicago
BEGIN:DAYLIGHT
TZOFFSETFROM:-0600
TZOFFSETTO:-0500
TZNAME:CDT
DTSTART:20230312T080000
END:DAYLIGHT
BEGIN:STANDARD
TZOFFSETFROM:-0500
TZOFFSETTO:-0600
TZNAME:CST
DTSTART:20231105T070000
END:STANDARD
BEGIN:DAYLIGHT
TZOFFSETFROM:-0600
TZOFFSETTO:-0500
TZNAME:CDT
DTSTART:20240310T080000
END:DAYLIGHT
BEGIN:STANDARD
TZOFFSETFROM:-0500
TZOFFSETTO:-0600
TZNAME:CST
DTSTART:20241103T070000
END:STANDARD
BEGIN:DAYLIGHT
TZOFFSETFROM:-0600
TZOFFSETTO:-0500
TZNAME:CDT
DTSTART:20250309T080000
END:DAYLIGHT
BEGIN:STANDARD
TZOFFSETFROM:-0500
TZOFFSETTO:-0600
TZNAME:CST
DTSTART:20251102T070000
END:STANDARD
END:VTIMEZONE
BEGIN:VEVENT
DTSTART;TZID=America/Chicago:20240613T083000
DTEND;TZID=America/Chicago:20240613T091500
DTSTAMP:20260419T070601
CREATED:20240229T144718Z
LAST-MODIFIED:20240229T144852Z
UID:10006318-1718267400-1718270100@www.weliahealth.org
SUMMARY:Class Choice
DESCRIPTION:Choose a class from one of the Wellbeats channels! Anything from yoga\, Zumba\, sculpting\, step and more!
URL:https://www.weliahealth.org/event/class-choice-3/2024-06-13/
LOCATION:Welia Center: Fitness & Community Room\, 200 N 9th St\, Mora\, MN\, 55051-1147\, United States
CATEGORIES:Caravan
ATTACH;FMTTYPE=image/jpeg:https://www.weliahealth.org/wp-content/uploads/2023/05/Wellbeats-Zumba-430x200-1.jpg
END:VEVENT
BEGIN:VEVENT
DTSTART;TZID=America/Chicago:20240613T090000
DTEND;TZID=America/Chicago:20240613T143000
DTSTAMP:20260419T070601
CREATED:20240115T182610Z
LAST-MODIFIED:20240326T145214Z
UID:10005605-1718269200-1718289000@www.weliahealth.org
SUMMARY:Safe Sitter Class - Hinckley
DESCRIPTION:Safe Sitter® is designed to prepare students in grades 6-8 to be safe when they’re home alone\, watching younger siblings\, or babysitting. The Instructor-led class is filled with fun games and role-playing exercises. \n\n\n\nPlease contact the site coordinator below to sign up for a Safe Sitter class this June! Space is limited. The cost is $30. \n\n\n\n\nClasses designed for 11-14-year-olds\n\n\n\nEach class is limited to 20 students\n\n\n\nThe curriculum includes infant/child CPR\n\n\n\nPlease pack a lunch\n\n\n\nGraduation ceremony to follow. Parents are asked to attend!\n\n\n\nBe sure to sign the Image Release for Welia Health linked in the Sign-up Genius  — Image release – Welia Health\n\n\n\n\n\nSite coordinator: Pam Riggle\, Community Education Coordinator\n\n\n\nRegister: commed@isd2165.org
URL:https://www.weliahealth.org/event/safe-sitter-class-hinckley/
LOCATION:Hinckley-Finlayson Fitness Center\, 201 Main Street E\, Hinckley\, MN\, 55037\, United States
CATEGORIES:Classes,Safe Sitter
ATTACH;FMTTYPE=image/jpeg:https://www.weliahealth.org/wp-content/uploads/2022/05/safe-sitter.jpeg
END:VEVENT
BEGIN:VEVENT
DTSTART;TZID=America/Chicago:20240613T091500
DTEND;TZID=America/Chicago:20240613T100500
DTSTAMP:20260419T070601
CREATED:20240108T135403Z
LAST-MODIFIED:20240108T135405Z
UID:10004639-1718270100-1718273100@www.weliahealth.org
SUMMARY:Silver & Fit
DESCRIPTION:Designed for 65+\, this class is for the active adult looking for a challenging free-standing workout.  Increase heart health\, muscle endurance\, strength\, mobility\, and balance.
URL:https://www.weliahealth.org/event/silver-fit/2024-06-13/
LOCATION:Welia Center\, 200 N 9th St\, Mora\, MN\, 55051-1147\, United States
CATEGORIES:Caravan
ATTACH;FMTTYPE=image/jpeg:https://www.weliahealth.org/wp-content/uploads/2021/04/Silver-fit-480x200-1.jpg
END:VEVENT
END:VCALENDAR