BEGIN:VCALENDAR
VERSION:2.0
PRODID:-//Welia Health - ECPv6.15.20//NONSGML v1.0//EN
CALSCALE:GREGORIAN
METHOD:PUBLISH
X-ORIGINAL-URL:https://www.weliahealth.org
X-WR-CALDESC:Events for Welia Health
REFRESH-INTERVAL;VALUE=DURATION:PT1H
X-Robots-Tag:noindex
X-PUBLISHED-TTL:PT1H
BEGIN:VTIMEZONE
TZID:America/Chicago
BEGIN:DAYLIGHT
TZOFFSETFROM:-0600
TZOFFSETTO:-0500
TZNAME:CDT
DTSTART:20230312T080000
END:DAYLIGHT
BEGIN:STANDARD
TZOFFSETFROM:-0500
TZOFFSETTO:-0600
TZNAME:CST
DTSTART:20231105T070000
END:STANDARD
BEGIN:DAYLIGHT
TZOFFSETFROM:-0600
TZOFFSETTO:-0500
TZNAME:CDT
DTSTART:20240310T080000
END:DAYLIGHT
BEGIN:STANDARD
TZOFFSETFROM:-0500
TZOFFSETTO:-0600
TZNAME:CST
DTSTART:20241103T070000
END:STANDARD
BEGIN:DAYLIGHT
TZOFFSETFROM:-0600
TZOFFSETTO:-0500
TZNAME:CDT
DTSTART:20250309T080000
END:DAYLIGHT
BEGIN:STANDARD
TZOFFSETFROM:-0500
TZOFFSETTO:-0600
TZNAME:CST
DTSTART:20251102T070000
END:STANDARD
END:VTIMEZONE
BEGIN:VEVENT
DTSTART;TZID=America/Chicago:20240521T083000
DTEND;TZID=America/Chicago:20240521T091500
DTSTAMP:20260419T184326
CREATED:20240229T144718Z
LAST-MODIFIED:20240229T144852Z
UID:10006311-1716280200-1716282900@www.weliahealth.org
SUMMARY:Class Choice
DESCRIPTION:Choose a class from one of the Wellbeats channels! Anything from yoga\, Zumba\, sculpting\, step and more!
URL:https://www.weliahealth.org/event/class-choice-3/2024-05-21/
LOCATION:Welia Center: Fitness & Community Room\, 200 N 9th St\, Mora\, MN\, 55051-1147\, United States
CATEGORIES:Caravan
ATTACH;FMTTYPE=image/jpeg:https://www.weliahealth.org/wp-content/uploads/2023/05/Wellbeats-Zumba-430x200-1.jpg
END:VEVENT
BEGIN:VEVENT
DTSTART;TZID=America/Chicago:20240521T091500
DTEND;TZID=America/Chicago:20240521T100500
DTSTAMP:20260419T184326
CREATED:20240108T135403Z
LAST-MODIFIED:20240108T135405Z
UID:10004625-1716282900-1716285900@www.weliahealth.org
SUMMARY:Silver & Fit
DESCRIPTION:Designed for 65+\, this class is for the active adult looking for a challenging free-standing workout.  Increase heart health\, muscle endurance\, strength\, mobility\, and balance.
URL:https://www.weliahealth.org/event/silver-fit/2024-05-21/
LOCATION:Welia Center\, 200 N 9th St\, Mora\, MN\, 55051-1147\, United States
CATEGORIES:Caravan
ATTACH;FMTTYPE=image/jpeg:https://www.weliahealth.org/wp-content/uploads/2021/04/Silver-fit-480x200-1.jpg
END:VEVENT
BEGIN:VEVENT
DTSTART;TZID=America/Chicago:20240521T160000
DTEND;TZID=America/Chicago:20240521T163000
DTSTAMP:20260419T184326
CREATED:20240229T143546Z
LAST-MODIFIED:20240229T143742Z
UID:10005918-1716307200-1716309000@www.weliahealth.org
SUMMARY:Class Choice
DESCRIPTION:Choose a class from one of the Wellbeats channels! Anything from yoga\, Zumba\, sculpting\, step and more!
URL:https://www.weliahealth.org/event/class-choice-2/2024-05-21/
LOCATION:Welia Center: Fitness & Community Room\, 200 N 9th St\, Mora\, MN\, 55051-1147\, United States
CATEGORIES:Caravan
ATTACH;FMTTYPE=image/jpeg:https://www.weliahealth.org/wp-content/uploads/2023/05/Wellbeats-Zumba-430x200-1.jpg
END:VEVENT
BEGIN:VEVENT
DTSTART;TZID=America/Chicago:20240521T170000
DTEND;TZID=America/Chicago:20240521T190000
DTSTAMP:20260419T184326
CREATED:20231227T015106Z
LAST-MODIFIED:20231227T020713Z
UID:10003847-1716310800-1716318000@www.weliahealth.org
SUMMARY:Prenatal Education\, Mora
DESCRIPTION:Congratulations!\n\n\n\n\n\n\n\nPregnancy—what an exciting and emotional time.\n\n\n\n\n\n\n\nWelia Health’s expert-led classes cover fetal development\, labor and delivery\, hospitalization and newborn care. You’ll soak up essential knowledge in a supportive environment. Prepare for parenthood with practical advice and skills\, leaving no question unanswered. \n\n\n\nLearn more about the topics to be covered during this four-part series. \n\n\n\nClasses begin the first Tuesday of the month and meet weekly for four weeks from 5–7pm. \n\n\n\n2024 Prenatal Education Dates \n\n\n\nFebruary 6\, 13\, 20 and 27May 7\, 14\, 21\, and 28 August 6\, 13\, 20 and 27November 5\, 12\, 19 and 26\n\n\n\nFor more information\, please get in touch with Welia Health at 320.225.3528. \n\n\n\nRegistration for this free series is required. \n\n\n\n[contact-form-7 id=”42160″ title=”Prenatal Classes 2024″]
URL:https://www.weliahealth.org/event/prenatal-education-mora-2/2024-05-21/
LOCATION:Welia Health–Mora: Conference Rooms\, 301 MN-65\, Mora\, MN\, 55051\, United States
CATEGORIES:Classes,Prenatal
ATTACH;FMTTYPE=image/jpeg:https://www.weliahealth.org/wp-content/uploads/2018/12/Prenatal-Class-430x200.jpg
END:VEVENT
END:VCALENDAR