BEGIN:VCALENDAR
VERSION:2.0
PRODID:-//Welia Health - ECPv6.15.20//NONSGML v1.0//EN
CALSCALE:GREGORIAN
METHOD:PUBLISH
X-ORIGINAL-URL:https://www.weliahealth.org
X-WR-CALDESC:Events for Welia Health
REFRESH-INTERVAL;VALUE=DURATION:PT1H
X-Robots-Tag:noindex
X-PUBLISHED-TTL:PT1H
BEGIN:VTIMEZONE
TZID:America/Chicago
BEGIN:DAYLIGHT
TZOFFSETFROM:-0600
TZOFFSETTO:-0500
TZNAME:CDT
DTSTART:20230312T080000
END:DAYLIGHT
BEGIN:STANDARD
TZOFFSETFROM:-0500
TZOFFSETTO:-0600
TZNAME:CST
DTSTART:20231105T070000
END:STANDARD
BEGIN:DAYLIGHT
TZOFFSETFROM:-0600
TZOFFSETTO:-0500
TZNAME:CDT
DTSTART:20240310T080000
END:DAYLIGHT
BEGIN:STANDARD
TZOFFSETFROM:-0500
TZOFFSETTO:-0600
TZNAME:CST
DTSTART:20241103T070000
END:STANDARD
BEGIN:DAYLIGHT
TZOFFSETFROM:-0600
TZOFFSETTO:-0500
TZNAME:CDT
DTSTART:20250309T080000
END:DAYLIGHT
BEGIN:STANDARD
TZOFFSETFROM:-0500
TZOFFSETTO:-0600
TZNAME:CST
DTSTART:20251102T070000
END:STANDARD
END:VTIMEZONE
BEGIN:VEVENT
DTSTART;TZID=America/Chicago:20240513T080000
DTEND;TZID=America/Chicago:20240517T170000
DTSTAMP:20260419T203824
CREATED:20240429T153604Z
LAST-MODIFIED:20240429T153809Z
UID:10006514-1715587200-1715965200@www.weliahealth.org
SUMMARY:Free Confidential STD/STI Testing
DESCRIPTION:Want to know your status? You’re in the right place! Welia Health is offering no cost\, private and confidential sexually transmitted infections (STD/STI) testing for people ages 13-25. Just walk-in\, no appointment needed. Offered May 13 – 17th\, 2024.  \n\n\n\nMora Clinic: 7:30 am – 5:00 pm; Pine City & Hinckley Clinics: 8:00 am – 5:00 pm \n\n\n\nFor questions\, contact 320.679.1313 \n\n\n\n\n\n\n\nFREE
URL:https://www.weliahealth.org/event/free-confidential-std-sti-testing-4/
ATTACH;FMTTYPE=image/jpeg:https://www.weliahealth.org/wp-content/uploads/2024/04/iStock-1255356342.jpg
END:VEVENT
BEGIN:VEVENT
DTSTART;TZID=America/Chicago:20240516T083000
DTEND;TZID=America/Chicago:20240516T091500
DTSTAMP:20260419T203824
CREATED:20240229T144718Z
LAST-MODIFIED:20240229T144852Z
UID:10006310-1715848200-1715850900@www.weliahealth.org
SUMMARY:Class Choice
DESCRIPTION:Choose a class from one of the Wellbeats channels! Anything from yoga\, Zumba\, sculpting\, step and more!
URL:https://www.weliahealth.org/event/class-choice-3/2024-05-16/
LOCATION:Welia Center: Fitness & Community Room\, 200 N 9th St\, Mora\, MN\, 55051-1147\, United States
CATEGORIES:Caravan
ATTACH;FMTTYPE=image/jpeg:https://www.weliahealth.org/wp-content/uploads/2023/05/Wellbeats-Zumba-430x200-1.jpg
END:VEVENT
BEGIN:VEVENT
DTSTART;TZID=America/Chicago:20240516T091500
DTEND;TZID=America/Chicago:20240516T100500
DTSTAMP:20260419T203824
CREATED:20240108T135403Z
LAST-MODIFIED:20240108T135405Z
UID:10004623-1715850900-1715853900@www.weliahealth.org
SUMMARY:Silver & Fit
DESCRIPTION:Designed for 65+\, this class is for the active adult looking for a challenging free-standing workout.  Increase heart health\, muscle endurance\, strength\, mobility\, and balance.
URL:https://www.weliahealth.org/event/silver-fit/2024-05-16/
LOCATION:Welia Center\, 200 N 9th St\, Mora\, MN\, 55051-1147\, United States
CATEGORIES:Caravan
ATTACH;FMTTYPE=image/jpeg:https://www.weliahealth.org/wp-content/uploads/2021/04/Silver-fit-480x200-1.jpg
END:VEVENT
BEGIN:VEVENT
DTSTART;TZID=America/Chicago:20240516T130000
DTEND;TZID=America/Chicago:20240516T160000
DTSTAMP:20260419T203824
CREATED:20240506T212341Z
LAST-MODIFIED:20240506T212808Z
UID:10008388-1715864400-1715875200@www.weliahealth.org
SUMMARY:Pickleball Open Court
DESCRIPTION:Open pickleball court time.
URL:https://www.weliahealth.org/event/pickleball-open-court/2024-05-16/
LOCATION:Welia Center: Fitness & Community Room\, 200 N 9th St\, Mora\, MN\, 55051-1147\, United States
CATEGORIES:Caravan
ATTACH;FMTTYPE=image/jpeg:https://www.weliahealth.org/wp-content/uploads/2024/05/pickleball-1.jpg
END:VEVENT
BEGIN:VEVENT
DTSTART;TZID=America/Chicago:20240516T160000
DTEND;TZID=America/Chicago:20240516T163000
DTSTAMP:20260419T203824
CREATED:20240229T143546Z
LAST-MODIFIED:20240229T143742Z
UID:10005916-1715875200-1715877000@www.weliahealth.org
SUMMARY:Class Choice
DESCRIPTION:Choose a class from one of the Wellbeats channels! Anything from yoga\, Zumba\, sculpting\, step and more!
URL:https://www.weliahealth.org/event/class-choice-2/2024-05-16/
LOCATION:Welia Center: Fitness & Community Room\, 200 N 9th St\, Mora\, MN\, 55051-1147\, United States
CATEGORIES:Caravan
ATTACH;FMTTYPE=image/jpeg:https://www.weliahealth.org/wp-content/uploads/2023/05/Wellbeats-Zumba-430x200-1.jpg
END:VEVENT
END:VCALENDAR