BEGIN:VCALENDAR
VERSION:2.0
PRODID:-//Welia Health - ECPv6.15.20//NONSGML v1.0//EN
CALSCALE:GREGORIAN
METHOD:PUBLISH
X-WR-CALNAME:Welia Health
X-ORIGINAL-URL:https://www.weliahealth.org
X-WR-CALDESC:Events for Welia Health
REFRESH-INTERVAL;VALUE=DURATION:PT1H
X-Robots-Tag:noindex
X-PUBLISHED-TTL:PT1H
BEGIN:VTIMEZONE
TZID:America/Chicago
BEGIN:DAYLIGHT
TZOFFSETFROM:-0600
TZOFFSETTO:-0500
TZNAME:CDT
DTSTART:20230312T080000
END:DAYLIGHT
BEGIN:STANDARD
TZOFFSETFROM:-0500
TZOFFSETTO:-0600
TZNAME:CST
DTSTART:20231105T070000
END:STANDARD
BEGIN:DAYLIGHT
TZOFFSETFROM:-0600
TZOFFSETTO:-0500
TZNAME:CDT
DTSTART:20240310T080000
END:DAYLIGHT
BEGIN:STANDARD
TZOFFSETFROM:-0500
TZOFFSETTO:-0600
TZNAME:CST
DTSTART:20241103T070000
END:STANDARD
BEGIN:DAYLIGHT
TZOFFSETFROM:-0600
TZOFFSETTO:-0500
TZNAME:CDT
DTSTART:20250309T080000
END:DAYLIGHT
BEGIN:STANDARD
TZOFFSETFROM:-0500
TZOFFSETTO:-0600
TZNAME:CST
DTSTART:20251102T070000
END:STANDARD
END:VTIMEZONE
BEGIN:VEVENT
DTSTART;TZID=America/Chicago:20240508T074500
DTEND;TZID=America/Chicago:20240508T081500
DTSTAMP:20260419T120438
CREATED:20240506T205158Z
LAST-MODIFIED:20240506T205200Z
UID:10006516-1715154300-1715156100@www.weliahealth.org
SUMMARY:Chair Yoga
DESCRIPTION:Wellbeats  on demand chair yoga 30 minute class
URL:https://www.weliahealth.org/event/chair-yoga/2024-05-08/
LOCATION:Welia Center: Fitness & Community Room\, 200 N 9th St\, Mora\, MN\, 55051-1147\, United States
END:VEVENT
BEGIN:VEVENT
DTSTART;TZID=America/Chicago:20240508T081500
DTEND;TZID=America/Chicago:20240508T210500
DTSTAMP:20260419T120438
CREATED:20240229T143034Z
LAST-MODIFIED:20240229T143037Z
UID:10004373-1715156100-1715202300@www.weliahealth.org
SUMMARY:Cardio Class
DESCRIPTION:The classes in this category may focus on building strength\, burning fat or working up a sweat\, but what is sure to be true is they all will get your heart rate up!
URL:https://www.weliahealth.org/event/heart-healthy-class-2/2024-05-08/
LOCATION:Welia Center\, 200 N 9th St\, Mora\, MN\, 55051-1147\, United States
CATEGORIES:Caravan
ATTACH;FMTTYPE=image/jpeg:https://www.weliahealth.org/wp-content/uploads/2022/05/blog-ortho-may-2022.jpg
END:VEVENT
BEGIN:VEVENT
DTSTART;TZID=America/Chicago:20240508T091500
DTEND;TZID=America/Chicago:20240508T100500
DTSTAMP:20260419T120438
CREATED:20240108T135403Z
LAST-MODIFIED:20240108T135405Z
UID:10004618-1715159700-1715162700@www.weliahealth.org
SUMMARY:Silver & Fit
DESCRIPTION:Designed for 65+\, this class is for the active adult looking for a challenging free-standing workout.  Increase heart health\, muscle endurance\, strength\, mobility\, and balance.
URL:https://www.weliahealth.org/event/silver-fit/2024-05-08/
LOCATION:Welia Center\, 200 N 9th St\, Mora\, MN\, 55051-1147\, United States
CATEGORIES:Caravan
ATTACH;FMTTYPE=image/jpeg:https://www.weliahealth.org/wp-content/uploads/2021/04/Silver-fit-480x200-1.jpg
END:VEVENT
BEGIN:VEVENT
DTSTART;TZID=America/Chicago:20240508T100000
DTEND;TZID=America/Chicago:20240508T120000
DTSTAMP:20260419T120438
CREATED:20240506T212341Z
LAST-MODIFIED:20240506T212808Z
UID:10008383-1715162400-1715169600@www.weliahealth.org
SUMMARY:Pickleball Open Court
DESCRIPTION:Open pickleball court time.
URL:https://www.weliahealth.org/event/pickleball-open-court/2024-05-08/
LOCATION:Welia Center: Fitness & Community Room\, 200 N 9th St\, Mora\, MN\, 55051-1147\, United States
CATEGORIES:Caravan
ATTACH;FMTTYPE=image/jpeg:https://www.weliahealth.org/wp-content/uploads/2024/05/pickleball-1.jpg
END:VEVENT
BEGIN:VEVENT
DTSTART;TZID=America/Chicago:20240508T130000
DTEND;TZID=America/Chicago:20240508T140000
DTSTAMP:20260419T120438
CREATED:20240203T022802Z
LAST-MODIFIED:20240205T232747Z
UID:10005632-1715173200-1715176800@www.weliahealth.org
SUMMARY:Dementia Support Group
DESCRIPTION:For those with dementia and those who love and care for them\, the Dementia Support Group is a place to share information\, give and receive mutual support\, and exchange coping skills. \n\n\n\nEveryone is welcome to attend. To learn more\, call 320.679.1313 and ask to speak with Lucas Kosobuski in the pharmacy. \n\n\n\nThe Dementia Support Group meets on the second Wednesday of each month from 1–2pm at our Mora campus in Conference Room 2.
URL:https://www.weliahealth.org/event/dementia-support-group/2024-05-08/
LOCATION:Welia Health–Mora: Conference Rooms\, 301 MN-65\, Mora\, MN\, 55051\, United States
CATEGORIES:Dementia,Support Groups
ATTACH;FMTTYPE=image/jpeg:https://www.weliahealth.org/wp-content/uploads/2024/02/Dementia-SG-430x200-1.jpg
END:VEVENT
BEGIN:VEVENT
DTSTART;TZID=America/Chicago:20240508T160000
DTEND;TZID=America/Chicago:20240508T163000
DTSTAMP:20260419T120438
CREATED:20240229T143546Z
LAST-MODIFIED:20240229T143742Z
UID:10005911-1715184000-1715185800@www.weliahealth.org
SUMMARY:Class Choice
DESCRIPTION:Choose a class from one of the Wellbeats channels! Anything from yoga\, Zumba\, sculpting\, step and more!
URL:https://www.weliahealth.org/event/class-choice-2/2024-05-08/
LOCATION:Welia Center: Fitness & Community Room\, 200 N 9th St\, Mora\, MN\, 55051-1147\, United States
CATEGORIES:Caravan
ATTACH;FMTTYPE=image/jpeg:https://www.weliahealth.org/wp-content/uploads/2023/05/Wellbeats-Zumba-430x200-1.jpg
END:VEVENT
BEGIN:VEVENT
DTSTART;TZID=America/Chicago:20240508T163000
DTEND;TZID=America/Chicago:20240508T170000
DTSTAMP:20260419T120438
CREATED:20240108T141846Z
LAST-MODIFIED:20240108T142509Z
UID:10005510-1715185800-1715187600@www.weliahealth.org
SUMMARY:Yoga Class
DESCRIPTION:Discover a unique fusion of yoga and Pilates.  Improve your mind-body connection while building stronger muscles.
URL:https://www.weliahealth.org/event/yoga-class-3/2024-05-08/
LOCATION:Welia Center\, 200 N 9th St\, Mora\, MN\, 55051-1147\, United States
CATEGORIES:Caravan
ATTACH;FMTTYPE=image/png:https://www.weliahealth.org/wp-content/uploads/2021/12/yoga-class.png
END:VEVENT
END:VCALENDAR