BEGIN:VCALENDAR
VERSION:2.0
PRODID:-//Welia Health - ECPv6.15.20//NONSGML v1.0//EN
CALSCALE:GREGORIAN
METHOD:PUBLISH
X-ORIGINAL-URL:https://www.weliahealth.org
X-WR-CALDESC:Events for Welia Health
REFRESH-INTERVAL;VALUE=DURATION:PT1H
X-Robots-Tag:noindex
X-PUBLISHED-TTL:PT1H
BEGIN:VTIMEZONE
TZID:America/Chicago
BEGIN:DAYLIGHT
TZOFFSETFROM:-0600
TZOFFSETTO:-0500
TZNAME:CDT
DTSTART:20230312T080000
END:DAYLIGHT
BEGIN:STANDARD
TZOFFSETFROM:-0500
TZOFFSETTO:-0600
TZNAME:CST
DTSTART:20231105T070000
END:STANDARD
BEGIN:DAYLIGHT
TZOFFSETFROM:-0600
TZOFFSETTO:-0500
TZNAME:CDT
DTSTART:20240310T080000
END:DAYLIGHT
BEGIN:STANDARD
TZOFFSETFROM:-0500
TZOFFSETTO:-0600
TZNAME:CST
DTSTART:20241103T070000
END:STANDARD
BEGIN:DAYLIGHT
TZOFFSETFROM:-0600
TZOFFSETTO:-0500
TZNAME:CDT
DTSTART:20250309T080000
END:DAYLIGHT
BEGIN:STANDARD
TZOFFSETFROM:-0500
TZOFFSETTO:-0600
TZNAME:CST
DTSTART:20251102T070000
END:STANDARD
END:VTIMEZONE
BEGIN:VEVENT
DTSTART;TZID=America/Chicago:20240326T083000
DTEND;TZID=America/Chicago:20240326T091500
DTSTAMP:20260419T071620
CREATED:20240229T144718Z
LAST-MODIFIED:20240229T144852Z
UID:10006295-1711441800-1711444500@www.weliahealth.org
SUMMARY:Class Choice
DESCRIPTION:Choose a class from one of the Wellbeats channels! Anything from yoga\, Zumba\, sculpting\, step and more!
URL:https://www.weliahealth.org/event/class-choice-3/2024-03-26/
LOCATION:Welia Center: Fitness & Community Room\, 200 N 9th St\, Mora\, MN\, 55051-1147\, United States
CATEGORIES:Caravan
ATTACH;FMTTYPE=image/jpeg:https://www.weliahealth.org/wp-content/uploads/2023/05/Wellbeats-Zumba-430x200-1.jpg
END:VEVENT
BEGIN:VEVENT
DTSTART;TZID=America/Chicago:20240326T091500
DTEND;TZID=America/Chicago:20240326T100500
DTSTAMP:20260419T071620
CREATED:20240108T135403Z
LAST-MODIFIED:20240108T135405Z
UID:10004593-1711444500-1711447500@www.weliahealth.org
SUMMARY:Silver & Fit
DESCRIPTION:Designed for 65+\, this class is for the active adult looking for a challenging free-standing workout.  Increase heart health\, muscle endurance\, strength\, mobility\, and balance.
URL:https://www.weliahealth.org/event/silver-fit/2024-03-26/
LOCATION:Welia Center\, 200 N 9th St\, Mora\, MN\, 55051-1147\, United States
CATEGORIES:Caravan
ATTACH;FMTTYPE=image/jpeg:https://www.weliahealth.org/wp-content/uploads/2021/04/Silver-fit-480x200-1.jpg
END:VEVENT
BEGIN:VEVENT
DTSTART;TZID=America/Chicago:20240326T140000
DTEND;TZID=America/Chicago:20240326T150000
DTSTAMP:20260419T071620
CREATED:20231228T151852Z
LAST-MODIFIED:20240326T160348Z
UID:10003871-1711461600-1711465200@www.weliahealth.org
SUMMARY:Heart to Heart Support Group
DESCRIPTION:** UPDATE – CANCELED DUE TO WEATHER CONDITIONS — 3/26/2024 ** \n\n\n\nHeart to Heart is a cardiac rehabilitation support group for those who have had a cardiac event or who have heart disease along with their families and friends. The support group is led by our team of cardiac rehabilitation nurses and exercise physiologists who are there to support your journey by teaching healthy lifestyles through education\, counseling\, and training. \n\n\n\nA variety of topics are discussed each month\, including wellness\, stress\, cardiac care\, heart disease in general\, treatment options\, medication management\, and diabetes. The group determines other topics. \n\n\n\nAs a community service\, there is no charge for this support group\, and everyone is welcome to attend. For more information\, call 320.225.3364. \n\n\n\nThe Heart to Heart Support Group meets the fourth Tuesday of every month\, September through May\, from 2–3pm at our Mora campus.
URL:https://www.weliahealth.org/event/heart-to-heart-support-group-6/
LOCATION:Welia Center\, 200 N 9th St\, Mora\, MN\, 55051-1147\, United States
CATEGORIES:Heart Disease,Support Groups
ATTACH;FMTTYPE=image/jpeg:https://www.weliahealth.org/wp-content/uploads/2018/12/Heart-SG-430x200.jpg
END:VEVENT
BEGIN:VEVENT
DTSTART;TZID=America/Chicago:20240326T160000
DTEND;TZID=America/Chicago:20240326T163000
DTSTAMP:20260419T071620
CREATED:20240229T143546Z
LAST-MODIFIED:20240229T143742Z
UID:10005886-1711468800-1711470600@www.weliahealth.org
SUMMARY:Class Choice
DESCRIPTION:Choose a class from one of the Wellbeats channels! Anything from yoga\, Zumba\, sculpting\, step and more!
URL:https://www.weliahealth.org/event/class-choice-2/2024-03-26/
LOCATION:Welia Center: Fitness & Community Room\, 200 N 9th St\, Mora\, MN\, 55051-1147\, United States
CATEGORIES:Caravan
ATTACH;FMTTYPE=image/jpeg:https://www.weliahealth.org/wp-content/uploads/2023/05/Wellbeats-Zumba-430x200-1.jpg
END:VEVENT
END:VCALENDAR