BEGIN:VCALENDAR
VERSION:2.0
PRODID:-//Welia Health - ECPv6.15.20//NONSGML v1.0//EN
CALSCALE:GREGORIAN
METHOD:PUBLISH
X-WR-CALNAME:Welia Health
X-ORIGINAL-URL:https://www.weliahealth.org
X-WR-CALDESC:Events for Welia Health
REFRESH-INTERVAL;VALUE=DURATION:PT1H
X-Robots-Tag:noindex
X-PUBLISHED-TTL:PT1H
BEGIN:VTIMEZONE
TZID:America/Chicago
BEGIN:DAYLIGHT
TZOFFSETFROM:-0600
TZOFFSETTO:-0500
TZNAME:CDT
DTSTART:20220313T080000
END:DAYLIGHT
BEGIN:STANDARD
TZOFFSETFROM:-0500
TZOFFSETTO:-0600
TZNAME:CST
DTSTART:20221106T070000
END:STANDARD
BEGIN:DAYLIGHT
TZOFFSETFROM:-0600
TZOFFSETTO:-0500
TZNAME:CDT
DTSTART:20230312T080000
END:DAYLIGHT
BEGIN:STANDARD
TZOFFSETFROM:-0500
TZOFFSETTO:-0600
TZNAME:CST
DTSTART:20231105T070000
END:STANDARD
BEGIN:DAYLIGHT
TZOFFSETFROM:-0600
TZOFFSETTO:-0500
TZNAME:CDT
DTSTART:20240310T080000
END:DAYLIGHT
BEGIN:STANDARD
TZOFFSETFROM:-0500
TZOFFSETTO:-0600
TZNAME:CST
DTSTART:20241103T070000
END:STANDARD
END:VTIMEZONE
BEGIN:VEVENT
DTSTART;TZID=America/Chicago:20230921T083000
DTEND;TZID=America/Chicago:20230921T090500
DTSTAMP:20260421T172811
CREATED:20230912T155938Z
LAST-MODIFIED:20230912T161414Z
UID:10002461-1695285000-1695287100@www.weliahealth.org
SUMMARY:Wellbeats - Silver & Fit
DESCRIPTION:Join a free Wellbeats fitness class at Welia Center! \n\n\n\nThis class is for the active\, athletic older adult\, looking for a challenging free-standing workout. Increase heart health\, muscle endurance\, strength\, mobility and balance. \n\n\n\nSept Wellbeats Calendar 2023Download\n\n\n\nOct Wellbeats Calendar 2023Download\n\n\n\nNov Wellbeats Calendar 2023Download\n\n\n\nDec Wellbeats Calendar 2023Download
URL:https://www.weliahealth.org/event/wellbeats-silver-fit-14/2023-09-21/
LOCATION:Welia Center: Fitness & Community Room\, 200 N 9th St\, Mora\, MN\, 55051-1147\, United States
CATEGORIES:Caravan
ATTACH;FMTTYPE=image/jpeg:https://www.weliahealth.org/wp-content/uploads/2021/04/Silver-fit-480x200-1.jpg
END:VEVENT
BEGIN:VEVENT
DTSTART;TZID=America/Chicago:20230921T091500
DTEND;TZID=America/Chicago:20230921T094500
DTSTAMP:20260421T172811
CREATED:20230912T161040Z
LAST-MODIFIED:20231011T024321Z
UID:10002536-1695287700-1695289500@www.weliahealth.org
SUMMARY:Wellbeats - Yoga Class
DESCRIPTION:Join us for a free Wellbeats fitness class at Welia Center! \n\n\n\nDiscover a unique fusion of yoga and Pilates. Improve your mind-body connection while building stronger\, leaner muscles. \n\n\n\nOct Wellbeats Calendar 2023Download\n\n\n\nNov Wellbeats Calendar 2023Download\n\n\n\nDec Wellbeats Calendar 2023Download
URL:https://www.weliahealth.org/event/wellbeats-yoga-class-11/2023-09-21/
LOCATION:Welia Center: Fitness & Community Room\, 200 N 9th St\, Mora\, MN\, 55051-1147\, United States
CATEGORIES:Caravan
ATTACH;FMTTYPE=image/png:https://www.weliahealth.org/wp-content/uploads/2021/12/yoga-class.png
END:VEVENT
BEGIN:VEVENT
DTSTART;TZID=America/Chicago:20230921T091500
DTEND;TZID=America/Chicago:20230921T094500
DTSTAMP:20260421T172811
CREATED:20231011T023830Z
LAST-MODIFIED:20231018T213058Z
UID:10002780-1695287700-1695289500@www.weliahealth.org
SUMMARY:Wellbeats - Yoga Class
DESCRIPTION:Join us for a free Wellbeats fitness class at Welia Center! \n\n\n\nDiscover a unique fusion of yoga and Pilates. Improve your mind-body connection while building stronger\, leaner muscles. \n\n\n\nOct Wellbeats Calendar 2023Download\n\n\n\nNov Wellbeats Calendar 2023Download\n\n\n\nDec Wellbeats Calendar 2023Download
URL:https://www.weliahealth.org/event/wellbeats-yoga-class-12/2023-09-21/
LOCATION:Welia Center: Fitness & Community Room\, 200 N 9th St\, Mora\, MN\, 55051-1147\, United States
CATEGORIES:Caravan
ATTACH;FMTTYPE=image/png:https://www.weliahealth.org/wp-content/uploads/2021/12/yoga-class.png
END:VEVENT
BEGIN:VEVENT
DTSTART;TZID=America/Chicago:20230921T153000
DTEND;TZID=America/Chicago:20230921T155000
DTSTAMP:20260421T172811
CREATED:20230912T163725Z
LAST-MODIFIED:20231011T024421Z
UID:10002633-1695310200-1695311400@www.weliahealth.org
SUMMARY:Pilates Wellbeats Class
DESCRIPTION:Join a free Wellbeats fitness class at Welia Center! \n\n\n\nLow-impact on the joints and uses controlled movements\, with primary focus on the core to build strength\, flexibility and endurance in a full body workout. \n\n\n\nOct Wellbeats Calendar 2023Download\n\n\n\nNov Wellbeats Calendar 2023Download\n\n\n\nDec Wellbeats Calendar 2023Download
URL:https://www.weliahealth.org/event/pilates-wellbeats-class-5/2023-09-21/
LOCATION:Welia Center\, 200 N 9th St\, Mora\, MN\, 55051-1147\, United States
CATEGORIES:Classes
ATTACH;FMTTYPE=image/jpeg:https://www.weliahealth.org/wp-content/uploads/2021/04/Generic-class-480x200-1.jpg
END:VEVENT
BEGIN:VEVENT
DTSTART;TZID=America/Chicago:20230921T153000
DTEND;TZID=America/Chicago:20230921T155000
DTSTAMP:20260421T172811
CREATED:20231011T023954Z
LAST-MODIFIED:20231011T024010Z
UID:10002787-1695310200-1695311400@www.weliahealth.org
SUMMARY:Pilates Wellbeats Class
DESCRIPTION:Join a free Wellbeats fitness class at Welia Center! \n\n\n\nLow-impact on the joints and uses controlled movements\, with primary focus on the core to build strength\, flexibility and endurance in a full body workout. \n\n\n\nOct Wellbeats Calendar 2023Download\n\n\n\nNov Wellbeats Calendar 2023Download\n\n\n\nDec Wellbeats Calendar 2023Download
URL:https://www.weliahealth.org/event/pilates-wellbeats-class-6/2023-09-21/
LOCATION:Welia Center\, 200 N 9th St\, Mora\, MN\, 55051-1147\, United States
CATEGORIES:Classes
ATTACH;FMTTYPE=image/jpeg:https://www.weliahealth.org/wp-content/uploads/2021/04/Generic-class-480x200-1.jpg
END:VEVENT
BEGIN:VEVENT
DTSTART;TZID=America/Chicago:20230921T153000
DTEND;TZID=America/Chicago:20230921T155000
DTSTAMP:20260421T172811
CREATED:20231018T181254Z
LAST-MODIFIED:20231018T181325Z
UID:10002853-1695310200-1695311400@www.weliahealth.org
SUMMARY:Wellbeats – Pilates
DESCRIPTION:Join a free Wellbeats fitness class at Welia Center! \n\n\n\nLow-impact on the joints and uses controlled movements\, with primary focus on the core to build strength\, flexibility and endurance in a full body workout. \n\n\n\nNov Wellbeats Calendar 2023Download\n\n\n\nDec Wellbeats Calendar 2023Download
URL:https://www.weliahealth.org/event/pilates-wellbeats-class-7/2023-09-21/
LOCATION:Welia Center\, 200 N 9th St\, Mora\, MN\, 55051-1147\, United States
CATEGORIES:Classes
ATTACH;FMTTYPE=image/jpeg:https://www.weliahealth.org/wp-content/uploads/2021/04/Generic-class-480x200-1.jpg
END:VEVENT
BEGIN:VEVENT
DTSTART;TZID=America/Chicago:20230921T160000
DTEND;TZID=America/Chicago:20230921T163000
DTSTAMP:20260421T172811
CREATED:20230912T204120Z
LAST-MODIFIED:20231018T193803Z
UID:10002671-1695312000-1695313800@www.weliahealth.org
SUMMARY:Open Studio
DESCRIPTION:Come check out the classroom at Welia Center! Come to stretch\, do your own workout\, or try a free Wellbeats class! \n\n\n\nOct Wellbeats Calendar 2023Download\n\n\n\nNov Wellbeats Calendar 2023Download\n\n\n\nDec Wellbeats Calendar 2023Download
URL:https://www.weliahealth.org/event/open-studio-11/2023-09-21/
LOCATION:Welia Center: Fitness & Community Room\, 200 N 9th St\, Mora\, MN\, 55051-1147\, United States
CATEGORIES:Caravan
ATTACH;FMTTYPE=image/jpeg:https://www.weliahealth.org/wp-content/uploads/2021/04/Generic-class-480x200-1.jpg
END:VEVENT
END:VCALENDAR