BEGIN:VCALENDAR
VERSION:2.0
PRODID:-//Welia Health - ECPv6.15.20//NONSGML v1.0//EN
CALSCALE:GREGORIAN
METHOD:PUBLISH
X-WR-CALNAME:Welia Health
X-ORIGINAL-URL:https://www.weliahealth.org
X-WR-CALDESC:Events for Welia Health
REFRESH-INTERVAL;VALUE=DURATION:PT1H
X-Robots-Tag:noindex
X-PUBLISHED-TTL:PT1H
BEGIN:VTIMEZONE
TZID:America/Chicago
BEGIN:DAYLIGHT
TZOFFSETFROM:-0600
TZOFFSETTO:-0500
TZNAME:CDT
DTSTART:20220313T080000
END:DAYLIGHT
BEGIN:STANDARD
TZOFFSETFROM:-0500
TZOFFSETTO:-0600
TZNAME:CST
DTSTART:20221106T070000
END:STANDARD
BEGIN:DAYLIGHT
TZOFFSETFROM:-0600
TZOFFSETTO:-0500
TZNAME:CDT
DTSTART:20230312T080000
END:DAYLIGHT
BEGIN:STANDARD
TZOFFSETFROM:-0500
TZOFFSETTO:-0600
TZNAME:CST
DTSTART:20231105T070000
END:STANDARD
BEGIN:DAYLIGHT
TZOFFSETFROM:-0600
TZOFFSETTO:-0500
TZNAME:CDT
DTSTART:20240310T080000
END:DAYLIGHT
BEGIN:STANDARD
TZOFFSETFROM:-0500
TZOFFSETTO:-0600
TZNAME:CST
DTSTART:20241103T070000
END:STANDARD
END:VTIMEZONE
BEGIN:VEVENT
DTSTART;TZID=America/Chicago:20230720T090000
DTEND;TZID=America/Chicago:20230720T140000
DTSTAMP:20260420T173444
CREATED:20230519T154915Z
LAST-MODIFIED:20230606T171959Z
UID:10001842-1689843600-1689861600@www.weliahealth.org
SUMMARY:Concussion Testing for student athletes - Ogilvie
DESCRIPTION:What is baseline concussion testing?\n\n\n\nIt’s a series of physical and cognitive tests that measure healthy brain function before a sports season starts – and prior to an injury. In the event of a concussion\, the results of these tests are used as a comparison to help healthcare providers make return-to-sport decisions. \n\n\n\nWhy is it important?\n\n\n\nThe disappearance of symptoms after a concussion does not indicate that an athlete’s brain has fully recovered. Baseline Testing provides data that gives providers a clearer picture of the athlete’s healthy state and what type of results should be achieved when the athlete is fully recovered. \n\n\n\nAll student-athletes in grades 7-12 intending to play during the 2023-24 school year should plan to be tested at a Concussion Clinic.\n\n\n\nReminder — this is a pre-injury assessment; NOT a sports physical. \n\n\n\nStudent-athletes:\n\n\n\nTesting normally takes 10 minutesWear comfortable/athletic clothing and sneakers to the clinicIf you are not able to attend one of the testing dates\, see your school athletic trainerPre-registration is required — click here.
URL:https://www.weliahealth.org/event/baseline-concussion-testing-for-student-athletes-ogilvie/
LOCATION:Ogilvie Schools\, 333 School Dr\, Ogilvie\, Minnesota\, 56358\, United States
CATEGORIES:Concussion Screenings
ATTACH;FMTTYPE=image/jpeg:https://www.weliahealth.org/wp-content/uploads/2023/05/Concussion-Screening-430x200-1.jpg
END:VEVENT
BEGIN:VEVENT
DTSTART;TZID=America/Chicago:20230720T150000
DTEND;TZID=America/Chicago:20230720T150000
DTSTAMP:20260420T173444
CREATED:20230622T152158Z
LAST-MODIFIED:20250703T165208Z
UID:10002036-1689865200-1689865200@www.weliahealth.org
SUMMARY:Mora Rocks The Parks- Gaga Ball
DESCRIPTION:Join in the fun of playing Gaga Ball\, we’ll bring the ball you bring your friends!  Welcome to all ages.
URL:https://www.weliahealth.org/event/mora-rocks-the-parks-gaga-ball/
LOCATION:King’s Kingdom / Mora Lion’s Park\, 701 S Union St\, Mora\, Minnesota\, 55051\, United States
CATEGORIES:Community Events
END:VEVENT
BEGIN:VEVENT
DTSTART;TZID=America/Chicago:20230720T153000
DTEND;TZID=America/Chicago:20230720T155000
DTSTAMP:20260420T173444
CREATED:20230626T183322Z
LAST-MODIFIED:20230626T183323Z
UID:10002333-1689867000-1689868200@www.weliahealth.org
SUMMARY:Pilates Wellbeats Class
DESCRIPTION:Join a free Wellbeats fitness class at Welia Center! \n\n\n\nLow-impact on the joints and uses controlled movements\, with primary focus on the core to build strength\, flexibility and endurance in a full body workout. \n\n\n\nAugust Wellbeats CalendarDownload
URL:https://www.weliahealth.org/event/pilates-wellbeats-class-4/2023-07-20/
LOCATION:Welia Center\, 200 N 9th St\, Mora\, MN\, 55051-1147\, United States
CATEGORIES:Classes
ATTACH;FMTTYPE=image/jpeg:https://www.weliahealth.org/wp-content/uploads/2021/04/Generic-class-480x200-1.jpg
END:VEVENT
BEGIN:VEVENT
DTSTART;TZID=America/Chicago:20230720T160000
DTEND;TZID=America/Chicago:20230720T163000
DTSTAMP:20260420T173444
CREATED:20230626T181551Z
LAST-MODIFIED:20230626T183835Z
UID:10002348-1689868800-1689870600@www.weliahealth.org
SUMMARY:Open Studio
DESCRIPTION:Come check out the classroom at Welia Center! Come to stretch\, do your own workout\, or try a free Wellbeats class!
URL:https://www.weliahealth.org/event/open-studio-10/2023-07-20/
LOCATION:Welia Center: Fitness & Community Room\, 200 N 9th St\, Mora\, MN\, 55051-1147\, United States
CATEGORIES:Caravan
ATTACH;FMTTYPE=image/jpeg:https://www.weliahealth.org/wp-content/uploads/2021/04/Generic-class-480x200-1.jpg
END:VEVENT
END:VCALENDAR