BEGIN:VCALENDAR
VERSION:2.0
PRODID:-//Welia Health - ECPv6.15.20//NONSGML v1.0//EN
CALSCALE:GREGORIAN
METHOD:PUBLISH
X-ORIGINAL-URL:https://www.weliahealth.org
X-WR-CALDESC:Events for Welia Health
REFRESH-INTERVAL;VALUE=DURATION:PT1H
X-Robots-Tag:noindex
X-PUBLISHED-TTL:PT1H
BEGIN:VTIMEZONE
TZID:America/Chicago
BEGIN:DAYLIGHT
TZOFFSETFROM:-0600
TZOFFSETTO:-0500
TZNAME:CDT
DTSTART:20220313T080000
END:DAYLIGHT
BEGIN:STANDARD
TZOFFSETFROM:-0500
TZOFFSETTO:-0600
TZNAME:CST
DTSTART:20221106T070000
END:STANDARD
BEGIN:DAYLIGHT
TZOFFSETFROM:-0600
TZOFFSETTO:-0500
TZNAME:CDT
DTSTART:20230312T080000
END:DAYLIGHT
BEGIN:STANDARD
TZOFFSETFROM:-0500
TZOFFSETTO:-0600
TZNAME:CST
DTSTART:20231105T070000
END:STANDARD
BEGIN:DAYLIGHT
TZOFFSETFROM:-0600
TZOFFSETTO:-0500
TZNAME:CDT
DTSTART:20240310T080000
END:DAYLIGHT
BEGIN:STANDARD
TZOFFSETFROM:-0500
TZOFFSETTO:-0600
TZNAME:CST
DTSTART:20241103T070000
END:STANDARD
END:VTIMEZONE
BEGIN:VEVENT
DTSTART;TZID=America/Chicago:20230713T083000
DTEND;TZID=America/Chicago:20230713T090000
DTSTAMP:20260422T055139
CREATED:20230626T175521Z
LAST-MODIFIED:20230626T175523Z
UID:10002251-1689237000-1689238800@www.weliahealth.org
SUMMARY:Wellbeats - Yoga Class
DESCRIPTION:Join us for a free Wellbeats fitness class at Welia Center! \n\n\n\nDiscover a unique fusion of yoga and Pilates. Improve your mind-body connection while building stronger\, leaner muscles. \n\n\n\nJuly Wellbeats CalendarDownload\n\n\n\nJuly Wellbeats Class DescriptionDownload
URL:https://www.weliahealth.org/event/wellbeats-yoga-class-10/2023-07-13/
LOCATION:Welia Center: Fitness & Community Room\, 200 N 9th St\, Mora\, MN\, 55051-1147\, United States
CATEGORIES:Caravan
ATTACH;FMTTYPE=image/png:https://www.weliahealth.org/wp-content/uploads/2021/12/yoga-class.png
END:VEVENT
BEGIN:VEVENT
DTSTART;TZID=America/Chicago:20230713T090000
DTEND;TZID=America/Chicago:20230713T140000
DTSTAMP:20260422T055139
CREATED:20230519T153642Z
LAST-MODIFIED:20230606T173439Z
UID:10001841-1689238800-1689256800@www.weliahealth.org
SUMMARY:Concussion Testing for student athletes - East Central
DESCRIPTION:What is baseline concussion testing?\n\n\n\nIt’s a series of physical and cognitive tests that measure healthy brain function before a sports season starts – and prior to an injury. In the event of a concussion\, the results of these tests are used as a comparison to help healthcare providers make return-to-sport decisions. \n\n\n\nWhy is it important?\n\n\n\nThe disappearance of symptoms after a concussion does not indicate that an athlete’s brain has fully recovered. Baseline Testing provides data that gives providers a clearer picture of the athlete’s healthy state and what type of results should be achieved when the athlete is fully recovered. \n\n\n\nAll student-athletes in grades 7-12 intending to play during the 2023-24 school year should plan to be tested at a Concussion Clinic.\n\n\n\nReminder — this is a pre-injury assessment; NOT a sports physical. \n\n\n\nStudent-athletes:\n\n\n\nTesting normally takes 10 minutesWear comfortable/athletic clothing and sneakers to the clinicIf you are not able to attend one of the testing dates\, see your school athletic trainerPre-registration is required — click here.
URL:https://www.weliahealth.org/event/baseline-concussion-testing-for-student-athletes-east-central-2/
LOCATION:East Central Schools\, 61085 MN-23\, Finlayson\, Minnesota\, 55735\, United States
CATEGORIES:Concussion Screenings
ATTACH;FMTTYPE=image/jpeg:https://www.weliahealth.org/wp-content/uploads/2023/05/Concussion-Screening-430x200-1.jpg
END:VEVENT
BEGIN:VEVENT
DTSTART;TZID=America/Chicago:20230713T091500
DTEND;TZID=America/Chicago:20230713T094500
DTSTAMP:20260422T055139
CREATED:20230626T180111Z
LAST-MODIFIED:20230626T180243Z
UID:10002276-1689239700-1689241500@www.weliahealth.org
SUMMARY:Wellbeats - Zumba Class
DESCRIPTION:Join a free Wellbeats fitness class at Welia Center!
URL:https://www.weliahealth.org/event/wellbeats-zumba-class-3/2023-07-13/
LOCATION:Welia Center: Fitness & Community Room\, 200 N 9th St\, Mora\, MN\, 55051-1147\, United States
CATEGORIES:Caravan
ATTACH;FMTTYPE=image/jpeg:https://www.weliahealth.org/wp-content/uploads/2023/05/Wellbeats-Zumba-430x200-1.jpg
END:VEVENT
BEGIN:VEVENT
DTSTART;TZID=America/Chicago:20230713T150000
DTEND;TZID=America/Chicago:20230713T160000
DTSTAMP:20260422T055139
CREATED:20230712T214010Z
LAST-MODIFIED:20250703T165142Z
UID:10002413-1689260400-1689264000@www.weliahealth.org
SUMMARY:Bike safety event
DESCRIPTION:Hosted by The City of Mora and Better Together Coalition of Kanabec County \n\n\n\n\n\nRide or bring your bike to the Kid’s Kingdom Park and learn about bike safety from the Kanabec County Sheriff’s Office. After learning important safety tips\, children have a chance to ride through a bike safety course\, and after\, enjoy a treat in the park. \n\n\n\n!! BONUS!!  \n\n\n\nKids who do not have a bike helmet are eligible to receive one from Welia Health. \n\n\n\nParticipants also receive a FREE pool pass from the Mora Aquatic Center
URL:https://www.weliahealth.org/event/bike-safety-event/
LOCATION:King’s Kingdom / Mora Lion’s Park\, 701 S Union St\, Mora\, Minnesota\, 55051\, United States
CATEGORIES:Community Events
ATTACH;FMTTYPE=image/png:https://www.weliahealth.org/wp-content/uploads/2023/07/Bike-safety-with-mora-rocks_0723.png
END:VEVENT
END:VCALENDAR